BEGIN:VCALENDAR
VERSION:2.0
PRODID:-//Il Castello di Novara - ECPv6.15.20//NONSGML v1.0//EN
CALSCALE:GREGORIAN
METHOD:PUBLISH
X-ORIGINAL-URL:https://www.ilcastellodinovara.it
X-WR-CALDESC:Eventi per Il Castello di Novara
REFRESH-INTERVAL;VALUE=DURATION:PT1H
X-Robots-Tag:noindex
X-PUBLISHED-TTL:PT1H
BEGIN:VTIMEZONE
TZID:Europe/Rome
BEGIN:DAYLIGHT
TZOFFSETFROM:+0100
TZOFFSETTO:+0200
TZNAME:CEST
DTSTART:20220327T010000
END:DAYLIGHT
BEGIN:STANDARD
TZOFFSETFROM:+0200
TZOFFSETTO:+0100
TZNAME:CET
DTSTART:20221030T010000
END:STANDARD
BEGIN:DAYLIGHT
TZOFFSETFROM:+0100
TZOFFSETTO:+0200
TZNAME:CEST
DTSTART:20230326T010000
END:DAYLIGHT
BEGIN:STANDARD
TZOFFSETFROM:+0200
TZOFFSETTO:+0100
TZNAME:CET
DTSTART:20231029T010000
END:STANDARD
BEGIN:DAYLIGHT
TZOFFSETFROM:+0100
TZOFFSETTO:+0200
TZNAME:CEST
DTSTART:20240331T010000
END:DAYLIGHT
BEGIN:STANDARD
TZOFFSETFROM:+0200
TZOFFSETTO:+0100
TZNAME:CET
DTSTART:20241027T010000
END:STANDARD
END:VTIMEZONE
BEGIN:VEVENT
DTSTART;TZID=Europe/Rome:20230415T110000
DTEND;TZID=Europe/Rome:20230417T170000
DTSTAMP:20260422T032057
CREATED:20230405T080435Z
LAST-MODIFIED:20230405T080641Z
UID:4403-1681556400-1681750800@www.ilcastellodinovara.it
SUMMARY:Taste Alto Piemonte 2023
DESCRIPTION:Dal 15 al 17 aprile torna a Novara Taste Alto Piemonte 2023\, con protagonisti i vini di oltre 50 produttori del Consorzio Tutela Nebbioli Alto Piemonte. \nLa più grande manifestazione dedicata alle eccellenze vinicole dell’Alto Piemonte andrà in scena al Castello Visconteo Sforzesco\, tra banchi di assaggio e masterclass. \nSaranno oltre 50 i produttori che presenteranno le ultime annate delle 10 denominazioni dell’Alto Piemonte tutelate dal Consorzio\, attraverso i banchi di assaggio. Boca DOC\, Bramaterra DOC\, Colline Novaresi DOC\, Coste della Sesia DOC\, Fara DOC\, Gattinara DOCG\, Ghemme DOCG\, Lessona DOC\, Sizzano DOC\, Valli Ossolane DOC saranno gli ambasciatori della grande vocazione e tradizione vinicola delle colline racchiuse tra Alpi e Lago Maggiore. Qui le varietà autoctone\, nebbiolo in primis\, accompagnato da vespolina\, croatina e uva rara trovano la loro espressività favorite da un microclima unico e da straordinari suoli vulcanici. Questo insieme di fattori naturali e umani costituisce l’unicità del terroir dell’Alto Piemonte\, in grado di donare vini di grande qualità e finezza. Il programma vedrà anche cinque masterclass in programma\, quattro dedicate esclusivamente all’Alto Piemonte e una in collaborazione con il Consorzio Tutela Barolo Barbaresco Alba Langhe e Dogliani\, curate da Ais Piemonte. \nLa manifestazione si strutturerà su tre giorni\, sabato 15\, domenica 16 e lunedì 17 aprile\, e sarà aperta al pubblico\, operatori di settore e stampa. La giornata di sabato dalle 11:00 alle 15:00 sarà riservata agli operatori di settore. A seguire\, dalle 15:00 alle19:00\, si aprirà al pubblico con i banchi d’assaggio e masterclass (alle h. 15:00 e alle h. 17:00) dedicate alle diverse zone vinicole dell’Alto Piemonte\, curate da Ais Piemonte. La domenica operatori e wine lovers potranno accedere a Taste Alto Piemonte durante tutta la giornata(dalle 10.00 alle 19:00). Due le masterclass in programma\, alle 14:00 e alle 17:00. Lunedì 17 aprile la manifestazione sarà aperta a tutti dalle 9:30 alle 17:00\, con una masterclass dedicata alle ore 14:00.
URL:https://www.ilcastellodinovara.it/event/taste-alto-piemonte-2023/
LOCATION:Castello di Novara\, Piazza Martiri della Libertà\, 3\, Novara\, Novara\, 28100\, Italia
CATEGORIES:Evento
ATTACH;FMTTYPE=image/jpeg:https://www.ilcastellodinovara.it/wp-content/uploads/2023/04/Evidenza-Taste.jpeg
END:VEVENT
BEGIN:VEVENT
DTSTART;TZID=Europe/Rome:20230417T180000
DTEND;TZID=Europe/Rome:20230417T180000
DTSTAMP:20260422T032057
CREATED:20230405T095638Z
LAST-MODIFIED:20230405T095638Z
UID:4421-1681754400-1681754400@www.ilcastellodinovara.it
SUMMARY:Bestie
DESCRIPTION:Ritorno al Sud\, luogo dell’origine e della rivelazione\npresentazione del libro Round Robin di e con Sofia Pirandello\ncon Eleonora Groppetti\n\nIn un polveroso e rovente paese siciliano\, Lucia\, mite fuori e incandescente dentro\, trova rifugio nelle parole. Cresciuta\, va da sola al Nord\, dove vive libera dal giogo dello sguardo materno e scopre l’amore\, fino a lasciarsi consumare. Il Sud però tornerà a chiamarla\, è il suo destino ineluttabile. \n✏️ la quarta di copertina\nIn un polveroso e rovente paese siciliano\, Lucia cresce trattenendo il fiato\, con un papà assente\, un fratello grande che la considera appena\, e una mamma pazza che non le perdona il male che lei stessa vive come una condanna: essere nata fimmina. Mite fuori e incandescente dentro\, trova rifugio nelle parole: appuntate in segreto su un diario\, custodite come un tesoro\, nascoste come una colpa\, registrano quello che i suoi occhi nerissimi intercettano e riflettono dentro di lei\, i viscerali smottamenti del suo cuore. Ormai giovane donna\, Lucia parte da sola per la sua America\, il nord Italia\, dove inizia una vita libera dal giogo dello sguardo materno\, e scopre e si abbandona all’amore\, fino a lasciarsene consumare. Il Sud però tornerà a chiamarla a sé\, è il suo destino ineluttabile\, il luogo dell’origine e della rivelazione. Sofia Pirandello torna in libreria con un viaggio di andata e ritorno nella periferia siciliana in cui il caldo svuota la testa dai pensieri e fa ammalare di insoddisfazione\, dove sotto la terra arida e ferita dalla siccità scorrono segreti rivoli di vita ferina\, violenta\, terribile.
URL:https://www.ilcastellodinovara.it/event/bestie/
LOCATION:Sala Sibilla Aleramo – Circolo dei Lettori\, Castello di Novara - PIAZZA MARTIRI DELLA LIBERTA' 3\, NOVARA\, NO\, 28100\, Italia
CATEGORIES:Circolo dei Lettori
ATTACH;FMTTYPE=image/jpeg:https://www.ilcastellodinovara.it/wp-content/uploads/2023/04/pitrandello-1600x900-1.jpeg
END:VEVENT
END:VCALENDAR