BEGIN:VCALENDAR
VERSION:2.0
PRODID:-//Il Castello di Novara - ECPv6.15.20//NONSGML v1.0//EN
CALSCALE:GREGORIAN
METHOD:PUBLISH
X-WR-CALNAME:Il Castello di Novara
X-ORIGINAL-URL:https://www.ilcastellodinovara.it
X-WR-CALDESC:Eventi per Il Castello di Novara
REFRESH-INTERVAL;VALUE=DURATION:PT1H
X-Robots-Tag:noindex
X-PUBLISHED-TTL:PT1H
BEGIN:VTIMEZONE
TZID:Europe/Rome
BEGIN:DAYLIGHT
TZOFFSETFROM:+0100
TZOFFSETTO:+0200
TZNAME:CEST
DTSTART:20220327T010000
END:DAYLIGHT
BEGIN:STANDARD
TZOFFSETFROM:+0200
TZOFFSETTO:+0100
TZNAME:CET
DTSTART:20221030T010000
END:STANDARD
BEGIN:DAYLIGHT
TZOFFSETFROM:+0100
TZOFFSETTO:+0200
TZNAME:CEST
DTSTART:20230326T010000
END:DAYLIGHT
BEGIN:STANDARD
TZOFFSETFROM:+0200
TZOFFSETTO:+0100
TZNAME:CET
DTSTART:20231029T010000
END:STANDARD
BEGIN:DAYLIGHT
TZOFFSETFROM:+0100
TZOFFSETTO:+0200
TZNAME:CEST
DTSTART:20240331T010000
END:DAYLIGHT
BEGIN:STANDARD
TZOFFSETFROM:+0200
TZOFFSETTO:+0100
TZNAME:CET
DTSTART:20241027T010000
END:STANDARD
END:VTIMEZONE
BEGIN:VEVENT
DTSTART;TZID=Europe/Rome:20230418T080000
DTEND;TZID=Europe/Rome:20230418T180000
DTSTAMP:20260422T012225
CREATED:20230405T095200Z
LAST-MODIFIED:20230405T095200Z
UID:4417-1681804800-1681840800@www.ilcastellodinovara.it
SUMMARY:I ragazzi sognano in technicolor
DESCRIPTION:Quando qualcosa si rompe\, può tornare come prima?\npresentazione del libro Astoria di e con Erika Savio\ncon Serena Galasso\n\nUna storia\, il cui perno sono Lisa e ad Alex\, che narra di cambiamenti affrontati in solitudine\, disagio sociale\, microcriminalità\, scoperta di una sessualità precoce\, ma anche di sogni\, speranze\, amicizia e amore\, quell’instancabile ricerca di legami che dà un senso alla vita. \n✏️ la quarta di copertina\nQuando qualcosa si rompe\, può mai tornare come prima?\nQuesta è la domanda che si pone Lisa e\, con l’ostinata furia di vivere dell’adolescenza\, cerca di convincersi che sì\, tutto può tornare come prima.\nTorino\, fine anni ottanta. Lisa è una ragazza timida che\, in seguito alla separazione dei genitori\, si è trasferita con la madre e il fratellino da un paese sul mare a una periferia urbana degradata. Oltre a dover ricominciare una vita da zero\, deve fare i conti con una madre che le delega la responsabilità del fratello e la costringe alla convivenza con un nuovo amante violento. Catapultata così\, bruscamente e senza nessuna sponda\, cerca d’inserirsi nel nuovo ambiente facendo suoi modi e linguaggi dei coetanei\, fino a stringere amicizia con alcuni di loro\, come Alex “Cavallo Pazzo”. Sono Lisa e Alex il perno della storia\, e sono loro che insieme cercheranno una via di fuga e salvezza.\nUna storia che narra di cambiamenti affrontati in solitudine\, disagio sociale\, microcriminalità\, scoperta di una sessualità precoce\, ma anche di sogni\, speranze\, amicizia e amore\, quell’instancabile ricerca di legami che dà un senso alla vita.
URL:https://www.ilcastellodinovara.it/event/i-ragazzi-sognano-in-technicolor/
LOCATION:Sala Sibilla Aleramo – Circolo dei Lettori\, Castello di Novara - PIAZZA MARTIRI DELLA LIBERTA' 3\, NOVARA\, NO\, 28100\, Italia
ATTACH;FMTTYPE=image/jpeg:https://www.ilcastellodinovara.it/wp-content/uploads/2023/04/61UtnhRJH3L-1600x900-1.jpg
END:VEVENT
END:VCALENDAR