BEGIN:VCALENDAR
VERSION:2.0
PRODID:-//Il Castello di Novara - ECPv6.15.20//NONSGML v1.0//EN
CALSCALE:GREGORIAN
METHOD:PUBLISH
X-WR-CALNAME:Il Castello di Novara
X-ORIGINAL-URL:https://www.ilcastellodinovara.it
X-WR-CALDESC:Eventi per Il Castello di Novara
REFRESH-INTERVAL;VALUE=DURATION:PT1H
X-Robots-Tag:noindex
X-PUBLISHED-TTL:PT1H
BEGIN:VTIMEZONE
TZID:Europe/Rome
BEGIN:DAYLIGHT
TZOFFSETFROM:+0100
TZOFFSETTO:+0200
TZNAME:CEST
DTSTART:20220327T010000
END:DAYLIGHT
BEGIN:STANDARD
TZOFFSETFROM:+0200
TZOFFSETTO:+0100
TZNAME:CET
DTSTART:20221030T010000
END:STANDARD
BEGIN:DAYLIGHT
TZOFFSETFROM:+0100
TZOFFSETTO:+0200
TZNAME:CEST
DTSTART:20230326T010000
END:DAYLIGHT
BEGIN:STANDARD
TZOFFSETFROM:+0200
TZOFFSETTO:+0100
TZNAME:CET
DTSTART:20231029T010000
END:STANDARD
BEGIN:DAYLIGHT
TZOFFSETFROM:+0100
TZOFFSETTO:+0200
TZNAME:CEST
DTSTART:20240331T010000
END:DAYLIGHT
BEGIN:STANDARD
TZOFFSETFROM:+0200
TZOFFSETTO:+0100
TZNAME:CET
DTSTART:20241027T010000
END:STANDARD
END:VTIMEZONE
BEGIN:VEVENT
DTSTART;TZID=Europe/Rome:20230421T180000
DTEND;TZID=Europe/Rome:20230430T200000
DTSTAMP:20260422T032119
CREATED:20230418T151014Z
LAST-MODIFIED:20230418T151014Z
UID:4465-1682100000-1682884800@www.ilcastellodinovara.it
SUMMARY:Mostra Le Madri Costituenti
DESCRIPTION:Il 21 aprile 2023 alle 18:00\, presso la sala delle Colonne del Castello di Novara\, inaugureremo una mostra che diventerà poi itinerante sulle 21 Madri Costituenti\, realizzata da ANPI Provinciale di Novara in collaborazione con l’Associazione Casa della Resistenza di Verbania Fondotoce.\nIn quell’ occasione sarà esposta anche l’ artista Carlo Gori dal titolo omonimo\, realizzata a Novara durante un flashmob artistico nel 2020\, che ha dato vita ad un progetto didattico nazionale curato dal Coordinamento donne ANPI. Con una grafica ispirata all’ opera\, infatti\, e il lavoro di una commissione di storiche presenti nel coordinamento\, sono stati creati dei cofanetti contenenti ventuno cartoline con i volti e le biografie delle donne della Costituente.\nSono numerose le iniziative che promuoviamo in tutta Italia per fare conoscere le figure straordinarie di queste protagoniste della storia\, mai abbastanza note\, che hanno dato un contributo fondamentale alla stesura della nostra Carta. La Mostra al Castello si inserisce\, dunque\, in un mosaico di proposte più complesso.\nCon i pannelli e l’ opera dedicata alla Madri Costituenti sarà anche esposto nella sala delle Colonne\, il pannello I Martiri della Libertà\, per la prima volta presentato alla comunità novarese\ndopo un delicato e accurato restauro. La scorsa primavera\, l’ ANPI Provinciale Novara ha infatti ricevuto un dono molto prezioso dalla Direzione dell’Istituto Donegani: un grande manufatto con ritagli di stampa d’epoca che ritraggono partigiani martiri della Libertà\, realizzato su un legno di recupero e decorato da un cartiglio proprio\nintitolato: Ai Martiri della Libertà. Messo insieme nelle modalità che si possono immaginare durante la seconda guerra mondiale e\nnell’ immediato dopoguerra dagli operai e dalle operaie del Donegani\, è stato rinvenuto su nostra segnalazione nei magazzini dell’Istituto grazie alle indicazioni di un ex dipendente\, che ricordava di averlo visto nei locali del dopolavoro negli anni ‘50. Ė un documento di grande rilievo storico che riguarda tutto il territorio un tempo compreso nella sola provincia di Novara ed oggi in parte condiviso con il Vercellese\, il Biellese e il VCO.\nI giornali e i media locali\, nonché ovviamente la cittadinanza\, hanno accolto con grande interesse la notizia del ritrovamento e la promessa di una restituzione pubblica del reperto proprio in occasione dell’ anniversario dell’ 80° della Resistenza\, in questo 2023. Il pannello\, esposto in stanze affollate e piene di fumo prima e poi rimasto abbandonato in dei magazzini\, necessitava di un accurato restauro.\nAbbiamo interpellato i tecnici migliori in circolazione\, sentendo anche la Ca Foscari di Venezia\, la cui docente di riferimento per il restauro della carta ci ha consigliato un team che ha lavorato e lavora ad altissimi livelli sia in Italia che all&#39;estero. Ci siamo così affidati ad un laboratorio di Milano dove operano tre straordinarie restauratrici.\nQuesto straordinario documento\, restaurato con i contributi di molti cittadini\, della Fondazione BPN e dei Sindacati confederali\, è pregevole non solo come reperto dell’ epoca e non solo per la storia intrinseca alla sua realizzazione\, ma anche perché\, messo in sicurezza e tornato leggibile\, sarà studiato da appassionati ricercatori e storici per far sì che le storie di quei volti vengano conosciute\, narrate\, scoperte o riscoperte.
URL:https://www.ilcastellodinovara.it/event/mostra-le-madri-costituenti/
LOCATION:Sala delle Colonne – piano terra\, Castello di Novara - PIAZZA MARTIRI DELLA LIBERTA' 3\, NOVARA\, NO\, 28100\, Italia
ATTACH;FMTTYPE=image/jpeg:https://www.ilcastellodinovara.it/wp-content/uploads/2023/04/evidenza-madri-costitenti.jpg
END:VEVENT
BEGIN:VEVENT
DTSTART;TZID=Europe/Rome:20230427T180000
DTEND;TZID=Europe/Rome:20230427T190000
DTSTAMP:20260422T032119
CREATED:20230405T102322Z
LAST-MODIFIED:20230405T102419Z
UID:4439-1682618400-1682622000@www.ilcastellodinovara.it
SUMMARY:Processo alla resistenza
DESCRIPTION:L’eredità della guerra partigiana nella Repubblica\npresentazione del libro Einaudi di e con Michela Ponzani\ncon Sergio Botta\n\nMolto è stato scritto sulla Resistenza e sulla guerra di liberazione in Italia. Ma che cosa accadde ai partigiani dopo l’aprile 1945? Come vissero realmente gli anni del dopoguerra e della rinascita del Paese coloro che la Repubblica avrebbe celebrato come i nuovi eroi della patria\, martiri del secondo Risorgimento nazionale? \n✏️ la quarta di copertina\nDal 1948 e fino ai primi anni Sessanta\, nelle aule di giustizia della nuova Italia democratica va in scena un «Processo alla Resistenza»\, destinato ad avere un forte impatto mediatico. Assassini\, terroristi\, «colpevoli sfuggiti all’arresto». Così la magistratura del dopoguerra\, largamente compromessa col regime fascista\, giudica quei partigiani che hanno combattuto una guerra clandestina per bande\, tra il 1943 e il 1945. Giudizio condiviso dalla stampa e da gran parte dell’opinione pubblica italiana\, che si accompagna a una generale riabilitazione di ex fascisti e collaborazionisti della Rsi\, autori di stragi e crimini contro i civili\, costretti a «obbedire a ordini superiori». Attraverso carte processuali e documenti d’archivio inediti\, Michela Ponzani ricostruisce il clima di un’epoca\, osservando i sogni\, le speranze tradite e i fallimenti di una generazione che pagò un prezzo molto alto per la scelta di resistere. Cosa resta della Resistenza nella Repubblica? Rimosso dalla memoria collettiva\, il «Processo alla Resistenza»\, celebrato nelle aule di giustizia dopo il 1945\, anima per decenni il dibattito mediatico\, plasmando distorsioni\, manipolazioni\, miti e luoghi comuni «antiresistenziali»\, in una serie di polemiche a posteriori. La messa sotto accusa dell’antifascismo finisce col ribaltare ragioni e torti\, meriti e bassezze\, valori e disvalori. Coloro che hanno combattuto contro nazisti e fascisti si trasformano in pericolosi fuorilegge\, colpevoli di aver attentato al bene della patria (esposta all’invasione angloamericana e ai tragici effetti delle rappresaglie\, scatenate dall’occupante tedesco) e di aver messo a repentaglio la sicurezza nazionale\, difesa invece fino alla fine dai combattenti di Salò. Assassini\, vigliacchi\, terroristi\, «colpevoli sfuggiti all’arresto». Sulla base di questi termini (utilizzati dalla stampa degli anni Cinquanta) la magistratura del dopoguerra\, quasi sempre compromessa col regime fascista\, giudica quei partigiani che hanno combattuto una guerra per bande. Mentre ex fascisti e repubblichini\, autori di stragi e crimini contro civili\, vengono assolti\, riabilitati e persino graziati per aver «obbedito ad ordini militari superiori» o per la loro natura «di buoni padri di famiglia»\, i partigiani sono giudicati responsabili delle rappresaglie scatenate dai nazifascisti\, per non essersi consegnati al nemico.
URL:https://www.ilcastellodinovara.it/event/processo-alla-resistenza/
LOCATION:Sala Sibilla Aleramo – Circolo dei Lettori\, Castello di Novara - PIAZZA MARTIRI DELLA LIBERTA' 3\, NOVARA\, NO\, 28100\, Italia
CATEGORIES:Circolo dei Lettori
ATTACH;FMTTYPE=image/jpeg:https://www.ilcastellodinovara.it/wp-content/uploads/2023/04/Michela-Ponzani-Processo-alla-resistenza-16-9-1-1600x900-1.jpg
END:VEVENT
END:VCALENDAR