BEGIN:VCALENDAR
VERSION:2.0
PRODID:-//Il Castello di Novara - ECPv6.15.20//NONSGML v1.0//EN
CALSCALE:GREGORIAN
METHOD:PUBLISH
X-WR-CALNAME:Il Castello di Novara
X-ORIGINAL-URL:https://www.ilcastellodinovara.it
X-WR-CALDESC:Eventi per Il Castello di Novara
REFRESH-INTERVAL;VALUE=DURATION:PT1H
X-Robots-Tag:noindex
X-PUBLISHED-TTL:PT1H
BEGIN:VTIMEZONE
TZID:Europe/Rome
BEGIN:DAYLIGHT
TZOFFSETFROM:+0100
TZOFFSETTO:+0200
TZNAME:CEST
DTSTART:20220327T010000
END:DAYLIGHT
BEGIN:STANDARD
TZOFFSETFROM:+0200
TZOFFSETTO:+0100
TZNAME:CET
DTSTART:20221030T010000
END:STANDARD
BEGIN:DAYLIGHT
TZOFFSETFROM:+0100
TZOFFSETTO:+0200
TZNAME:CEST
DTSTART:20230326T010000
END:DAYLIGHT
BEGIN:STANDARD
TZOFFSETFROM:+0200
TZOFFSETTO:+0100
TZNAME:CET
DTSTART:20231029T010000
END:STANDARD
BEGIN:DAYLIGHT
TZOFFSETFROM:+0100
TZOFFSETTO:+0200
TZNAME:CEST
DTSTART:20240331T010000
END:DAYLIGHT
BEGIN:STANDARD
TZOFFSETFROM:+0200
TZOFFSETTO:+0100
TZNAME:CET
DTSTART:20241027T010000
END:STANDARD
END:VTIMEZONE
BEGIN:VEVENT
DTSTART;TZID=Europe/Rome:20230511T143000
DTEND;TZID=Europe/Rome:20230531T183000
DTSTAMP:20260423T012252
CREATED:20230413T084032Z
LAST-MODIFIED:20230530T072424Z
UID:4461-1683815400-1685557800@www.ilcastellodinovara.it
SUMMARY:Contrasto alla violenza di genere e giustizia riparativa: una sfida possibile?
DESCRIPTION:Quarto incontro sul tema dell’ascolto e della comunicazione nell’ambito della comunicazione interpersonale. \nI quattro incontri sull’ ascolto e la comunicazione nell’ ambito del rapporto interpersonale sono un indispensabile approfondimento sui temi del contrasto alla violenza di genere e della giustizia riparativa e ne costituiscono la chiave esplicativa. \nAlcune semplici\, ma essenziali\, conoscenze psicologiche sono importanti per il Magistrato\, l’ Avvocato\, l’Ufficiale di Polizia Giudiziaria\, l’ Assistente Sociale ed altri operatori\, per comprendere sempre meglio le dichiarazioni delle persone coinvolte nel processo penale – civile e per esprimere on modalità utili e costruttive il proprio punto di vista\, o quello del diritto. Tali aspetti sono del resto molto utili per qualsiasi persona. \nPer quanto poi riguarda la giustizia riparativa\, queste conoscenze possono farne meglio comprendere le dinamiche e il significato umano per vittima e autore di reato.
URL:https://www.ilcastellodinovara.it/event/contrasto-alla-violenza-di-genere-e-giustizia-riparativa-una-sfida-possibile-2/
LOCATION:Sala delle Vetrate – 1 Piano\, PIAZZA MARTIRI DELLA LIBERTA' 3\, NOVARA\, PIEMONTE\, 28100\, Italia
ATTACH;FMTTYPE=image/jpeg:https://www.ilcastellodinovara.it/wp-content/uploads/2023/04/IMG_9844.jpg
END:VEVENT
BEGIN:VEVENT
DTSTART;TZID=Europe/Rome:20230529T180000
DTEND;TZID=Europe/Rome:20230529T180000
DTSTAMP:20260423T012252
CREATED:20230427T151519Z
LAST-MODIFIED:20230427T151609Z
UID:4569-1685383200-1685383200@www.ilcastellodinovara.it
SUMMARY:L’ultima foresta
DESCRIPTION:Fuggire per il clima\n\npresentazione del libro Aboca di e con Mauro Garofalo\nnell’ambito di Ritornare alla natura. Boschi e foreste per vivere (qui tutti gli appuntamenti)\nUn padre\, una madre e i loro bambini attraversano i campi sulla rotta balcanica\, in cerca di un luogo dove ricominciare da capo. Migranti del clima costretti ad abbandonare la propria terra a causa delle catastrofi ambientali\, vedranno la furia degli uomini e la forza ultima della natura selvaggia. \n✏️ la quarta di copertina\n“Da qualche parte oltre le montagne c’è un campo. Prendete le vostre cose\, gli indica\, è tutto ciò che resta della loro vita fin qui: Maglioni e coperte”.\nPer anni abbiamo atteso la post-apocalisse finché un giorno\, semplicemente\, i ghiacciai hanno cominciato a fondere\, i mari si sono alzati in Indonesia\, tifoni sulle coste della Florida\, mentre in Italia la siccità colpisce cinematograficamente Roma\, fiumi di fango sull’Appennino\, quale il futuro di Venezia\, domani.\nLungo le frontiere del mondo\, uomini e donne tentano di passare i confini: sono i migranti del clima\, dopo i nomadi raccontati da Steinbeck\, costretti ad abbandonare la propria terra a causa delle catastrofi ambientali a cui\, ci dicono gli scienziati\, dovremmo abituarci nei prossimi anni. Vagano per i boschi\, allo strenuo delle forze\, senza meta. Un padre\, una madre e i loro bambini attraversano i campi\, sulla rotta balcanica\, l’antica foresta di Białowieža\, vedranno la furia degli uomini e la forza ultima della Natura selvaggia.
URL:https://www.ilcastellodinovara.it/event/lultima-foresta/
LOCATION:Sala delle Mura – piano terra\, Castello di Novara - PIAZZA MARTIRI DELLA LIBERTA' 3\, NOVARA\, NO\, 28100\, Italia
ATTACH;FMTTYPE=image/jpeg:https://www.ilcastellodinovara.it/wp-content/uploads/2023/04/k-udPMohkqPQ4-unsplash-1600x900-1.jpg
END:VEVENT
END:VCALENDAR