BEGIN:VCALENDAR
VERSION:2.0
PRODID:-//Il Castello di Novara - ECPv6.15.20//NONSGML v1.0//EN
CALSCALE:GREGORIAN
METHOD:PUBLISH
X-ORIGINAL-URL:https://www.ilcastellodinovara.it
X-WR-CALDESC:Eventi per Il Castello di Novara
REFRESH-INTERVAL;VALUE=DURATION:PT1H
X-Robots-Tag:noindex
X-PUBLISHED-TTL:PT1H
BEGIN:VTIMEZONE
TZID:Europe/Rome
BEGIN:DAYLIGHT
TZOFFSETFROM:+0100
TZOFFSETTO:+0200
TZNAME:CEST
DTSTART:20220327T010000
END:DAYLIGHT
BEGIN:STANDARD
TZOFFSETFROM:+0200
TZOFFSETTO:+0100
TZNAME:CET
DTSTART:20221030T010000
END:STANDARD
BEGIN:DAYLIGHT
TZOFFSETFROM:+0100
TZOFFSETTO:+0200
TZNAME:CEST
DTSTART:20230326T010000
END:DAYLIGHT
BEGIN:STANDARD
TZOFFSETFROM:+0200
TZOFFSETTO:+0100
TZNAME:CET
DTSTART:20231029T010000
END:STANDARD
BEGIN:DAYLIGHT
TZOFFSETFROM:+0100
TZOFFSETTO:+0200
TZNAME:CEST
DTSTART:20240331T010000
END:DAYLIGHT
BEGIN:STANDARD
TZOFFSETFROM:+0200
TZOFFSETTO:+0100
TZNAME:CET
DTSTART:20241027T010000
END:STANDARD
END:VTIMEZONE
BEGIN:VEVENT
DTSTART;TZID=Europe/Rome:20230601T180000
DTEND;TZID=Europe/Rome:20230601T180000
DTSTAMP:20260421T202124
CREATED:20230530T124001Z
LAST-MODIFIED:20230530T124001Z
UID:4675-1685642400-1685642400@www.ilcastellodinovara.it
SUMMARY:Afrofuturismo: dalla musica jazz alla fantascienza nera\, e oltre
DESCRIPTION:L’Afrofuturismo è una forma di resistenza culturale\, una pratica terapeutica o un’ontologia nera? Forse tutte queste cose\, visto che è in grado di unificare passato\, presente e futuro dell’esperienza afroamericana\, proiettando nuova luce sui traumi della sua storia. A partire dal Middle Passage\, la Tratta degli schiavi.
URL:https://www.ilcastellodinovara.it/event/afrofuturismo-dalla-musica-jazz-alla-fantascienza-nera-e-oltre/
LOCATION:Sala Sibilla Aleramo – Circolo dei Lettori\, Castello di Novara - PIAZZA MARTIRI DELLA LIBERTA' 3\, NOVARA\, NO\, 28100\, Italia
ATTACH;FMTTYPE=image/jpeg:https://www.ilcastellodinovara.it/wp-content/uploads/2023/05/71LgQOJH6mL-768x432-1.jpg
END:VEVENT
END:VCALENDAR