BEGIN:VCALENDAR
VERSION:2.0
PRODID:-//Il Castello di Novara - ECPv6.15.20//NONSGML v1.0//EN
CALSCALE:GREGORIAN
METHOD:PUBLISH
X-WR-CALNAME:Il Castello di Novara
X-ORIGINAL-URL:https://www.ilcastellodinovara.it
X-WR-CALDESC:Eventi per Il Castello di Novara
REFRESH-INTERVAL;VALUE=DURATION:PT1H
X-Robots-Tag:noindex
X-PUBLISHED-TTL:PT1H
BEGIN:VTIMEZONE
TZID:Europe/Rome
BEGIN:DAYLIGHT
TZOFFSETFROM:+0100
TZOFFSETTO:+0200
TZNAME:CEST
DTSTART:20220327T010000
END:DAYLIGHT
BEGIN:STANDARD
TZOFFSETFROM:+0200
TZOFFSETTO:+0100
TZNAME:CET
DTSTART:20221030T010000
END:STANDARD
BEGIN:DAYLIGHT
TZOFFSETFROM:+0100
TZOFFSETTO:+0200
TZNAME:CEST
DTSTART:20230326T010000
END:DAYLIGHT
BEGIN:STANDARD
TZOFFSETFROM:+0200
TZOFFSETTO:+0100
TZNAME:CET
DTSTART:20231029T010000
END:STANDARD
BEGIN:DAYLIGHT
TZOFFSETFROM:+0100
TZOFFSETTO:+0200
TZNAME:CEST
DTSTART:20240331T010000
END:DAYLIGHT
BEGIN:STANDARD
TZOFFSETFROM:+0200
TZOFFSETTO:+0100
TZNAME:CET
DTSTART:20241027T010000
END:STANDARD
END:VTIMEZONE
BEGIN:VEVENT
DTSTART;TZID=Europe/Rome:20230616T180000
DTEND;TZID=Europe/Rome:20230616T180000
DTSTAMP:20260423T012255
CREATED:20230530T134247Z
LAST-MODIFIED:20230530T134247Z
UID:4705-1686938400-1686938400@www.ilcastellodinovara.it
SUMMARY:I sentieri della riparazione
DESCRIPTION:Percorsi di giustizia in un mondo imperfetto \ncon Lina Di Domenico\, vice Capo Dipartimento DAP\,  Marilinda Mineccia\, già procuratore della Repubblica di Novara e presidente Associazione di Studi e Ricerca di Psicologia Giuridica\, Rosalia Marino\, direttrice Casa Circondariale di Novara\, Angelica d’Auvare Musy\, Fondo Alberto e Angelica Musy\, e Padre Mario Picech S.I.\, Aiuto Cappellano Carcere di San Vittore\, modera Alessandro Battaglino\, direttore Generale Assa S.p.A.\na cura di Assa S.p.A.\n \nA partire dal libro di e con Padre Francesco Occhetta\, segretario generale della Fondazione vaticana Fratelli Tutti e docente alla Pontificia Università Gregoriana di Roma\, Le radici della giustizia (Edizioni San Paolo)\, un dialogo sugli strumenti di giustizia riparativa e di reinserimento sociale in relazione alle esperienze realizzate nei diversi contesti in cui opera ognuno dei relatori.
URL:https://www.ilcastellodinovara.it/event/i-sentieri-della-riparazione/
LOCATION:Sala delle Vetrate – 1 Piano\, PIAZZA MARTIRI DELLA LIBERTA' 3\, NOVARA\, PIEMONTE\, 28100\, Italia
ATTACH;FMTTYPE=image/jpeg:https://www.ilcastellodinovara.it/wp-content/uploads/2023/05/61HNUBmVXLL-1600x900-1.jpg
END:VEVENT
END:VCALENDAR