BEGIN:VCALENDAR
VERSION:2.0
PRODID:-//Il Castello di Novara - ECPv6.15.17//NONSGML v1.0//EN
CALSCALE:GREGORIAN
METHOD:PUBLISH
X-ORIGINAL-URL:https://www.ilcastellodinovara.it
X-WR-CALDESC:Eventi per Il Castello di Novara
REFRESH-INTERVAL;VALUE=DURATION:PT1H
X-Robots-Tag:noindex
X-PUBLISHED-TTL:PT1H
BEGIN:VTIMEZONE
TZID:Europe/Rome
BEGIN:DAYLIGHT
TZOFFSETFROM:+0100
TZOFFSETTO:+0200
TZNAME:CEST
DTSTART:20220327T010000
END:DAYLIGHT
BEGIN:STANDARD
TZOFFSETFROM:+0200
TZOFFSETTO:+0100
TZNAME:CET
DTSTART:20221030T010000
END:STANDARD
BEGIN:DAYLIGHT
TZOFFSETFROM:+0100
TZOFFSETTO:+0200
TZNAME:CEST
DTSTART:20230326T010000
END:DAYLIGHT
BEGIN:STANDARD
TZOFFSETFROM:+0200
TZOFFSETTO:+0100
TZNAME:CET
DTSTART:20231029T010000
END:STANDARD
BEGIN:DAYLIGHT
TZOFFSETFROM:+0100
TZOFFSETTO:+0200
TZNAME:CEST
DTSTART:20240331T010000
END:DAYLIGHT
BEGIN:STANDARD
TZOFFSETFROM:+0200
TZOFFSETTO:+0100
TZNAME:CET
DTSTART:20241027T010000
END:STANDARD
END:VTIMEZONE
BEGIN:VEVENT
DTSTART;TZID=Europe/Rome:20230617T080000
DTEND;TZID=Europe/Rome:20231111T170000
DTSTAMP:20260421T030911
CREATED:20230612T125825Z
LAST-MODIFIED:20231017T125835Z
UID:4743-1686988800-1699722000@www.ilcastellodinovara.it
SUMMARY:NOVARA SOTTERRANEA - visite guidate ai Sotterranei e al Rivellino del Castello Visconteo-Sforzesco di Novara
DESCRIPTION:Esiste una Novara sotterranea? Una città nascosta e un po’ misteriosa celata agli occhi dei cittadini? \nLa risposta è sì: è una realtà ai più sconosciuta\, una Novara misteriosa\, patrimonio apparentemente invisibile\, ma che appartiene alla storia e alla realtà attuale della nostra città. \nPer far conoscere una parte importante della Novara sotterranea\, nel contesto della celebrazione del Centenario di fondazione\, la Sezione CAI di Novara organizza dal mese di giugno fino a novembre – in collaborazione con il Comune di Novara\, la Fondazione Castello di Novara e l’ATL Terre dell’Alto Piemonte –una serie di visite guidate ai Sotterranei e al Rivellino del Castello Visconteo-Sforzesco di Novara.\nLa visita è condotta dai volontari del Gruppo Grotte Cai Novara che\, nel corso di oltre 40 anni di attività e nell’ambito dell’attività di Speleologia Urbana\, hanno studiato\, esplorato e rilevato topograficamente l’intera rete sotterranea novarese\, documentandola anche in un’esaustiva pubblicazione. \nIl percorso sarà introdotto da una mostra sui Sotterranei della nostra città\, dove sono descritti\, oltre ai sotterranei\, le cisterne e le ghiacciaie\, anche l’articolata realtà sotterranea del Castello di Novara\, con testi\, fotografie\, piante e sezioni dei vari siti.\nIl percorso si svolge in ambienti scarsamente illuminati e di disagevole percorrenza\, a tratti bagnati. Per questo motivo per partecipare occorrerà essere in condizioni fisiche idonee\, aver compiuto 8 anni di età e indossare calzature adeguate e vestiario pratico che possa sporcarsi. Il CAI Novara provvederà a fornire un casco munito di torcia e ad assicurare ogni partecipante con un’opportuna assicurazione infortuni e responsabilità civile. \nLe visite si svolgeranno in due turni alle 14.30 e 16.30 (ritrovo cortile del Castello ore 14.15 e 16\,15) nelle giornate di sabato e in un turno alle ore 18.00 (ritrovo cortile del Castello ore 17.45) nelle giornate di venerdì nelle seguenti date: \n1. Sabato 17/6/2023\n2. Venerdì 23/6/2023\n3. Sabato 1/7/2023\n4. Sabato 8/7/2023\n5. Venerdì 21/7/2023\n6. Sabato 16/9/2023\n7. Sabato 7/10/2023\n8. Sabato 11/11/2023 \nPer partecipare occorre prenotare la visita\, di persona o telefonicamente\, presso la segreteria dell’ATL (cortile del Castello Visconteo-Sforzesco – tel. 0321.394059 – info@turismonovara.it – http://www.turismonovara.it/)\, che può fornire ogni indicazione a riguardo. \nAi partecipanti viene chiesto un contributo spese e assicurazione di 5 € (soci CAI) e 15 € (non soci) ed è necessario compilare il seguente modulo: Liberatoria  per i partecipanti alla visite “Novara Sotterranea” \nINFORMAZIONI IMPORTANTI PER LA VISITA \nPer ogni turno i posti disponibili sono 15.\nI partecipanti devono avere compiuto otto anni. I minori devono essere accompagnati da chi ne ha la potestà genitoriale.\nAll’atto della prenotazione vengono richiesti i dati personali\, perché se non si è soci CAI\, viene stipulata idonea assicurazione ad personam: per questo si richiede di avvisare quanto prima in caso di impedimento a partecipare alla visita per lasciare spazio ad altri interessati.\nNon sono comunque previsti rimborsi.\nI visitatori di età superiore a 80 anni sono coperti solo parzialmente dall’assicurazione infortuni.\nLa durata prevista della visita guidata è di 90 minuti circa.\nAl momento della visita verrà fatta firmare ai partecipanti una liberatoria.\nSi tratta di un percorso non turistico\, in ambienti scarsamente illuminati e di disagevole percorrenza\, a\ntratti bagnato\, per cui devono essere indossate calzature idonee (es. scarponi\, stivali\, scarpe da ginnastica con suola con carrarmato\, NO tacchi\, NO suole lisce e rigide) e vestiario pratico che possa sporcarsi. Gli accompagnatori controlleranno che le scarpe indossate siano conformi al percorso previsto.\nI visitatori devono essere in condizioni fisiche idonee a effettuare la visita e durante la stessa dovranno impegnarsi a osservare le disposizioni impartite dalla guida e dagli accompagnatori.\nA ogni partecipante verrà consegnato un casco con luce\, di cui sarà responsabile per eventuali danni.
URL:https://www.ilcastellodinovara.it/event/novara-sotterranea-visite-guidate-ai-sotterranei-e-al-rivellino-del-castello-visconteo-sforzesco-di-novara/
LOCATION:Castello di Novara\, Piazza Martiri della Libertà\, 3\, Novara\, Novara\, 28100\, Italia
CATEGORIES:Evento
ATTACH;FMTTYPE=image/jpeg:https://www.ilcastellodinovara.it/wp-content/uploads/2023/06/My-project-1.jpg
END:VEVENT
BEGIN:VEVENT
DTSTART;TZID=Europe/Rome:20231025T090000
DTEND;TZID=Europe/Rome:20231025T180000
DTSTAMP:20260421T030911
CREATED:20231023T103846Z
LAST-MODIFIED:20231023T103846Z
UID:4967-1698224400-1698256800@www.ilcastellodinovara.it
SUMMARY:IoLavoro
DESCRIPTION:Nuove edizioni di Io Lavoro\, la più grande fiera italiana del lavoro promossa da Regione Piemonte (Assessorato all’istruzione\, lavoro\, formazione professionale\, diritto allo studio universitario)\, realizzata da Agenzia Piemonte Lavoro con il sostegno del Fondo sociale europeo. \nDurante l’evento le persone in cerca di occupazione potranno incontrare aziende e agenzie per il lavoro\, partecipando alle presentazioni delle aziende\, consegnando il proprio curriculum\, svolgendo colloqui con le agenzie per il lavoro durante l’intera giornata. Esperti e professionisti forniranno informazioni su come potenziare le proprie capacità occupazionali\, avviare una propria attività e scoprire come certificare le proprie competenze. Diversi i workshop dedicati al mondo del lavoro. \nGrande attenzione anche al mondo della scuola e dell’orientamento: nella cornice infatti si inserisce lo spazio Orientamento ai mestieri WorldSkills\, un’area dedicata a studenti delle scuole secondarie di primo e secondo grado\, strutturata per aiutarli a esplorare i mestieri\, riconoscere le proprie attitudini e fare scelte consapevoli nel loro percorso scolastico e professionale. Potranno dialogare con realtà dell’istruzione e della formazione professionale del territorio\, ricevere informazioni sull’offerta formativa e trovare risposta a dubbi e domande. Avranno anche la possibilità di partecipare a laboratori didattici interattivi.
URL:https://www.ilcastellodinovara.it/event/iolavoro/
ATTACH;FMTTYPE=image/jpeg:https://www.ilcastellodinovara.it/wp-content/uploads/2023/10/cartolina_iio_lavoro_3_page-0001.jpg
END:VEVENT
BEGIN:VEVENT
DTSTART;TZID=Europe/Rome:20231025T180000
DTEND;TZID=Europe/Rome:20231025T180000
DTSTAMP:20260421T030911
CREATED:20231016T081250Z
LAST-MODIFIED:20231016T081250Z
UID:4928-1698256800-1698256800@www.ilcastellodinovara.it
SUMMARY:Romanzo senza umani
DESCRIPTION:Come riparare le piccole grandi ere glaciali private?\npresentazione del libro Feltrinelli di e con Paolo Di Paolo\ncon Alessandro Barbaglia\nMauro vuole mettersi al riparo dagli effetti di “incidenti emotivi” che lui stesso ha provocato. Ripiombato nella vita di persone che non vedeva da tempo\, pretende di far coincidere i ricordi altrui con i propri\, di modificare e riparare la memoria di amici e compagni di strada\, imponendo la sua versione dei fatti. Che razza di impresa è? \nUn uomo cammina lungo le rive di un grande lago tedesco. È partito all’improvviso\, dopo avere provocato una serie di “incidenti emotivi”\, come lui stesso li definisce. È ripiombato nella vita di persone che non vedeva da tempo. Ha risposto a email rimaste lì per quindici anni\, facendo domande fuori luogo. Ha provato a riannodare fili spezzati.\nMauro Barbi\, storico di professione\, cerca di aggiustare i ricordi degli altri – le persone che ama e ha amato – proponendo la sua versione dei fatti. Cerca di costruire una “memoria condivisa” che lo riguarda. Ma che impresa è? Forse c’entra una Piccola era glaciale privata\, un processo di raffreddamento che ha spopolato la sua esistenza. Dove sono Fiore\, Arno\, il vecchio Cardolini\, Meri\, la Ragazza belga di Madrid? Dov’è Anna? Dove sono tutti?\nForse il lago a cui ha dedicato anni di studio può dargli le risposte che cerca. Vede\, anzi immagina\, l’immensa lastra di ghiaccio che lo copriva da sponda a sponda quattro secoli e mezzo prima. Il sole pallido su una catasta di uccelli morti. Un lunghissimo inverno che travolse l’Europa con i suoi venti polari\, le grandinate furiose\, le inondazioni. Una remota stagione estrema che faceva battere i denti\, perdere la speranza\, impazzire. Come se ne uscì? Come se ne esce?\nLe immagini del passato ci ingannano sempre. Barbi prova a rientrare nel presente\, con tutta l’ansia e la fatica che richiedono i gesti semplici. Uno in particolare potrebbe cambiare tutto.\nIn questo suo Romanzo senza umani\, dove gli umani sono a fuoco più che mai\, Paolo Di Paolo interroga i disastri climatici delle nostre singole vite. Gli anni senza estate\, i desideri furiosi come acquazzoni tropicali\, le secche della speranza\, il gelo che intorpidisce e nasconde. E poi il disgelo\, che finalmente riporta alla luce.\nChe cosa ricordano\, gli altri\, di noi?
URL:https://www.ilcastellodinovara.it/event/romanzo-senza-umani/
LOCATION:Sala delle Mura – piano terra\, Castello di Novara - PIAZZA MARTIRI DELLA LIBERTA' 3\, NOVARA\, NO\, 28100\, Italia
ATTACH;FMTTYPE=image/jpeg:https://www.ilcastellodinovara.it/wp-content/uploads/2023/10/Paolo-Di-Paolo-credits-Roberto-Campanaro-1600x900-1.jpg
END:VEVENT
END:VCALENDAR