BEGIN:VCALENDAR
VERSION:2.0
PRODID:-//Il Castello di Novara - ECPv6.15.20//NONSGML v1.0//EN
CALSCALE:GREGORIAN
METHOD:PUBLISH
X-WR-CALNAME:Il Castello di Novara
X-ORIGINAL-URL:https://www.ilcastellodinovara.it
X-WR-CALDESC:Eventi per Il Castello di Novara
REFRESH-INTERVAL;VALUE=DURATION:PT1H
X-Robots-Tag:noindex
X-PUBLISHED-TTL:PT1H
BEGIN:VTIMEZONE
TZID:Europe/Rome
BEGIN:DAYLIGHT
TZOFFSETFROM:+0100
TZOFFSETTO:+0200
TZNAME:CEST
DTSTART:20220327T010000
END:DAYLIGHT
BEGIN:STANDARD
TZOFFSETFROM:+0200
TZOFFSETTO:+0100
TZNAME:CET
DTSTART:20221030T010000
END:STANDARD
BEGIN:DAYLIGHT
TZOFFSETFROM:+0100
TZOFFSETTO:+0200
TZNAME:CEST
DTSTART:20230326T010000
END:DAYLIGHT
BEGIN:STANDARD
TZOFFSETFROM:+0200
TZOFFSETTO:+0100
TZNAME:CET
DTSTART:20231029T010000
END:STANDARD
BEGIN:DAYLIGHT
TZOFFSETFROM:+0100
TZOFFSETTO:+0200
TZNAME:CEST
DTSTART:20240331T010000
END:DAYLIGHT
BEGIN:STANDARD
TZOFFSETFROM:+0200
TZOFFSETTO:+0100
TZNAME:CET
DTSTART:20241027T010000
END:STANDARD
BEGIN:DAYLIGHT
TZOFFSETFROM:+0100
TZOFFSETTO:+0200
TZNAME:CEST
DTSTART:20250330T010000
END:DAYLIGHT
BEGIN:STANDARD
TZOFFSETFROM:+0200
TZOFFSETTO:+0100
TZNAME:CET
DTSTART:20251026T010000
END:STANDARD
END:VTIMEZONE
BEGIN:VEVENT
DTSTART;TZID=Europe/Rome:20231219T000000
DTEND;TZID=Europe/Rome:20241227T233000
DTSTAMP:20260421T231230
CREATED:20231215T120254Z
LAST-MODIFIED:20240826T104606Z
UID:5101-1702944000-1735342200@www.ilcastellodinovara.it
SUMMARY:Il Castello Svelato - caccia al tesoro
DESCRIPTION:Cerca anche tu il leggendario Cavallo d’Oro di Leonardo da Vinci nascosto nel Castello di Novara\, partecipando alla caccia al tesoro “Il Castello Svelato”. Per cominciare l’avventura acquista il biglietto online e vieni al Castello di Novara con i tuoi amici.\nChissà che proprio tu non riesca dove tanti hanno fallito: trasformare in realtà un mito! \nDotatevi di telefonino ed entusiasmo da esploratori e scoprite il Castello con le sue mille storie grazie alla prima avventura phygital del Castello di Novara! \nSituato nel cuore della città\, da fortezza militare negli ultimi anni il Castello si è trasformato in un importante centro di aggregazione\, un polo culturale capace di ospitare molteplici ed eterogenei eventi conservando frammenti della sua storia. \nE’ proprio questa storia che vuole essere svelata attraverso una caccia al tesoro phygital: mappe\, enigmi\, immagini guideranno i giocatori alla scoperta di vicende storiche\, curiosità e luoghi ancora inaccessibili\, alla ricerca del “nostro” tesoro. \nPer iniziare l’avventura bastano pochi semplici passaggi: acquista il tuo biglietto tramite vivaticket\, riceverai una mail di conferma ed il tuo biglietto elettronico\, dal giorno successivo ( dopo 24 h dall’acquisto del biglietto) potrai venire in Castello ed attivare il gioco inquadrando con il tuo smartphone il QR che troverai all’ingresso e digitando il codice di attivazione presente sul tuo biglietto (si tratta del codice alfa numerico:  CA: XXXXXXXXXX) \nInizia l’avventura… buon divertimento! \ncon il sostegno della Fondazione Compagnia San Paolo 
URL:https://www.ilcastellodinovara.it/event/il-castello-svelato-caccia-al-tesoro/
LOCATION:Corte maggiore
CATEGORIES:Evento,Phygital
ATTACH;FMTTYPE=image/jpeg:https://www.ilcastellodinovara.it/wp-content/uploads/2023/12/dem-640x480-1.jpg
END:VEVENT
BEGIN:VEVENT
DTSTART;TZID=Europe/Rome:20240509T180000
DTEND;TZID=Europe/Rome:20240509T193000
DTSTAMP:20260421T231230
CREATED:20240430T134540Z
LAST-MODIFIED:20240502T095011Z
UID:5721-1715277600-1715283000@www.ilcastellodinovara.it
SUMMARY:ANNULLATO - Circolo dei lettori: Marabbecca
DESCRIPTION:EVENTO ANNULLATO \nQuando i sentimenti cambiano a ogni curva \npresentazione del libro La nave di Teseo di e con Viola Di Grado\nnell’ambito di Salone OFF\n \nClotilde e Igor\, appena lasciati\, hanno un incidente d’auto: lei rimane ferita\, lui finisce in coma. In ospedale\, Clotilde e la ragazza responsabile dello schianto instaurano un rapporto indecifrabile e intenso. Quando Igor si sveglierà  – diverso ma sempre violento – logorerà il loro equilibrio precario. \n  \nIngresso libero fino a esaurimento posti.
URL:https://www.ilcastellodinovara.it/event/circolo-dei-lettori-marabbecca/
LOCATION:Sala Sibilla Aleramo – Circolo dei Lettori\, Castello di Novara - PIAZZA MARTIRI DELLA LIBERTA' 3\, NOVARA\, NO\, 28100\, Italia
CATEGORIES:Circolo dei Lettori,Sala Sibilla Aleramo
ATTACH;FMTTYPE=image/jpeg:https://www.ilcastellodinovara.it/wp-content/uploads/2024/04/Viola-Di-Grado-Marabbecca-16-9.jpg
END:VEVENT
BEGIN:VEVENT
DTSTART;TZID=Europe/Rome:20240509T180000
DTEND;TZID=Europe/Rome:20240509T200000
DTSTAMP:20260421T231230
CREATED:20240503T115115Z
LAST-MODIFIED:20240506T080116Z
UID:5740-1715277600-1715284800@www.ilcastellodinovara.it
SUMMARY:Firma della “Carta Etica per lo Sport Femminile”
DESCRIPTION:Soroptimist International Club Novara\, nell’ambito delle proprie attività\, ha recepito le linee guida del progetto nazionale di Soroptimist International Italia\, “Donne e sport: la lunga strada verso la parità”\, promuovendo varie iniziative a livello cittadino\, fra le quali la “Firma della Carta Etica per lo Sport Femminile” da parte dell’Amministrazione Comunale\, nella persona del Sindaco\, giovedì 9 maggio alle ore 18\, presso la Sala delle Vetrate del Castello di Novara. \nIl documento\, che non dovrà rimanere una dichiarazione di intenti\, impegna i firmatari ad adottare e sviluppare politiche e azioni di valorizzazione della pratica sportiva. \nIl valore dello sport è stato recentemente sancito anche dalla Costituzione Italiana con la modifica del settembre 2023 nella quale si legge: “La Repubblica riconosce il valore educativo\, sociale e di promozione del benessere psicofisico dell’attività sportiva in tutte le sue forme”. \nAltrettanto\, la parità tra donne e uomini\, principio fondamentale\, necessita di trovare applicazione anche in ambito sportivo e il progetto di Soroptimist International d’Italia si propone di far riflettere sul divario esistente\, affrontando I temi legati alla gender equality\, alla parità di trattamento di uomini e donne\, al contrasto aglistereotipi e alle discriminazioni sia in ambito professionistico che amatoriale\, oltre agli aspetti legati alla prevenzione della violenza con un approccio inclusivo che consideri anche la disabilità. \nBrevemente\, quindi\, si riportano gli obiettivi del progetto:\n1. Promuovere i valori dello sport come occasione di integrazione\, educazione e rispetto\, e dei benefici dell’attività fisica in termini di benessere\, in particolare\, ma non solo\, in una prospettiva di genere legato alle diverse fasi della vita;\n2. Sensibilizzare sul tema del linguaggio e della scarsa presenza delle atlete nei media e negli organi decisionali;\n3. Contribuire ad una nuova narrazione dello sport e dei suoi luoghi in un’ottica di genere\, valorizzando le storie delle atlete con focus dedicati alle professioni sportive;\n4. Avviare in collaborazione con le Associazioni Sportive\, progetti e campagne di prevenzione contro violenza\, abusi e molestie. \n  \nIngresso libero.
URL:https://www.ilcastellodinovara.it/event/firma-della-carta-etica-per-lo-sport-femminile/
LOCATION:Sala delle Vetrate – 1 Piano\, PIAZZA MARTIRI DELLA LIBERTA' 3\, NOVARA\, PIEMONTE\, 28100\, Italia
CATEGORIES:Conferenza,Sala delle Vetrate - Primo Piano
ATTACH;FMTTYPE=image/jpeg:https://www.ilcastellodinovara.it/wp-content/uploads/2024/05/Soroptimist_Carta_Etica_Locandina_2024-e1714737327289.jpg
END:VEVENT
END:VCALENDAR