BEGIN:VCALENDAR
VERSION:2.0
PRODID:-//Il Castello di Novara - ECPv6.15.20//NONSGML v1.0//EN
CALSCALE:GREGORIAN
METHOD:PUBLISH
X-WR-CALNAME:Il Castello di Novara
X-ORIGINAL-URL:https://www.ilcastellodinovara.it
X-WR-CALDESC:Eventi per Il Castello di Novara
REFRESH-INTERVAL;VALUE=DURATION:PT1H
X-Robots-Tag:noindex
X-PUBLISHED-TTL:PT1H
BEGIN:VTIMEZONE
TZID:Europe/Rome
BEGIN:DAYLIGHT
TZOFFSETFROM:+0100
TZOFFSETTO:+0200
TZNAME:CEST
DTSTART:20220327T010000
END:DAYLIGHT
BEGIN:STANDARD
TZOFFSETFROM:+0200
TZOFFSETTO:+0100
TZNAME:CET
DTSTART:20221030T010000
END:STANDARD
BEGIN:DAYLIGHT
TZOFFSETFROM:+0100
TZOFFSETTO:+0200
TZNAME:CEST
DTSTART:20230326T010000
END:DAYLIGHT
BEGIN:STANDARD
TZOFFSETFROM:+0200
TZOFFSETTO:+0100
TZNAME:CET
DTSTART:20231029T010000
END:STANDARD
BEGIN:DAYLIGHT
TZOFFSETFROM:+0100
TZOFFSETTO:+0200
TZNAME:CEST
DTSTART:20240331T010000
END:DAYLIGHT
BEGIN:STANDARD
TZOFFSETFROM:+0200
TZOFFSETTO:+0100
TZNAME:CET
DTSTART:20241027T010000
END:STANDARD
BEGIN:DAYLIGHT
TZOFFSETFROM:+0100
TZOFFSETTO:+0200
TZNAME:CEST
DTSTART:20250330T010000
END:DAYLIGHT
BEGIN:STANDARD
TZOFFSETFROM:+0200
TZOFFSETTO:+0100
TZNAME:CET
DTSTART:20251026T010000
END:STANDARD
END:VTIMEZONE
BEGIN:VEVENT
DTSTART;TZID=Europe/Rome:20231219T000000
DTEND;TZID=Europe/Rome:20241227T233000
DTSTAMP:20260421T233832
CREATED:20231215T120254Z
LAST-MODIFIED:20240826T104606Z
UID:5101-1702944000-1735342200@www.ilcastellodinovara.it
SUMMARY:Il Castello Svelato - caccia al tesoro
DESCRIPTION:Cerca anche tu il leggendario Cavallo d’Oro di Leonardo da Vinci nascosto nel Castello di Novara\, partecipando alla caccia al tesoro “Il Castello Svelato”. Per cominciare l’avventura acquista il biglietto online e vieni al Castello di Novara con i tuoi amici.\nChissà che proprio tu non riesca dove tanti hanno fallito: trasformare in realtà un mito! \nDotatevi di telefonino ed entusiasmo da esploratori e scoprite il Castello con le sue mille storie grazie alla prima avventura phygital del Castello di Novara! \nSituato nel cuore della città\, da fortezza militare negli ultimi anni il Castello si è trasformato in un importante centro di aggregazione\, un polo culturale capace di ospitare molteplici ed eterogenei eventi conservando frammenti della sua storia. \nE’ proprio questa storia che vuole essere svelata attraverso una caccia al tesoro phygital: mappe\, enigmi\, immagini guideranno i giocatori alla scoperta di vicende storiche\, curiosità e luoghi ancora inaccessibili\, alla ricerca del “nostro” tesoro. \nPer iniziare l’avventura bastano pochi semplici passaggi: acquista il tuo biglietto tramite vivaticket\, riceverai una mail di conferma ed il tuo biglietto elettronico\, dal giorno successivo ( dopo 24 h dall’acquisto del biglietto) potrai venire in Castello ed attivare il gioco inquadrando con il tuo smartphone il QR che troverai all’ingresso e digitando il codice di attivazione presente sul tuo biglietto (si tratta del codice alfa numerico:  CA: XXXXXXXXXX) \nInizia l’avventura… buon divertimento! \ncon il sostegno della Fondazione Compagnia San Paolo 
URL:https://www.ilcastellodinovara.it/event/il-castello-svelato-caccia-al-tesoro/
LOCATION:Corte maggiore
CATEGORIES:Evento,Phygital
ATTACH;FMTTYPE=image/jpeg:https://www.ilcastellodinovara.it/wp-content/uploads/2023/12/dem-640x480-1.jpg
END:VEVENT
BEGIN:VEVENT
DTSTART;TZID=Europe/Rome:20240511T100000
DTEND;TZID=Europe/Rome:20240513T190000
DTSTAMP:20260421T233832
CREATED:20240424T154918Z
LAST-MODIFIED:20240429T074130Z
UID:5689-1715421600-1715626800@www.ilcastellodinovara.it
SUMMARY:Taste Alto Piemonte
DESCRIPTION:Il Castello Visconteo Sforzesco di Novara è pronto ad ospitare nuovamente Taste Alto Piemonte\, la più grande manifestazione dedicata ai vini dell’Alto Piemonte. \nLa rassegna offrirà la possibilità di incontrare 50 produttori che presenteranno a stampa\, operatori e appassionati le ultime annate delle 10 denominazioni dell’Alto Piemonte tutelate dal Consorzio\, attraverso i banchi di assaggio: Boca DOC\, Bramaterra DOC\, Colline Novaresi DOC\, Coste della Sesia DOC\, Fara DOC\, Gattinara DOCG\, Ghemme DOCG\, Lessona DOC\, Sizzano DOC\, Valli Ossolane DOC. \nLa kermesse sarà aperta al pubblico\, operatori di settore e stampa da sabato 11 a lunedì 13 maggio. Oltre alle degustazioni sarà possibile acquistare le etichette all’enoteca temporanea che verrà allestita all’interno del Castello. La mostra fotografica “I volti dell’Alto Piemonte” permetterà di vedere da vicino chi si cela dietro le etichette del territorio\, mentre i food truck posizionati nel cortile interno del Castello offriranno proposte gourmet durante tutta la durata della manifestazione\, per garantire ai presenti un punto di ristoro.
URL:https://www.ilcastellodinovara.it/event/taste-alto-piemonte-2/
CATEGORIES:Evento
ATTACH;FMTTYPE=image/jpeg:https://www.ilcastellodinovara.it/wp-content/uploads/2024/04/FORMATO-16-9-e1714376480201.jpg
END:VEVENT
BEGIN:VEVENT
DTSTART;TZID=Europe/Rome:20240513T180000
DTEND;TZID=Europe/Rome:20240513T193000
DTSTAMP:20260421T233832
CREATED:20240503T072338Z
LAST-MODIFIED:20240503T072338Z
UID:5737-1715623200-1715628600@www.ilcastellodinovara.it
SUMMARY:Circolo dei lettori: La foto mi guardava
DESCRIPTION:Immagini che parlano \npresentazione del libro Adelphi di e con Katja Petrowskaja\ncon Barbara Cottavoz\nnell’ambito di Salone OFF\n \nIn quest’epoca dominata dalle immagini\, l’autrice sceglie la via dell’osservazione lenta e minuziosa. Attraverso fotografie trovate in un libro\, a una mostra\, a un mercato\, parte dall’attrazione che le suscitano per renderle parlanti e ricostruire\, così\, la realtà che le circonda trasformandole in storie. \n  \nIngresso libero fino a esaurimento posti.
URL:https://www.ilcastellodinovara.it/event/circolo-dei-lettori-la-foto-mi-guardava/
LOCATION:Sala Sibilla Aleramo – Circolo dei Lettori\, Castello di Novara - PIAZZA MARTIRI DELLA LIBERTA' 3\, NOVARA\, NO\, 28100\, Italia
CATEGORIES:Circolo dei Lettori,Sala Sibilla Aleramo
ATTACH;FMTTYPE=image/jpeg:https://www.ilcastellodinovara.it/wp-content/uploads/2024/05/Katja-Petrowskaja-La-foto-mi-guardava-16-9.jpg
END:VEVENT
END:VCALENDAR