BEGIN:VCALENDAR
VERSION:2.0
PRODID:-//Il Castello di Novara - ECPv6.15.17//NONSGML v1.0//EN
CALSCALE:GREGORIAN
METHOD:PUBLISH
X-WR-CALNAME:Il Castello di Novara
X-ORIGINAL-URL:https://www.ilcastellodinovara.it
X-WR-CALDESC:Eventi per Il Castello di Novara
REFRESH-INTERVAL;VALUE=DURATION:PT1H
X-Robots-Tag:noindex
X-PUBLISHED-TTL:PT1H
BEGIN:VTIMEZONE
TZID:Europe/Rome
BEGIN:DAYLIGHT
TZOFFSETFROM:+0100
TZOFFSETTO:+0200
TZNAME:CEST
DTSTART:20220327T010000
END:DAYLIGHT
BEGIN:STANDARD
TZOFFSETFROM:+0200
TZOFFSETTO:+0100
TZNAME:CET
DTSTART:20221030T010000
END:STANDARD
BEGIN:DAYLIGHT
TZOFFSETFROM:+0100
TZOFFSETTO:+0200
TZNAME:CEST
DTSTART:20230326T010000
END:DAYLIGHT
BEGIN:STANDARD
TZOFFSETFROM:+0200
TZOFFSETTO:+0100
TZNAME:CET
DTSTART:20231029T010000
END:STANDARD
BEGIN:DAYLIGHT
TZOFFSETFROM:+0100
TZOFFSETTO:+0200
TZNAME:CEST
DTSTART:20240331T010000
END:DAYLIGHT
BEGIN:STANDARD
TZOFFSETFROM:+0200
TZOFFSETTO:+0100
TZNAME:CET
DTSTART:20241027T010000
END:STANDARD
BEGIN:DAYLIGHT
TZOFFSETFROM:+0100
TZOFFSETTO:+0200
TZNAME:CEST
DTSTART:20250330T010000
END:DAYLIGHT
BEGIN:STANDARD
TZOFFSETFROM:+0200
TZOFFSETTO:+0100
TZNAME:CET
DTSTART:20251026T010000
END:STANDARD
END:VTIMEZONE
BEGIN:VEVENT
DTSTART;TZID=Europe/Rome:20231219T000000
DTEND;TZID=Europe/Rome:20241227T233000
DTSTAMP:20260421T055811
CREATED:20231215T120254Z
LAST-MODIFIED:20240826T104606Z
UID:5101-1702944000-1735342200@www.ilcastellodinovara.it
SUMMARY:Il Castello Svelato - caccia al tesoro
DESCRIPTION:Cerca anche tu il leggendario Cavallo d’Oro di Leonardo da Vinci nascosto nel Castello di Novara\, partecipando alla caccia al tesoro “Il Castello Svelato”. Per cominciare l’avventura acquista il biglietto online e vieni al Castello di Novara con i tuoi amici.\nChissà che proprio tu non riesca dove tanti hanno fallito: trasformare in realtà un mito! \nDotatevi di telefonino ed entusiasmo da esploratori e scoprite il Castello con le sue mille storie grazie alla prima avventura phygital del Castello di Novara! \nSituato nel cuore della città\, da fortezza militare negli ultimi anni il Castello si è trasformato in un importante centro di aggregazione\, un polo culturale capace di ospitare molteplici ed eterogenei eventi conservando frammenti della sua storia. \nE’ proprio questa storia che vuole essere svelata attraverso una caccia al tesoro phygital: mappe\, enigmi\, immagini guideranno i giocatori alla scoperta di vicende storiche\, curiosità e luoghi ancora inaccessibili\, alla ricerca del “nostro” tesoro. \nPer iniziare l’avventura bastano pochi semplici passaggi: acquista il tuo biglietto tramite vivaticket\, riceverai una mail di conferma ed il tuo biglietto elettronico\, dal giorno successivo ( dopo 24 h dall’acquisto del biglietto) potrai venire in Castello ed attivare il gioco inquadrando con il tuo smartphone il QR che troverai all’ingresso e digitando il codice di attivazione presente sul tuo biglietto (si tratta del codice alfa numerico:  CA: XXXXXXXXXX) \nInizia l’avventura… buon divertimento! \ncon il sostegno della Fondazione Compagnia San Paolo 
URL:https://www.ilcastellodinovara.it/event/il-castello-svelato-caccia-al-tesoro/
LOCATION:Corte maggiore
CATEGORIES:Evento,Phygital
ATTACH;FMTTYPE=image/jpeg:https://www.ilcastellodinovara.it/wp-content/uploads/2023/12/dem-640x480-1.jpg
END:VEVENT
BEGIN:VEVENT
DTSTART;TZID=Europe/Rome:20240525T100000
DTEND;TZID=Europe/Rome:20240602T190000
DTSTAMP:20260421T055811
CREATED:20240516T084302Z
LAST-MODIFIED:20240516T102231Z
UID:5878-1716631200-1717354800@www.ilcastellodinovara.it
SUMMARY:Premio Nazionale d'Arte Città di Novara
DESCRIPTION:Torna l’appuntamento\, ormai tradizionale\, con l’arte contemporanea. \nDal 25 maggio al 2 giugno il Castello ospita la 22esima edizione del Premio Nazionale d’Arte Città di Novara con una grande novità: una sezione riservata agli artisti novaresi. \n  \nIngresso libero. 
URL:https://www.ilcastellodinovara.it/event/premio-nazionale-darte-citta-di-novara-2/
LOCATION:Ala degli Sforza- 1 piano
CATEGORIES:Ala degli Sforza - Primo Piano,Mostra
ATTACH;FMTTYPE=image/jpeg:https://www.ilcastellodinovara.it/wp-content/uploads/2024/05/premio-citta-darte-e1715854302167.jpg
END:VEVENT
BEGIN:VEVENT
DTSTART;TZID=Europe/Rome:20240530T180000
DTEND;TZID=Europe/Rome:20240530T193000
DTSTAMP:20260421T055811
CREATED:20240515T155944Z
LAST-MODIFIED:20240515T160114Z
UID:5863-1717092000-1717097400@www.ilcastellodinovara.it
SUMMARY:Circolo dei lettori: La linea d'ombra
DESCRIPTION:100 anni senza Joseph Conrad (ma con i suoi libri) #3\na cura di e con Giuseppe Culicchia \nNel centenario dalla morte di Joseph Conrad tre appuntamenti per celebrare la sua presenza letteraria. Ogni appuntamento un romanzo\, condotti da Giuseppe Culicchia attraverso letture\, approfondimenti e aneddoti a conoscerlo un po’ più da vicino. \ngiovedì 30 maggio h 18 | Sala Sibilla Aleramo\nLa linea d’ombra\nIl viaggio del protagonista senza nome\, al suo primo comando a bordo di un veliero stregato su cui aleggia il fantasma del vecchio capitano\, è l’allegoria del passaggio dalla giovinezza al mondo adulto\, con le illusioni coltivate fino a quel momento che si eclissano come il sole che al tramonto s’immerge nel mare per sparire dall’orizzonte. \n  \nIngresso libero fino a esaurimento posti.
URL:https://www.ilcastellodinovara.it/event/circolo-dei-lettori-la-linea-dombra/
LOCATION:Sala Sibilla Aleramo – Circolo dei Lettori\, Castello di Novara - PIAZZA MARTIRI DELLA LIBERTA' 3\, NOVARA\, NO\, 28100\, Italia
CATEGORIES:Circolo dei Lettori,Sala Sibilla Aleramo
ATTACH;FMTTYPE=image/jpeg:https://www.ilcastellodinovara.it/wp-content/uploads/2024/05/100-anni-senza-Joseph-Conrad-ma-con-i-suoi-libri-16-9-per-sito-1.jpg
END:VEVENT
BEGIN:VEVENT
DTSTART;TZID=Europe/Rome:20240530T210000
DTEND;TZID=Europe/Rome:20240530T230000
DTSTAMP:20260421T055811
CREATED:20240522T094850Z
LAST-MODIFIED:20240522T095112Z
UID:5887-1717102800-1717110000@www.ilcastellodinovara.it
SUMMARY:Emergenza denatalità: quali prospettive?
DESCRIPTION:In Italia nel 1951 ogni 100 giovani c’erano 31 anziani. Al 1° gennaio 2024 ogni 100 giovani gli anziani sono diventati 200. Secondo le proiezioni Istat\, andando avanti con questa tendenza\, nel 2050\, ogni 100 giovani gli anziani saranno più di 300. \nLe nascite\, che nel 2023 sono state 379 mila\, calerebbero fino a 350mila nuovi nati nel 2050\, un trend preoccupante che va analizzato con attenzione e che vede\, anche nelle politiche sulla famiglia dei nostri giorni\, un modo per tentare di invertire una tendenza ben consolidata. \nL’appuntamento di Confronti ‘EMERGENZA DENATALITÀ: quali prospettive?’ \, che si terrà il 30 maggio alle ore 21:00 presso il Castello di Novara\,  vuole stimolare un dibattito proficuo e partecipato su una tematica di grande attualità e che coinvolge tutti i cittadini. \nProtagonisti della serata\, aperta al pubblico in maniera gratuita e senza obbligo di prenotazione\, Giorgio Vittadini\, Presidente Fondazione per la Sussidiarietà\, e Gian Carlo Blangiardo\, già Presidente ISTAT\, Statistico e Professore Emerito di Demografia\, Università Milano Bicocca\, moderati dal Direttore del CST Novara VCO Caterina Mandarini. \nPrecederanno gli interventi i saluti istituzionali del Sindaco di Novara Alessandro Canelli  e del Vicepresidente del CST Daniele Giaime. \nVi saranno poi testimonianze dal mondo profit su come le imprese possano favorire politiche di conciliazione lavoro e famiglia e dal mondo non profit\, dove l’esperienza di genitori di Tiziana e Dario Gallotti abbia trovato un supporto in un legame comunitario quale quello favorito e coltivato nell’ambito dell’associazione Cometa. \n“La denatalità è una tematica che riguarda tutti gli aspetti della società –  sottolinea Carlo Teruzzi\, Presidente del CST – ed interessa anche il Terzo Settore che\, da un lato vede una diminuzione dei volontari\, e soprattutto di quelli giovani\, dall’altro un incremento dei soggetti anziani fragili che necessitano sempre di più un aiuto ed un sostegno da parte dei volontari. Occorre un patto tra pubblico\, privato e non profit per contrastare un processo che potrebbe diventare una vera e propria bomba sociale. Occorre\, come dice il Papa\, “realismo\, lungimiranza e coraggio” ed il volontariato\, promuovendo una cultura della generosità e della solidarietà anche tra le generazioni\, può sostenere quella speranza derivante della cultura creativa e comunitaria tipica del popolo italiano”. \nVogliamo ricordare infine le parole di Sergio Mattarella sulla questione: “La coesione sociale del Paese si misura sulla capacità di dare un futuro alle giovani generazioni\, creando un clima di fiducia. La struttura demografica italiana manifesta uno squilibrio che deve richiamare l’attenzione. Alle Istituzioni compete la responsabilità di attuare politiche attive che permettano alle giovani coppie di realizzare il loro progetto di vita\, superando le difficoltà di carattere materiale e di accesso ai servizi che rendono ardua la strada della genitorialità. Si tratta di una puntuale prescrizione della Costituzione che\, all’art. 31\, richiama la Repubblica ad agevolare ‘con misure economiche e altre provvidenze la formazione della famiglia e l’adempimento dei compiti relativi\, con particolare riguardo alle famiglie numerose’. Proteggendo ‘la maternità\, l’infanzia e la gioventù\, favorendo gli istituti necessari a tale scopo”.\nConfronti\, è un’iniziativa corale\, giunta alla sua seconda edizione e promossa da Centro Servizi per il Territorio – CST Novara VCO\, Fondazione per la Sussidiarietà\, ilsussidiario.net\, Rosmini International Campus. \nE’ possibile seguire l’evento in presenza ma anche in collegamento streaming sul sito www.ilsussidiario.net.
URL:https://www.ilcastellodinovara.it/event/emergenza-denatalita-quali-prospettive/
LOCATION:Sala delle Mura – piano terra\, Castello di Novara - PIAZZA MARTIRI DELLA LIBERTA' 3\, NOVARA\, NO\, 28100\, Italia
CATEGORIES:Conferenza,Sala delle Mura - Piano Terra
ATTACH;FMTTYPE=image/jpeg:https://www.ilcastellodinovara.it/wp-content/uploads/2024/05/16_9_Castello-scaled.jpg
END:VEVENT
END:VCALENDAR