BEGIN:VCALENDAR
VERSION:2.0
PRODID:-//Il Castello di Novara - ECPv6.15.17//NONSGML v1.0//EN
CALSCALE:GREGORIAN
METHOD:PUBLISH
X-ORIGINAL-URL:https://www.ilcastellodinovara.it
X-WR-CALDESC:Eventi per Il Castello di Novara
REFRESH-INTERVAL;VALUE=DURATION:PT1H
X-Robots-Tag:noindex
X-PUBLISHED-TTL:PT1H
BEGIN:VTIMEZONE
TZID:Europe/Rome
BEGIN:DAYLIGHT
TZOFFSETFROM:+0100
TZOFFSETTO:+0200
TZNAME:CEST
DTSTART:20230326T010000
END:DAYLIGHT
BEGIN:STANDARD
TZOFFSETFROM:+0200
TZOFFSETTO:+0100
TZNAME:CET
DTSTART:20231029T010000
END:STANDARD
BEGIN:DAYLIGHT
TZOFFSETFROM:+0100
TZOFFSETTO:+0200
TZNAME:CEST
DTSTART:20240331T010000
END:DAYLIGHT
BEGIN:STANDARD
TZOFFSETFROM:+0200
TZOFFSETTO:+0100
TZNAME:CET
DTSTART:20241027T010000
END:STANDARD
BEGIN:DAYLIGHT
TZOFFSETFROM:+0100
TZOFFSETTO:+0200
TZNAME:CEST
DTSTART:20250330T010000
END:DAYLIGHT
BEGIN:STANDARD
TZOFFSETFROM:+0200
TZOFFSETTO:+0100
TZNAME:CET
DTSTART:20251026T010000
END:STANDARD
BEGIN:DAYLIGHT
TZOFFSETFROM:+0100
TZOFFSETTO:+0200
TZNAME:CEST
DTSTART:20260329T010000
END:DAYLIGHT
BEGIN:STANDARD
TZOFFSETFROM:+0200
TZOFFSETTO:+0100
TZNAME:CET
DTSTART:20261025T010000
END:STANDARD
END:VTIMEZONE
BEGIN:VEVENT
DTSTART;TZID=Europe/Rome:20241101T100000
DTEND;TZID=Europe/Rome:20250406T180000
DTSTAMP:20260420T051106
CREATED:20241017T115804Z
LAST-MODIFIED:20250331T110929Z
UID:6973-1730455200-1743962400@www.ilcastellodinovara.it
SUMMARY:PAESAGGI. Realtà Impressione Simbolo. Da Migliara a Pellizza da Volpedo
DESCRIPTION:APERTURA ANTICIPATA SABATO 5 E DOMENICA 6 APRILE. Negli ultimi due giorni di apertura\, sarà possibile visitare la mostra dalle ore 9.00  \nPiù di 70 opere straordinarie\, provenienti da prestigiose collezioni pubbliche e private\, fanno luce sull’evoluzione della pittura di paesaggio tra Piemonte e Lombardia dagli anni Venti dell’Ottocento al primo decennio del Novecento. Un aspetto poco noto\, ma peculiare per la storia dell’arte\, di cui sono stati protagonisti alcuni dei più importanti artisti attivi in Italia e in Europa in quel periodo. \nDalla campagna all’alta montagna\, dai laghi al mare fino ad arrivare ai paesaggi urbani del cuore di Milano\, ai Navigli e al Carrobbio\, METS Percorsi d’Arte porta al Castello di Novara un tema sempre molto amato e foriero di nuovi approfondimenti. \nLa mostra\,  a cura di Elisabetta Chiodini\,  è composta da nove sezioni: \nSezione I: La “Pittura di paese”: Dalla veduta al paesaggio \nSezione II: Il naturalismo romantico d’oltralpe e la sua influenza sul paesaggismo italiano \nSezione III: Incontri\, amicizie e sodalizi artistici. Dallo studio ginevrino di Alexandre Calame a Rivara e Carcare \nSezione IV: Verso la pittura di impressione \nSezione V: Il trionfo del naturalismo lombardo e la diffusione del nuovo linguaggio \nSezione VI: Il naturalismo nel paesaggio urbano: tra i Navigli e il Carrobbio \nSezione VII: Tra vita en plein air e intimità familiare. Leonardo Bazzaro all’Alpino \nSezione VIII: Dalle Prealpi all’alta montagna \nSezione IX: Il paesaggio divisionista: dal vero al simbolo \nLa mostra fa parte di un percorso di celebrazione e approfondimento della figura di Pellizza avviato da METS Percorsi d’arte congiuntamente alla GAM di Milano. \nProprio a tale itinerario “Pellizziano” è dedicata l’ultima sala della mostra di Novara che ospiterà anche “La Clementina”\, una delle tre opere “ritrovate” esposte da METS a Volpedo. Si tratta di un dipinto che non si vedeva dalla Biennale di Venezia del 1909 ed era conosciuto fino ad ora solo attraverso un’immagine in bianco e nero. \n  \nLa mostra si trova al primo piano (Ala Sforza) che è raggiungibile anche tramite ascensore. All’interno del percorso non si trovano barriere architettoniche. \nOrari \nDal martedì  alla domenica 10.00 – 19.00 \n(la biglietteria chiude alle 18.00) \nAperture straordinarie: venerdì 1 novembre\, domenica 8\, giovedì 26 e lunedì 30 dicembre\, mercoledì 1\, lunedì 6 e mercoledì 22 gennaio \nChiuso: martedì 24\, mercoledì 25 e martedì 31 dicembre \nUfficio stampa \nClarart | info@clarart.com
URL:https://www.ilcastellodinovara.it/event/paesaggi-realta-impressione-simbolo-da-migliara-a-pellizza-da-volpedo/
LOCATION:Castello di Novara\, Piazza Martiri della Libertà\, 3\, Novara\, Novara\, 28100\, Italia
CATEGORIES:Mostra
ATTACH;FMTTYPE=image/jpeg:https://www.ilcastellodinovara.it/wp-content/uploads/2024/10/vivaticket_sito_castello_1024_01.jpg
END:VEVENT
BEGIN:VEVENT
DTSTART;TZID=Europe/Rome:20241208T080000
DTEND;TZID=Europe/Rome:20250106T190000
DTSTAMP:20260420T051106
CREATED:20241210T142402Z
LAST-MODIFIED:20241210T145636Z
UID:7197-1733644800-1736190000@www.ilcastellodinovara.it
SUMMARY:Calendario dell'Avvento artistico
DESCRIPTION:Il Calendario dell’Avvento Artistico nasce dalla collaborazione con il Liceo Artistico Casorati e dei lavori che i ragazzi hanno preparato per le proiezioni di Piazza Martiri della Libertà \nLa Fondazione Castello\, in accordo con l’Amministrazione Comunale\, ha infatti voluto valorizzare ulteriormente i disegni realizzati e non utilizzati e che sono andati a comporre cosi le 17 caselle del calendario che dall’8  al 24 dicembre verranno svelate ogni giorno. \nL’ala sud della Corte maggiore del Castello diventa così un grande calendario dell’avvento per aspettare insieme il giorno più magico dell’anno! \n  \n  \n 
URL:https://www.ilcastellodinovara.it/event/calendario-dellavvento-artistico/
LOCATION:Corte maggiore
CATEGORIES:Natale
ATTACH;FMTTYPE=image/jpeg:https://www.ilcastellodinovara.it/wp-content/uploads/2024/12/IMG_1461-scaled.jpg
END:VEVENT
BEGIN:VEVENT
DTSTART;TZID=Europe/Rome:20241208T160000
DTEND;TZID=Europe/Rome:20250106T180000
DTSTAMP:20260420T051106
CREATED:20241125T154644Z
LAST-MODIFIED:20241213T115202Z
UID:7098-1733673600-1736186400@www.ilcastellodinovara.it
SUMMARY:Natale al Castello
DESCRIPTION:Vieni a scoprire il Natale al Castello! \nA partire dall’8 di dicembre fino alla Viglia di Natale all’interno del cortile del Castello ogni giorno verrà svelato un disegno a cura dei ragazzi del Liceo Artistico “Casorati” sul calendario dell’avvento con installazioni luminose.  \nLetture\, laboratori e la magia del Natale in Rocchetta \nLo spazio della Rocchetta\, la parte più antica del Castello di Novara\, presto nuovo spazio polifunzionale dedicato principalmente ad ospitare laboratori didattici\, si trasformerà per l’occasione nella Casa di Babbo Natale con alberi\, ghirlande e personaggi de “Lo Schiaccianoci”\, oltre ovviamente alla casetta della posta per Babbo Natale.  \nDa  domenica 8 dicembre alle ore 16  sarà aperta e ad ingresso libero nei seguenti giorni con i seguenti orari: \n\nVenerdì 13/12 dalle ore 15:00 alle ore 18:00 \nSabato 14/12 dalle ore 10:00 alle ore 13:00 e dalle ore 15:00 alle ore 18:00\nDomenica 15/12 dalle ore 10:00 alle ore 13:00 e dalle ore 15:00 alle ore 18:00\nVenerdì 20/12 dalle ore 15:00 alle ore 18:00\nSabato 21/12 dalle ore 10:00 alle ore 13:00 e dalle ore 15:00 alle ore 18:00\nDomenica 22/12 dalle ore 10:00 alle ore 13:00 e dalle ore 15:00 alle ore 18:00\nSabato 04/01 dalle ore 10:00 alle ore 13:00 e dalle ore 15:00 alle ore 18:00 \nDomenica 05/01 dalle ore 10:00 alle ore 13:00 e dalle ore 15:00 alle ore 18:00\nLunedì 06/01 dalle ore 10:00 alle ore 13:00 e dalle ore 15:00 alle ore 18:00\n\nLa Casa di Babbo Natale sarà aperta anche durante la settimana su prenotazione alle scuole della Città che potranno prenotarsi inviando una mail a segreteria@ilcastellodinovara.it  \nI bambini e le maestre potranno fermarsi a leggere libri\, messi a disposizione dalla Biblioteca Civica Negroni di Novara\, disegnare e scrivere letterine che potranno poi appendere sulla “parete dei desideri”. \n  \nLa Casa di Babbo Natale si animerà poi con diverse attività dedicate ai bambini. \nLe letture natalizie per grandi e piccini ad ingresso libero con Alessandro Barbaglia\, Paolo Agrati\, Elena Ferrari e Erik Rabozzi del gruppo teatrale del Liceo Classico di Novara si terranno in questi giorni: \n\nSabato 14 dicembre 2024 dalle ore 10:00 alle ore 13:00\n letture natalizie e “La Tregua di Natale” con Alessandro Barbaglia\nDomenica 15 dicembre 2024 dalle ore 11:30 alle ore 12:30 e dalle 15:30 alle 16:30\nletture natalizie con Paolo Agrati\nSabato 21 dicembre 2024 dalle ore 11:30 alle ore 12:30 letture natalizie con Elena Ferrari\nDomenica 22 dicembre 2024 dalle ore 11:30 alle ore 12:30 letture natalizie con  Erik Rabozzi\n\nI laboratori a cura de “Il Club dei Piccoli Lettori” di Novara pensati da Giulia Falzone per l’occasione e adatti a diverse fasce di età che si terranno: \n\nvenerdì 13 e venerdì 20 dicembre 2024\nsabato 4\, domenica 5 e lunedì 6 gennaio 2025\n\nPer iscriversi basterà prenotarsi tramite questo link dedicato e selezionare il laboratorio o i laboratori che interessano. \nIl costo del biglietto per ciascun laboratorio è di 15 € di cui 2 € saranno devoluti al Fondo Minori presso Fondazione Comunità Novarese onlus. I bambini che parteciperanno ai laboratori riceveranno in omaggio un buono dal valore di 5 € per giocare quando vorranno al Castello Svelato\, la caccia al tesoro phygital della Fondazione Castello.
URL:https://www.ilcastellodinovara.it/event/natale-al-castello/
LOCATION:Rocchetta
CATEGORIES:Natale,Rocchetta
ATTACH;FMTTYPE=image/jpeg:https://www.ilcastellodinovara.it/wp-content/uploads/2024/11/Natale-al-Castello-Sito-web-1-scaled.jpg
END:VEVENT
BEGIN:VEVENT
DTSTART;TZID=Europe/Rome:20250105T100000
DTEND;TZID=Europe/Rome:20250105T111500
DTSTAMP:20260420T051106
CREATED:20241127T163136Z
LAST-MODIFIED:20241128T091810Z
UID:7153-1736071200-1736075700@www.ilcastellodinovara.it
SUMMARY:Natale al Castello - laboratorio: Incanto di inverno
DESCRIPTION:Domenica 05 gennaio dalle ore 10:00 alle ore 11:15 \nIncanto di inverno | adatto ai bambini da 2 a 3 anni \nCosa faremo? Tatto\, vista\, olfatto e udito dei bambini saranno stimolati attraverso giochi e attività sensoriali per immergerci nella magica atmosfera invernale. \n  \nPosti limitati. Prenotazione obbligatoria tramite questo link dedicato. \nCosto laboratorio 15 euro di cui 2 euro devoluti al Fondo Minori presso Fondazione Comunità Novarese onlus. In omaggio un buono dal valore di 5 euro per giocare al Castello Svelato\, la caccia al tesoro phygital della Fondazione Castello.
URL:https://www.ilcastellodinovara.it/event/natale-al-castello-laboratorio-3/
LOCATION:Rocchetta
ATTACH;FMTTYPE=image/jpeg:https://www.ilcastellodinovara.it/wp-content/uploads/2024/11/Natale-al-Castello-Sito-web-1-scaled.jpg
END:VEVENT
BEGIN:VEVENT
DTSTART;TZID=Europe/Rome:20250105T113000
DTEND;TZID=Europe/Rome:20250105T124500
DTSTAMP:20260420T051106
CREATED:20241127T163534Z
LAST-MODIFIED:20241128T091922Z
UID:7156-1736076600-1736081100@www.ilcastellodinovara.it
SUMMARY:Natale al Castello - laboratorio: Cosa fa la Befana durante l'anno?
DESCRIPTION:Domenica 05 gennaio dalle ore 11:30 alle ore 12:45 \nCosa fa la Befana durante l’anno? | adatto ai bambini da 3 a 6 anni \nCosa faremo? Accompagneremo la Befana nei suoi viaggi con la scopa durante il resto dell’anno\, alla scoperta delle stagioni. Realizzeremo piccoli quadretti con materiali e tecniche diverse. \n  \nPosti limitati. Prenotazione obbligatoria tramite questo link dedicato. \nCosto laboratorio 15 euro di cui 2 euro devoluti al Fondo Minori presso Fondazione Comunità Novarese onlus. In omaggio un buono dal valore di 5 euro per giocare al Castello Svelato\, la caccia al tesoro phygital della Fondazione Castello.
URL:https://www.ilcastellodinovara.it/event/natale-al-castello-laboratorio-cosa-fa-la-befana-durante-lanno/
LOCATION:Rocchetta
ATTACH;FMTTYPE=image/jpeg:https://www.ilcastellodinovara.it/wp-content/uploads/2024/11/Natale-al-Castello-Sito-web-1-scaled.jpg
END:VEVENT
BEGIN:VEVENT
DTSTART;TZID=Europe/Rome:20250105T150000
DTEND;TZID=Europe/Rome:20250105T161500
DTSTAMP:20260420T051106
CREATED:20241127T163832Z
LAST-MODIFIED:20241128T092036Z
UID:7158-1736089200-1736093700@www.ilcastellodinovara.it
SUMMARY:Natale al Castello - laboratorio: Accademia dei befani e delle befane
DESCRIPTION:Domenica 05 gennaio dalle ore 15:00 alle ore 16:15 \nAccademia dei befani e delle befane | adatto a bambini da 4 a 7 anni \nBabbo Natale può contare sull’aiuto di elfi e renne\, mentre la Befana deve far tutto da sola. Cerchiamo aspiranti Befani e Befane che possano darle una mano in vista del 6 gennaio. Letture e “prove”\, con consegna di “Diploma ufficiale dell’Accademia dei Befani e delle Befane”. \n  \nPosti limitati. Prenotazione obbligatoria tramite questo link dedicato. \nCosto laboratorio 15 euro di cui 2 euro devoluti al Fondo Minori presso Fondazione Comunità Novarese onlus. In omaggio un buono dal valore di 5 euro per giocare al Castello Svelato\, la caccia al tesoro phygital della Fondazione Castello.
URL:https://www.ilcastellodinovara.it/event/natale-al-castello-laboratorio-accademia-dei-befani-e-delle-befane-2/
LOCATION:Rocchetta
ATTACH;FMTTYPE=image/jpeg:https://www.ilcastellodinovara.it/wp-content/uploads/2024/11/Natale-al-Castello-Sito-web-1-scaled.jpg
END:VEVENT
BEGIN:VEVENT
DTSTART;TZID=Europe/Rome:20250105T164500
DTEND;TZID=Europe/Rome:20250105T180000
DTSTAMP:20260420T051106
CREATED:20241127T164057Z
LAST-MODIFIED:20241128T094149Z
UID:7160-1736095500-1736100000@www.ilcastellodinovara.it
SUMMARY:Natale al Castello - laboratorio: Scatti e scaRti di Natale!
DESCRIPTION:Domenica 05 gennaio dalle ore 16:45 alle ore 18:00 \nScatti e scaRti di Natale! | adatto ai bambini da 3 a 5 anni \nCosa faremo? Creeremo un album di ricordi sul Natale appena trascorso utilizzando fotografie e materiale di recupero natalizio\, dalla carta regalo alle confezioni di pandoro. \n  \nPosti limitati. Prenotazione obbligatoria tramite questo link dedicato. \nCosto laboratorio 15 euro di cui 2 euro devoluti al Fondo Minori presso Fondazione Comunità Novarese onlus. In omaggio un buono dal valore di 5 euro per giocare al Castello Svelato\, la caccia al tesoro phygital della Fondazione Castello.
URL:https://www.ilcastellodinovara.it/event/natale-al-castello-laboratorio-scatti-e-scarti-di-natale-2/
LOCATION:Rocchetta
ATTACH;FMTTYPE=image/jpeg:https://www.ilcastellodinovara.it/wp-content/uploads/2024/11/Natale-al-Castello-Sito-web-1-scaled.jpg
END:VEVENT
END:VCALENDAR