BEGIN:VCALENDAR
VERSION:2.0
PRODID:-//Il Castello di Novara - ECPv6.15.17//NONSGML v1.0//EN
CALSCALE:GREGORIAN
METHOD:PUBLISH
X-WR-CALNAME:Il Castello di Novara
X-ORIGINAL-URL:https://www.ilcastellodinovara.it
X-WR-CALDESC:Eventi per Il Castello di Novara
REFRESH-INTERVAL;VALUE=DURATION:PT1H
X-Robots-Tag:noindex
X-PUBLISHED-TTL:PT1H
BEGIN:VTIMEZONE
TZID:Europe/Rome
BEGIN:DAYLIGHT
TZOFFSETFROM:+0100
TZOFFSETTO:+0200
TZNAME:CEST
DTSTART:20230326T010000
END:DAYLIGHT
BEGIN:STANDARD
TZOFFSETFROM:+0200
TZOFFSETTO:+0100
TZNAME:CET
DTSTART:20231029T010000
END:STANDARD
BEGIN:DAYLIGHT
TZOFFSETFROM:+0100
TZOFFSETTO:+0200
TZNAME:CEST
DTSTART:20240331T010000
END:DAYLIGHT
BEGIN:STANDARD
TZOFFSETFROM:+0200
TZOFFSETTO:+0100
TZNAME:CET
DTSTART:20241027T010000
END:STANDARD
BEGIN:DAYLIGHT
TZOFFSETFROM:+0100
TZOFFSETTO:+0200
TZNAME:CEST
DTSTART:20250330T010000
END:DAYLIGHT
BEGIN:STANDARD
TZOFFSETFROM:+0200
TZOFFSETTO:+0100
TZNAME:CET
DTSTART:20251026T010000
END:STANDARD
BEGIN:DAYLIGHT
TZOFFSETFROM:+0100
TZOFFSETTO:+0200
TZNAME:CEST
DTSTART:20260329T010000
END:DAYLIGHT
BEGIN:STANDARD
TZOFFSETFROM:+0200
TZOFFSETTO:+0100
TZNAME:CET
DTSTART:20261025T010000
END:STANDARD
END:VTIMEZONE
BEGIN:VEVENT
DTSTART;TZID=Europe/Rome:20241101T100000
DTEND;TZID=Europe/Rome:20250406T180000
DTSTAMP:20260420T071544
CREATED:20241017T115804Z
LAST-MODIFIED:20250331T110929Z
UID:6973-1730455200-1743962400@www.ilcastellodinovara.it
SUMMARY:PAESAGGI. Realtà Impressione Simbolo. Da Migliara a Pellizza da Volpedo
DESCRIPTION:APERTURA ANTICIPATA SABATO 5 E DOMENICA 6 APRILE. Negli ultimi due giorni di apertura\, sarà possibile visitare la mostra dalle ore 9.00  \nPiù di 70 opere straordinarie\, provenienti da prestigiose collezioni pubbliche e private\, fanno luce sull’evoluzione della pittura di paesaggio tra Piemonte e Lombardia dagli anni Venti dell’Ottocento al primo decennio del Novecento. Un aspetto poco noto\, ma peculiare per la storia dell’arte\, di cui sono stati protagonisti alcuni dei più importanti artisti attivi in Italia e in Europa in quel periodo. \nDalla campagna all’alta montagna\, dai laghi al mare fino ad arrivare ai paesaggi urbani del cuore di Milano\, ai Navigli e al Carrobbio\, METS Percorsi d’Arte porta al Castello di Novara un tema sempre molto amato e foriero di nuovi approfondimenti. \nLa mostra\,  a cura di Elisabetta Chiodini\,  è composta da nove sezioni: \nSezione I: La “Pittura di paese”: Dalla veduta al paesaggio \nSezione II: Il naturalismo romantico d’oltralpe e la sua influenza sul paesaggismo italiano \nSezione III: Incontri\, amicizie e sodalizi artistici. Dallo studio ginevrino di Alexandre Calame a Rivara e Carcare \nSezione IV: Verso la pittura di impressione \nSezione V: Il trionfo del naturalismo lombardo e la diffusione del nuovo linguaggio \nSezione VI: Il naturalismo nel paesaggio urbano: tra i Navigli e il Carrobbio \nSezione VII: Tra vita en plein air e intimità familiare. Leonardo Bazzaro all’Alpino \nSezione VIII: Dalle Prealpi all’alta montagna \nSezione IX: Il paesaggio divisionista: dal vero al simbolo \nLa mostra fa parte di un percorso di celebrazione e approfondimento della figura di Pellizza avviato da METS Percorsi d’arte congiuntamente alla GAM di Milano. \nProprio a tale itinerario “Pellizziano” è dedicata l’ultima sala della mostra di Novara che ospiterà anche “La Clementina”\, una delle tre opere “ritrovate” esposte da METS a Volpedo. Si tratta di un dipinto che non si vedeva dalla Biennale di Venezia del 1909 ed era conosciuto fino ad ora solo attraverso un’immagine in bianco e nero. \n  \nLa mostra si trova al primo piano (Ala Sforza) che è raggiungibile anche tramite ascensore. All’interno del percorso non si trovano barriere architettoniche. \nOrari \nDal martedì  alla domenica 10.00 – 19.00 \n(la biglietteria chiude alle 18.00) \nAperture straordinarie: venerdì 1 novembre\, domenica 8\, giovedì 26 e lunedì 30 dicembre\, mercoledì 1\, lunedì 6 e mercoledì 22 gennaio \nChiuso: martedì 24\, mercoledì 25 e martedì 31 dicembre \nUfficio stampa \nClarart | info@clarart.com
URL:https://www.ilcastellodinovara.it/event/paesaggi-realta-impressione-simbolo-da-migliara-a-pellizza-da-volpedo/
LOCATION:Castello di Novara\, Piazza Martiri della Libertà\, 3\, Novara\, Novara\, 28100\, Italia
CATEGORIES:Mostra
ATTACH;FMTTYPE=image/jpeg:https://www.ilcastellodinovara.it/wp-content/uploads/2024/10/vivaticket_sito_castello_1024_01.jpg
END:VEVENT
BEGIN:VEVENT
DTSTART;TZID=Europe/Rome:20250304T100000
DTEND;TZID=Europe/Rome:20250323T190000
DTSTAMP:20260420T071544
CREATED:20250226T094829Z
LAST-MODIFIED:20250303T153652Z
UID:7545-1741082400-1742756400@www.ilcastellodinovara.it
SUMMARY:Uomini di Pietra
DESCRIPTION:“Uomini di Pietra”\, una personale fotografica di Sara Protti\, realizzata in collaborazione con l’artista Raffaele Salvoldi. \nLa mostra racconta un universo di forza\, tradizione e poesia\, quello dei cavatori toscani che vivono e lavorano nel cuore del Monte Corchia (LU)\, dove il cielo e il mare si incontrano ai suoi piedi. Le fotografie di Sara Protti esplorano i gesti dei lavoratori\, eredi di una tradizione secolare\, figli e nipoti di uomini che hanno camminato sugli stessi pendii\, sfidato le stesse pietre e respirato la stessa polvere di marmo. Gli scatti catturano la relazione intima tra uomo e natura\, svelando una montagna che non è solo roccia\, ma un elemento vivo\, avvolto da nuvole e abbracciato dall’acqua. Attraverso queste immagini\, l’esposizione diventa un omaggio visivo a una tradizione che trascende il lavoro\, radicandosi profondamente nella cultura versiliese. \nAd arricchire la mostra\, un’installazione realizzata con mattoncini in marmo di Carrara (grazie alla collaborazione col brand Salvatori)\, realizzata dall’artista Raffaele Salvoldi\, ricrea le rientranze e i ritmi della montagna\, disegnando con linee e volumi la forza geometrica delle cave. L’opera dialogherà con le fotografie\, offrendo ai visitatori un’esperienza immersiva che unisce luce\, materia e narrazione. \nLa mostra è un invito a scoprire un mondo di fatica e bellezza\, dove l’uomo e la pietra si fondono in una simbiosi antica e potente.
URL:https://www.ilcastellodinovara.it/event/uomini-di-pietra/
LOCATION:Sala delle Colonne – piano terra\, Castello di Novara - PIAZZA MARTIRI DELLA LIBERTA' 3\, NOVARA\, NO\, 28100\, Italia
CATEGORIES:Mostra,Sala delle Colonne -Piano Terra
ATTACH;FMTTYPE=image/jpeg:https://www.ilcastellodinovara.it/wp-content/uploads/2025/02/web_16-9-min-scaled.jpg
END:VEVENT
BEGIN:VEVENT
DTSTART;TZID=Europe/Rome:20250308T160000
DTEND;TZID=Europe/Rome:20250308T190000
DTSTAMP:20260420T071544
CREATED:20250227T101513Z
LAST-MODIFIED:20250227T101513Z
UID:7568-1741449600-1741460400@www.ilcastellodinovara.it
SUMMARY:Circolo dei Lettori: Leggere le donne
DESCRIPTION:Leggere le donne\n\n\ncon Carlotta Sanzogni\nnell’ambito di Voci di donna\n \nPrendi dallo scaffale della tua biblioteca o dalla pila dei libri sul comodino quel libro di una scrittrice che\, secondo te\, non può assolutamente mancare nella vita di ogni lettore e lettrice.\nUn libro che\, per una ragione o per l’altra\, ti ha toccato nel profondo: che ti ha fatto riflettere\, emozionare\, oppure che ti ha semplicemente accompagnato attraverso i momenti più significativi della tua esistenza.\nPortalo con te e vieni a condividerlo con noi in un pomeriggio di lettura\, confronto e scoperta. È un’occasione speciale per scambiarsi consigli di lettura\, esplorare autrici che con le loro parole hanno lasciato un segno indelebile\, e\, perché no\, scoprire nuove voci della letteratura che meritano di essere ascoltate e celebrate.\nÈ anche il momento giusto per ricordare quelle scrittrici che hanno contribuito a scrivere la storia della letteratura la cui voce è stata messa in secondo piano rispetto a quella dei colleghi maschi.\nCon Carlotta Sanzogni\, ci immergiamo tra le pagine di questi libri\, sfogliandoli con attenzione\, raccontandoci le emozioni che ci hanno suscitato\, riflettendo insieme sulle trame\, i temi e i messaggi che portano. L’obiettivo di questo incontro non è solo quello di ricordare autrici che hanno scritto un capitolo fondamentale della letteratura\, ma anche di scoprire nuove storie da incrociare con la nostra rotta di lettori e lettrici.\nÈ un pomeriggio di lettura\, condivisione e ascolto\, un’opportunità per celebrare il valore della letteratura femminile\, una letteratura che ci offre una prospettiva fondamentale sulle esperienze umane\, sugli eventi storici\, sulle emozioni\, sulle nostre vite.\nVieni a scoprire insieme a noi quei libri che non possiamo fare a meno di includere nella nostra libreria\, perché contengono storie alle quali sarebbe un imperdonabile peccato rinunciare. \n\nIngresso gratuito con prenotazione consigliata su circololettori.it
URL:https://www.ilcastellodinovara.it/event/circolo-dei-lettori-leggere-le-donne/
LOCATION:Sala delle mura
CATEGORIES:Circolo dei Lettori,Evento,Sala delle Mura - Piano Terra
ATTACH;FMTTYPE=image/png:https://www.ilcastellodinovara.it/wp-content/uploads/2025/02/Leggere-le-donne-16-9-per-sito-1600x900-1.png
END:VEVENT
END:VCALENDAR