BEGIN:VCALENDAR
VERSION:2.0
PRODID:-//Il Castello di Novara - ECPv6.15.17//NONSGML v1.0//EN
CALSCALE:GREGORIAN
METHOD:PUBLISH
X-ORIGINAL-URL:https://www.ilcastellodinovara.it
X-WR-CALDESC:Eventi per Il Castello di Novara
REFRESH-INTERVAL;VALUE=DURATION:PT1H
X-Robots-Tag:noindex
X-PUBLISHED-TTL:PT1H
BEGIN:VTIMEZONE
TZID:Europe/Rome
BEGIN:DAYLIGHT
TZOFFSETFROM:+0100
TZOFFSETTO:+0200
TZNAME:CEST
DTSTART:20240331T010000
END:DAYLIGHT
BEGIN:STANDARD
TZOFFSETFROM:+0200
TZOFFSETTO:+0100
TZNAME:CET
DTSTART:20241027T010000
END:STANDARD
BEGIN:DAYLIGHT
TZOFFSETFROM:+0100
TZOFFSETTO:+0200
TZNAME:CEST
DTSTART:20250330T010000
END:DAYLIGHT
BEGIN:STANDARD
TZOFFSETFROM:+0200
TZOFFSETTO:+0100
TZNAME:CET
DTSTART:20251026T010000
END:STANDARD
BEGIN:DAYLIGHT
TZOFFSETFROM:+0100
TZOFFSETTO:+0200
TZNAME:CEST
DTSTART:20260329T010000
END:DAYLIGHT
BEGIN:STANDARD
TZOFFSETFROM:+0200
TZOFFSETTO:+0100
TZNAME:CET
DTSTART:20261025T010000
END:STANDARD
END:VTIMEZONE
BEGIN:VEVENT
DTSTART;TZID=Europe/Rome:20250412T100000
DTEND;TZID=Europe/Rome:20250412T180000
DTSTAMP:20260421T171922
CREATED:20250328T112009Z
LAST-MODIFIED:20250328T112009Z
UID:7776-1744452000-1744480800@www.ilcastellodinovara.it
SUMMARY:Circolo dei Lettori: Romance House
DESCRIPTION:Romance House\n\n\nIl nido delle bookloovers \na cura di e con Sofia Mazzoni (@littlereadersophia) \nTorna il rifugio di tutte le amanti del romance: per chi ha voglia di passare un sabato in compagnia a leggere\, chiacchierare di libri e conoscere nuove persone! Una giornata tutta dedicata ai libri tra attività\, letture e nuovi spunti. \nprogramma\n> h 10 Benvenuti e benvenute!\n> h 10.20 Gioco letterario: Qual è il tuo libro preferito?\n> h 11 Silent Reading\n> h 12.30 Pranzo al sacco\n> h 13.30 Attività libresca a tema: Show don’t tell letterario\n> h 14.30 Silent Reading\n> h 16 Chiacchiere & Merenda\n> h 17 Come è andata? \n  \nIngresso gratuito con prenotazione obbligatoria scrivendo a info.novara@circololettori.it
URL:https://www.ilcastellodinovara.it/event/circolo-dei-lettori-romance-house/
LOCATION:Sala Sibilla Aleramo – Circolo dei Lettori\, Castello di Novara - PIAZZA MARTIRI DELLA LIBERTA' 3\, NOVARA\, NO\, 28100\, Italia
CATEGORIES:Circolo dei Lettori,Evento,Sala Sibilla Aleramo
ATTACH;FMTTYPE=image/jpeg:https://www.ilcastellodinovara.it/wp-content/uploads/2025/03/Romance-House-16-9-per-sito-1600x900-1.jpg
END:VEVENT
END:VCALENDAR