BEGIN:VCALENDAR
VERSION:2.0
PRODID:-//Il Castello di Novara - ECPv6.15.17//NONSGML v1.0//EN
CALSCALE:GREGORIAN
METHOD:PUBLISH
X-WR-CALNAME:Il Castello di Novara
X-ORIGINAL-URL:https://www.ilcastellodinovara.it
X-WR-CALDESC:Eventi per Il Castello di Novara
REFRESH-INTERVAL;VALUE=DURATION:PT1H
X-Robots-Tag:noindex
X-PUBLISHED-TTL:PT1H
BEGIN:VTIMEZONE
TZID:Europe/Rome
BEGIN:DAYLIGHT
TZOFFSETFROM:+0100
TZOFFSETTO:+0200
TZNAME:CEST
DTSTART:20240331T010000
END:DAYLIGHT
BEGIN:STANDARD
TZOFFSETFROM:+0200
TZOFFSETTO:+0100
TZNAME:CET
DTSTART:20241027T010000
END:STANDARD
BEGIN:DAYLIGHT
TZOFFSETFROM:+0100
TZOFFSETTO:+0200
TZNAME:CEST
DTSTART:20250330T010000
END:DAYLIGHT
BEGIN:STANDARD
TZOFFSETFROM:+0200
TZOFFSETTO:+0100
TZNAME:CET
DTSTART:20251026T010000
END:STANDARD
BEGIN:DAYLIGHT
TZOFFSETFROM:+0100
TZOFFSETTO:+0200
TZNAME:CEST
DTSTART:20260329T010000
END:DAYLIGHT
BEGIN:STANDARD
TZOFFSETFROM:+0200
TZOFFSETTO:+0100
TZNAME:CET
DTSTART:20261025T010000
END:STANDARD
END:VTIMEZONE
BEGIN:VEVENT
DTSTART;TZID=Europe/Rome:20251003T180000
DTEND;TZID=Europe/Rome:20251003T190000
DTSTAMP:20260420T103043
CREATED:20251001T141747Z
LAST-MODIFIED:20251001T141747Z
UID:8011-1759514400-1759518000@www.ilcastellodinovara.it
SUMMARY:Circolo dei Lettori: Cose che ti dico mentre dormi
DESCRIPTION:Cose che ti dico mentre dormi\n\n\npresentazione del libro Bompiani di e con Enrica Tesio\ncon Mary Ferrari \nNel silenzio della notte\, l’autrice veglia e si rivolge con i suoi pensieri a chi ama: i figli\, i genitori\, il compagno\, gli amici lontani. Ogni parola è una carezza che intreccia malinconia\, humour e ricordi. Nel buio si rivelano verità\, affetti e fragilità nascoste. \nDi tutte le ore della giornata ce n’è una segreta\, notturna\, abitata solo dai sogni: è l’ora in cui la casa si fa silenziosa\, tutti dormono ma una donna veglia e posa su ciascuno i suoi pensieri come carezze in punta di piedi. È l’ora delle malinconie e della tenerezza\, è l’ora della verità sussurrata nel buio quando fa meno male o quando sappiamo che l’abbraccio del sonno presto ci concederà una tregua. Con una voce piena di humour e di sensibilità\, la narratrice di queste pagine ci racconta la sua famiglia attraverso i discorsi notturni che rivolge alla figlia bambina\, al figlio adolescente\, alla mamma che non c’è più e all’incrollabile papà\, al suo compagno\, a un’amica che vive dall’altra parte del mondo… e forse\, in fin dei conti\, a sé stessa. \n\nIngresso libero fino a esaurimento posti \ncon la Carta Io leggo di Più puoi prenotare il tuo posto\, nelle prime file: scrivi a info.novara@circololettori.it
URL:https://www.ilcastellodinovara.it/event/circolo-dei-lettori-cose-che-ti-dico-mentre-dormi/
LOCATION:Sala delle mura
CATEGORIES:Circolo dei Lettori,Evento,Sala delle Mura - Piano Terra
ATTACH;FMTTYPE=image/png:https://www.ilcastellodinovara.it/wp-content/uploads/2025/10/Enrica-Tesio-Cose-che-ti-dico-mentre-dormi-16-9-per-sito-1-1600x900-2.png
END:VEVENT
END:VCALENDAR