BEGIN:VCALENDAR
VERSION:2.0
PRODID:-//Il Castello di Novara - ECPv6.15.20//NONSGML v1.0//EN
CALSCALE:GREGORIAN
METHOD:PUBLISH
X-WR-CALNAME:Il Castello di Novara
X-ORIGINAL-URL:https://www.ilcastellodinovara.it
X-WR-CALDESC:Eventi per Il Castello di Novara
REFRESH-INTERVAL;VALUE=DURATION:PT1H
X-Robots-Tag:noindex
X-PUBLISHED-TTL:PT1H
BEGIN:VTIMEZONE
TZID:Europe/Rome
BEGIN:DAYLIGHT
TZOFFSETFROM:+0100
TZOFFSETTO:+0200
TZNAME:CEST
DTSTART:20240331T010000
END:DAYLIGHT
BEGIN:STANDARD
TZOFFSETFROM:+0200
TZOFFSETTO:+0100
TZNAME:CET
DTSTART:20241027T010000
END:STANDARD
BEGIN:DAYLIGHT
TZOFFSETFROM:+0100
TZOFFSETTO:+0200
TZNAME:CEST
DTSTART:20250330T010000
END:DAYLIGHT
BEGIN:STANDARD
TZOFFSETFROM:+0200
TZOFFSETTO:+0100
TZNAME:CET
DTSTART:20251026T010000
END:STANDARD
BEGIN:DAYLIGHT
TZOFFSETFROM:+0100
TZOFFSETTO:+0200
TZNAME:CEST
DTSTART:20260329T010000
END:DAYLIGHT
BEGIN:STANDARD
TZOFFSETFROM:+0200
TZOFFSETTO:+0100
TZNAME:CET
DTSTART:20261025T010000
END:STANDARD
END:VTIMEZONE
BEGIN:VEVENT
DTSTART;TZID=Europe/Rome:20250401T180000
DTEND;TZID=Europe/Rome:20250401T190000
DTSTAMP:20260423T062635
CREATED:20250328T104548Z
LAST-MODIFIED:20250328T105937Z
UID:7748-1743530400-1743534000@www.ilcastellodinovara.it
SUMMARY:Circolo dei Lettori: Perdersi tutto
DESCRIPTION:Prendersi tutto\n\n\nIo\, Aristotele Onassis \npresentazione del libro Neri Pozza di e con Anna Folli\ncon Eleonora Groppetti \nUn uomo vive molteplici esistenze: esule\, imprenditore\, amante e marito. Costruisce un impero\, stringe amicizie con potenti\, conquista donne straordinarie\, ma affronta anche il dolore della solitudine e della perdita. È Aristotele Onassis: un uomo che vuole tutto dalla vita e paga un prezzo altissimo. \n  \nIngresso libero fino a esaurimento posti \ncon la Carta Io leggo di Più puoi prenotare il tuo posto\, nelle prime file: scrivi a info.novara@circololettori.it
URL:https://www.ilcastellodinovara.it/event/circolo-dei-lettori-perdersi-tutto/
LOCATION:Sala Sibilla Aleramo – Circolo dei Lettori\, Castello di Novara - PIAZZA MARTIRI DELLA LIBERTA' 3\, NOVARA\, NO\, 28100\, Italia
CATEGORIES:Circolo dei Lettori,Evento,Sala Sibilla Aleramo
ATTACH;FMTTYPE=image/png:https://www.ilcastellodinovara.it/wp-content/uploads/2025/03/Anna-Folli-Prendersi-tutto-16-9-per-sito-1600x900-1.png
END:VEVENT
BEGIN:VEVENT
DTSTART;TZID=Europe/Rome:20250402T180000
DTEND;TZID=Europe/Rome:20250402T190000
DTSTAMP:20260423T062635
CREATED:20250328T105213Z
LAST-MODIFIED:20250328T110126Z
UID:7752-1743616800-1743620400@www.ilcastellodinovara.it
SUMMARY:Circolo dei Lettori: Quarantacinque milioni di antifascisti
DESCRIPTION:Quarantacinque milioni di antifascisti\n\n\nUn’Italia che cambia senza memoria \npresentazione del libro Mondadori di e con Gianni Oliva\ncon Sergio Botta \nNel 1940 l’Italia sceglie il fascismo\, ma solo tre anni dopo si allontana da esso. La rapida trasformazione nasconde una verità scomoda: come eliminare un regime quando quasi tutti ne facevano parte? La rottura con il passato diventa un riciclo senza vergogna di uomini e strutture.\nin collaborazione con Istituto Storico della Resistenza di Novara \nIngresso libero fino a esaurimento posti \nCon la Carta Io leggo di Più puoi prenotare il tuo posto\, nelle prime file: scrivi a info.novara@circololettori.it
URL:https://www.ilcastellodinovara.it/event/circolo-dei-lettori-quarantacinque-milioni-di-antifascisti/
LOCATION:Sala delle Mura – piano terra\, Castello di Novara - PIAZZA MARTIRI DELLA LIBERTA' 3\, NOVARA\, NO\, 28100\, Italia
CATEGORIES:Circolo dei Lettori,Evento,Sala delle Mura - Piano Terra
ATTACH;FMTTYPE=image/png:https://www.ilcastellodinovara.it/wp-content/uploads/2025/03/Gianni-Oliva-Quarantacinque-milioni-di-antifascisti-16-9-per-sito-1600x900-1.png
END:VEVENT
BEGIN:VEVENT
DTSTART;TZID=Europe/Rome:20250407T180000
DTEND;TZID=Europe/Rome:20250407T190000
DTSTAMP:20260423T062635
CREATED:20250328T105727Z
LAST-MODIFIED:20250328T105727Z
UID:7756-1744048800-1744052400@www.ilcastellodinovara.it
SUMMARY:Circolo dei Lettori: La famiglia americana
DESCRIPTION:La famiglia americana\n\n\nStoner\ncon Fabrizio Coppola \nIl capolavoro di John Williams\, caso internazionale riscoperto 10 anni dopo la morte dell’autore\, è un grande affresco su cosa significa essere umani\, sulle prove che si devono affrontare e sulla passione che tuttavia si può riuscire a serbare dentro di sé. È un romanzo sull’amore: amore per la poesia e per la letteratura\, ma anche amore romantico. \n  \nIngresso libero fino a esaurimento posti \nCon la Carta Io leggo di Più puoi prenotare il tuo posto\, nelle prime file: scrivi a info.novara@circololettori.it
URL:https://www.ilcastellodinovara.it/event/circolo-dei-lettori-la-famiglia-americana-2/
LOCATION:Sala Sibilla Aleramo – Circolo dei Lettori\, Castello di Novara - PIAZZA MARTIRI DELLA LIBERTA' 3\, NOVARA\, NO\, 28100\, Italia
CATEGORIES:Circolo dei Lettori,Evento,Sala Sibilla Aleramo
ATTACH;FMTTYPE=image/png:https://www.ilcastellodinovara.it/wp-content/uploads/2025/03/Revolutionary-Road-La-famiglia-americana-16-9-per-sito-1600x900-1.png
END:VEVENT
BEGIN:VEVENT
DTSTART;TZID=Europe/Rome:20250408T180000
DTEND;TZID=Europe/Rome:20250408T190000
DTSTAMP:20260423T062635
CREATED:20250328T110435Z
LAST-MODIFIED:20250328T110435Z
UID:7760-1744135200-1744138800@www.ilcastellodinovara.it
SUMMARY:Circolo dei Lettori: I microbi salveranno il mondo?
DESCRIPTION:I microbi salveranno il mondo?\n\n\nProteggerli per sopravvivere \npresentazione del libro il Mulino di e con Duccio Cavalieri\, Rino Rappuoli e Lisa Vozza\ncon Lisa Vozza\, modera Barbara Azzimonti \nI microrganismi sono la forza invisibile che rende possibile la vita sulla Terra: essenziali per la nostra salute e il nostro ambiente\, sono fondamentali per la produzione di cibo\, la digestione e la protezione dalle malattie. È fondamentale riconoscere e proteggere questa incredibile varietà di forme di vita. \nnell’ambito di Festival Scienza Sotto la Cupola\nin collaborazione con UPO \n  \n\nIngresso libero fino a esaurimento posti \nCon la Carta Io leggo di Più puoi prenotare il tuo posto\, nelle prime file: scrivi a info.novara@circololettori.it
URL:https://www.ilcastellodinovara.it/event/circolo-dei-lettori-i-microbi-salveranno-il-mondo/
LOCATION:Sala delle Mura – piano terra\, Castello di Novara - PIAZZA MARTIRI DELLA LIBERTA' 3\, NOVARA\, NO\, 28100\, Italia
CATEGORIES:Circolo dei Lettori,Evento,Sala delle Mura - Piano Terra
ATTACH;FMTTYPE=image/png:https://www.ilcastellodinovara.it/wp-content/uploads/2025/03/Duccio-Cavalieri-Rino-Rappuoli-Lisa-Vozza-I-microbi-salveranno-il-mondo_-16-9-per-sito-1600x900-1.png
END:VEVENT
BEGIN:VEVENT
DTSTART;TZID=Europe/Rome:20250409T180000
DTEND;TZID=Europe/Rome:20250409T190000
DTSTAMP:20260423T062635
CREATED:20250328T110708Z
LAST-MODIFIED:20250328T110708Z
UID:7764-1744221600-1744225200@www.ilcastellodinovara.it
SUMMARY:Circolo dei Lettori: La mela e il serpente
DESCRIPTION:La mela e il serpente\n\n\nAutoanalisi di una donna \npresentazione del libro nottetempo di e con Armanda Guiducci\ncon Eloisa Morra e Maria Paola Arbeia  \nL’esperienza femminile è raccontata come un cammino di scoperta e lotta. La consapevolezza della disuguaglianza e il desiderio di libertà di scelta emergono attraverso il corpo e la mente di ogni donna\, rivelando miti e pregiudizi legati alla condizione femminile. \n  \nIngresso libero fino a esaurimento posti \ncon la Carta Io leggo di Più puoi prenotare il tuo posto\, nelle prime file: scrivi a info.novara@circololettori.it
URL:https://www.ilcastellodinovara.it/event/circolo-dei-lettori-la-mela-e-il-serpente/
LOCATION:Sala Sibilla Aleramo – Circolo dei Lettori\, Castello di Novara - PIAZZA MARTIRI DELLA LIBERTA' 3\, NOVARA\, NO\, 28100\, Italia
CATEGORIES:Circolo dei Lettori,Evento,Sala Sibilla Aleramo
ATTACH;FMTTYPE=image/png:https://www.ilcastellodinovara.it/wp-content/uploads/2025/03/Armanda-Guiducci-La-mela-e-il-serpente-16-9-per-sito-1600x900-1.png
END:VEVENT
BEGIN:VEVENT
DTSTART;TZID=Europe/Rome:20250410T180000
DTEND;TZID=Europe/Rome:20250410T190000
DTSTAMP:20260423T062635
CREATED:20250328T111008Z
LAST-MODIFIED:20250328T111008Z
UID:7768-1744308000-1744311600@www.ilcastellodinovara.it
SUMMARY:Circolo dei Lettori: La Resistenza delle donne
DESCRIPTION:La Resistenza delle donne\n\n\nUn inedito album di famiglia della Repubblica \npresentazione del libro Einaudi di e con Benedetta Tobagi\ncon Lorenzo Morganti \nLa Resistenza al femminile rivela storie di coraggio e sacrificio spesso dimenticate: attraverso fotografie e testimonianze\, emergono figure fondamentali nella lotta contro il fascismo\, in un inedito album di famiglia della Repubblica\, in cui sono rimesse al loro posto le pagine strappate\, o sminuite\, le pagine che vedono protagoniste le donne. \nin collaborazione con Istituto Storico della Resistenza di Novara \nIngresso libero fino a esaurimento posti \ncon la Carta Io leggo di Più puoi prenotare il tuo posto\, nelle prime file: scrivi a info.novara@circololettori.it
URL:https://www.ilcastellodinovara.it/event/circolo-dei-lettori-la-resistenza-delle-donne/
LOCATION:Sala Sibilla Aleramo – Circolo dei Lettori\, Castello di Novara - PIAZZA MARTIRI DELLA LIBERTA' 3\, NOVARA\, NO\, 28100\, Italia
CATEGORIES:Circolo dei Lettori,Evento,Sala Sibilla Aleramo
ATTACH;FMTTYPE=image/png:https://www.ilcastellodinovara.it/wp-content/uploads/2025/03/Benedetta-Tobagi-La-Resistenza-delle-donne-16-9-per-sito-1600x900-1.png
END:VEVENT
BEGIN:VEVENT
DTSTART;TZID=Europe/Rome:20250411T180000
DTEND;TZID=Europe/Rome:20250411T190000
DTSTAMP:20260423T062635
CREATED:20250328T111317Z
LAST-MODIFIED:20250328T111317Z
UID:7772-1744394400-1744398000@www.ilcastellodinovara.it
SUMMARY:Circolo dei Lettori: Il detective sonnambulo
DESCRIPTION:Il detective sonnambulo\n\n\nUna storia d’amore\, amicizia e denaro \npresentazione del libro Mondadori di e con Vanni Santoni \nMartino cerca Johanna\, scomparsa nella Parigi scossa dalle rivolte. Un misterioso poster lo guida a scoprire una rete di connessioni con un criptomilionario e un gruppo anarchico. La storia si intreccia tra amore\, denaro e identità in un’avventura che costringe a riflettere sul destino individuale contro la Storia. \n  \nIngresso libero fino a esaurimento posti \ncon la Carta Io leggo di Più puoi prenotare il tuo posto\, nelle prime file: scrivi a info.novara@circololettori.it
URL:https://www.ilcastellodinovara.it/event/circolo-dei-lettori-il-detective-sonnambulo/
LOCATION:Sala Sibilla Aleramo – Circolo dei Lettori\, Castello di Novara - PIAZZA MARTIRI DELLA LIBERTA' 3\, NOVARA\, NO\, 28100\, Italia
CATEGORIES:Circolo dei Lettori,Evento,Sala Sibilla Aleramo
ATTACH;FMTTYPE=image/png:https://www.ilcastellodinovara.it/wp-content/uploads/2025/03/Vanni-Santoni-Il-detective-sonnambulo-16-9-per-sito-1600x900-1.png
END:VEVENT
BEGIN:VEVENT
DTSTART;TZID=Europe/Rome:20250412T100000
DTEND;TZID=Europe/Rome:20250412T180000
DTSTAMP:20260423T062635
CREATED:20250328T112009Z
LAST-MODIFIED:20250328T112009Z
UID:7776-1744452000-1744480800@www.ilcastellodinovara.it
SUMMARY:Circolo dei Lettori: Romance House
DESCRIPTION:Romance House\n\n\nIl nido delle bookloovers \na cura di e con Sofia Mazzoni (@littlereadersophia) \nTorna il rifugio di tutte le amanti del romance: per chi ha voglia di passare un sabato in compagnia a leggere\, chiacchierare di libri e conoscere nuove persone! Una giornata tutta dedicata ai libri tra attività\, letture e nuovi spunti. \nprogramma\n> h 10 Benvenuti e benvenute!\n> h 10.20 Gioco letterario: Qual è il tuo libro preferito?\n> h 11 Silent Reading\n> h 12.30 Pranzo al sacco\n> h 13.30 Attività libresca a tema: Show don’t tell letterario\n> h 14.30 Silent Reading\n> h 16 Chiacchiere & Merenda\n> h 17 Come è andata? \n  \nIngresso gratuito con prenotazione obbligatoria scrivendo a info.novara@circololettori.it
URL:https://www.ilcastellodinovara.it/event/circolo-dei-lettori-romance-house/
LOCATION:Sala Sibilla Aleramo – Circolo dei Lettori\, Castello di Novara - PIAZZA MARTIRI DELLA LIBERTA' 3\, NOVARA\, NO\, 28100\, Italia
CATEGORIES:Circolo dei Lettori,Evento,Sala Sibilla Aleramo
ATTACH;FMTTYPE=image/jpeg:https://www.ilcastellodinovara.it/wp-content/uploads/2025/03/Romance-House-16-9-per-sito-1600x900-1.jpg
END:VEVENT
BEGIN:VEVENT
DTSTART;TZID=Europe/Rome:20250413T110000
DTEND;TZID=Europe/Rome:20250413T130000
DTSTAMP:20260423T062635
CREATED:20250328T113539Z
LAST-MODIFIED:20250328T113539Z
UID:7780-1744542000-1744549200@www.ilcastellodinovara.it
SUMMARY:
DESCRIPTION:La paura di Alfred Hitchcock\n\n\ncon Roberto Gallaurese \nHitchcock sapeva bene quali stati d’animo suscitare negli spettatori: la paura è sempre stato il preferito. Dalle prime piccole produzioni inglesi fino ai capolavori americani\, ha giocato con i generi\, sovvertito aspettative\, creato memorabili precedenti. È stato popolare pur fornendo al pubblico tutto ciò che non si aspettava e non pensava nemmeno di volere. \nnell’ambito di Matinée \n  \nIngresso libero fino a esaurimento posti \ncon la Carta Io leggo di Più puoi prenotare il tuo posto\, nelle prime file: scrivi a info.novara@circololettori.it
URL:https://www.ilcastellodinovara.it/event/7780/
LOCATION:Sala Sibilla Aleramo – Circolo dei Lettori\, Castello di Novara - PIAZZA MARTIRI DELLA LIBERTA' 3\, NOVARA\, NO\, 28100\, Italia
CATEGORIES:Circolo dei Lettori,Evento,Sala Sibilla Aleramo
ATTACH;FMTTYPE=image/jpeg:https://www.ilcastellodinovara.it/wp-content/uploads/2025/03/La-paura-di-Alfred-Hitchcock-16-9-per-sito-1600x900-1.jpg
END:VEVENT
BEGIN:VEVENT
DTSTART;TZID=Europe/Rome:20250414T180000
DTEND;TZID=Europe/Rome:20250414T190000
DTSTAMP:20260423T062635
CREATED:20250328T113813Z
LAST-MODIFIED:20250328T113813Z
UID:7784-1744653600-1744657200@www.ilcastellodinovara.it
SUMMARY:Circolo dei Lettori: Crimini inconfessabili
DESCRIPTION:Crimini inconfessabili\n\n\nIl ventennio dell’Antistato \npresentazione del libro FuoriScena di e con Giuliano Turone\ncon Barbara Cottavoz \nL’autore\, giudice istruttore a Milano negli anni della P2\, attraversa i fatti del ventennio 1973-93 partendo dalla certezza che il nostro è stato un Paese a sovranità limitata\, per colpa di una strategia della tensione di matrice atlantica che ha operato con il potere occulto della loggia massonica e la complicità delle mafie e dell’estremismo di destra. \n  \n  \nIngresso libero fino a esaurimento posti \ncon la Carta Io leggo di Più puoi prenotare il tuo posto\, nelle prime file: scrivi a info.novara@circololettori.it
URL:https://www.ilcastellodinovara.it/event/circolo-dei-lettori-crimini-inconfessabili/
LOCATION:Sala Sibilla Aleramo – Circolo dei Lettori\, Castello di Novara - PIAZZA MARTIRI DELLA LIBERTA' 3\, NOVARA\, NO\, 28100\, Italia
CATEGORIES:Circolo dei Lettori,Evento,Sala Sibilla Aleramo
ATTACH;FMTTYPE=image/png:https://www.ilcastellodinovara.it/wp-content/uploads/2025/03/Giuliano-Turone-Crimini-inconfessabili-16-9-per-sito-2-1600x900-1.png
END:VEVENT
BEGIN:VEVENT
DTSTART;TZID=Europe/Rome:20250415T180000
DTEND;TZID=Europe/Rome:20250415T190000
DTSTAMP:20260423T062635
CREATED:20250328T114139Z
LAST-MODIFIED:20250328T114139Z
UID:7788-1744740000-1744743600@www.ilcastellodinovara.it
SUMMARY:Circolo dei Lettori: Lou Salomé
DESCRIPTION:Lou Salomé\n\n\nVivere la vita \npresentazione del libro Feltrinelli di e con Susanna Mati\na cura di Valeria Cecilia\n\nNel 1934 Salomé dà alle fiamme buona parte dei suoi archivi\, in un atto di autodefinizione. La sua vita\, raccontata attraverso lettere e opere\, rivela il percorso di una donna che ha influenzato il pensiero moderno\, interagendo con Nietzsche\, Rilke\, Freud e lasciando un’impronta duratura nella filosofia e nella psicoanalisi. \nIngresso libero fino a esaurimento posti \ncon la Carta Io leggo di Più puoi prenotare il tuo posto\, nelle prime file: scrivi a info.novara@circololettori.it
URL:https://www.ilcastellodinovara.it/event/circolo-dei-lettori-lou-salome/
LOCATION:Sala Sibilla Aleramo – Circolo dei Lettori\, Castello di Novara - PIAZZA MARTIRI DELLA LIBERTA' 3\, NOVARA\, NO\, 28100\, Italia
CATEGORIES:Circolo dei Lettori,Evento,Sala Sibilla Aleramo
ATTACH;FMTTYPE=image/png:https://www.ilcastellodinovara.it/wp-content/uploads/2025/03/Susanna-Mati-Lou-Salome-16-9-per-sito-1600x900-1.png
END:VEVENT
BEGIN:VEVENT
DTSTART;TZID=Europe/Rome:20250416T180000
DTEND;TZID=Europe/Rome:20250416T190000
DTSTAMP:20260423T062635
CREATED:20250328T114924Z
LAST-MODIFIED:20250328T114924Z
UID:7792-1744826400-1744830000@www.ilcastellodinovara.it
SUMMARY:Circolo dei Lettori: Incontro con Carlo Grepppi
DESCRIPTION:Incontro con Carlo Greppi\n\n\ncon Elena Mastretta \na partire da Storie che non fanno la Storia e Storia internazionale della Resistenza italiana\, Laterza \nIl primo è un libro appassionato sulle scelte in una narrazione storica: punto di vista\, tono\, montaggio\, fonti\, storiografia\, messa in scena dei risultati di indagine. Nel secondo\, si ricorda che la Resistenza in Italia è stata guerra civile ma all’interno di una guerra europea e mondiale: tra i partigiani ci sono combattenti contro nazismo e fascismo di Paesi diversi\, «una storia a lungo trascurata che a 80 anni dalla Liberazione possiamo finalmente riscoprire». \nin collaborazione con Istituto Storico della Resistenza di Novara \n  \nIngresso libero fino a esaurimento posti \ncon la Carta Io leggo di Più puoi prenotare il tuo posto\, nelle prime file: scrivi a info.novara@circololettori.it
URL:https://www.ilcastellodinovara.it/event/circolo-dei-lettori-incontro-con-carlo-grepppi/
LOCATION:Sala delle Mura – piano terra\, Castello di Novara - PIAZZA MARTIRI DELLA LIBERTA' 3\, NOVARA\, NO\, 28100\, Italia
CATEGORIES:Circolo dei Lettori,Evento,Sala delle Mura - Piano Terra
ATTACH;FMTTYPE=image/jpeg:https://www.ilcastellodinovara.it/wp-content/uploads/2025/03/Incontro-con-Carlo-Greppi-16-9-per-sito-1600x900-1.jpg
END:VEVENT
END:VCALENDAR