BEGIN:VCALENDAR
VERSION:2.0
PRODID:-//Il Castello di Novara - ECPv6.15.17//NONSGML v1.0//EN
CALSCALE:GREGORIAN
METHOD:PUBLISH
X-ORIGINAL-URL:https://www.ilcastellodinovara.it
X-WR-CALDESC:Eventi per Il Castello di Novara
REFRESH-INTERVAL;VALUE=DURATION:PT1H
X-Robots-Tag:noindex
X-PUBLISHED-TTL:PT1H
BEGIN:VTIMEZONE
TZID:Europe/Rome
BEGIN:DAYLIGHT
TZOFFSETFROM:+0100
TZOFFSETTO:+0200
TZNAME:CEST
DTSTART:20230326T010000
END:DAYLIGHT
BEGIN:STANDARD
TZOFFSETFROM:+0200
TZOFFSETTO:+0100
TZNAME:CET
DTSTART:20231029T010000
END:STANDARD
BEGIN:DAYLIGHT
TZOFFSETFROM:+0100
TZOFFSETTO:+0200
TZNAME:CEST
DTSTART:20240331T010000
END:DAYLIGHT
BEGIN:STANDARD
TZOFFSETFROM:+0200
TZOFFSETTO:+0100
TZNAME:CET
DTSTART:20241027T010000
END:STANDARD
BEGIN:DAYLIGHT
TZOFFSETFROM:+0100
TZOFFSETTO:+0200
TZNAME:CEST
DTSTART:20250330T010000
END:DAYLIGHT
BEGIN:STANDARD
TZOFFSETFROM:+0200
TZOFFSETTO:+0100
TZNAME:CET
DTSTART:20251026T010000
END:STANDARD
END:VTIMEZONE
BEGIN:VEVENT
DTSTART;TZID=Europe/Rome:20241116T180000
DTEND;TZID=Europe/Rome:20241116T193000
DTSTAMP:20260421T155704
CREATED:20241111T145134Z
LAST-MODIFIED:20241111T150802Z
UID:7040-1731780000-1731785400@www.ilcastellodinovara.it
SUMMARY:E voleremo sopra la paura
DESCRIPTION:E voleremo sopra la paura\n\n\nScegliere a occhi chiusi la felicità \npresentazione del libro DeAgostini di e con Valentina Mastroianni\ncon Francesca Debernardi\n \nFederico\, Ale\, Terry e Cece hanno dovuto imparare che di fronte a un dolore forte\, per preservare l’amore\, è necessario riconoscere i propri limiti e chiedere aiuto. Tra farmaci sperimentali\, terapie fuori protocollo\, gioie e incertezze\, ciò che succede a Cesare e a chi gli sta intorno continua a richiedere molto coraggio. \n  \n📌 ingresso libero fino a esaurimento posti \n👀 con la Carta Io leggo di Più puoi prenotare il tuo posto\, nelle prime file: scrivi a info.novara@circololettori.it
URL:https://www.ilcastellodinovara.it/event/e-voleremo-sopra-la-paura/
LOCATION:Sala Sibilla Aleramo – Circolo dei Lettori\, Castello di Novara - PIAZZA MARTIRI DELLA LIBERTA' 3\, NOVARA\, NO\, 28100\, Italia
CATEGORIES:Circolo dei Lettori,Evento,Sala Sibilla Aleramo
ATTACH;FMTTYPE=image/jpeg:https://www.ilcastellodinovara.it/wp-content/uploads/2024/11/Valentina-Mastroianni-E-voleremo-sopra-la-paura-16-9-1600x900-1.jpg
END:VEVENT
END:VCALENDAR