BEGIN:VCALENDAR
VERSION:2.0
PRODID:-//Il Castello di Novara - ECPv6.15.20//NONSGML v1.0//EN
CALSCALE:GREGORIAN
METHOD:PUBLISH
X-ORIGINAL-URL:https://www.ilcastellodinovara.it
X-WR-CALDESC:Eventi per Il Castello di Novara
REFRESH-INTERVAL;VALUE=DURATION:PT1H
X-Robots-Tag:noindex
X-PUBLISHED-TTL:PT1H
BEGIN:VTIMEZONE
TZID:Europe/Rome
BEGIN:DAYLIGHT
TZOFFSETFROM:+0100
TZOFFSETTO:+0200
TZNAME:CEST
DTSTART:20240331T010000
END:DAYLIGHT
BEGIN:STANDARD
TZOFFSETFROM:+0200
TZOFFSETTO:+0100
TZNAME:CET
DTSTART:20241027T010000
END:STANDARD
BEGIN:DAYLIGHT
TZOFFSETFROM:+0100
TZOFFSETTO:+0200
TZNAME:CEST
DTSTART:20250330T010000
END:DAYLIGHT
BEGIN:STANDARD
TZOFFSETFROM:+0200
TZOFFSETTO:+0100
TZNAME:CET
DTSTART:20251026T010000
END:STANDARD
BEGIN:DAYLIGHT
TZOFFSETFROM:+0100
TZOFFSETTO:+0200
TZNAME:CEST
DTSTART:20260329T010000
END:DAYLIGHT
BEGIN:STANDARD
TZOFFSETFROM:+0200
TZOFFSETTO:+0100
TZNAME:CET
DTSTART:20261025T010000
END:STANDARD
END:VTIMEZONE
BEGIN:VEVENT
DTSTART;TZID=Europe/Rome:20250222T180000
DTEND;TZID=Europe/Rome:20250222T190000
DTSTAMP:20260423T044628
CREATED:20250130T154829Z
LAST-MODIFIED:20250130T154829Z
UID:7471-1740247200-1740250800@www.ilcastellodinovara.it
SUMMARY:Circolo dei Lettori: Capire il cuore altrui
DESCRIPTION:Capire il cuore altrui\n\n\nEmma\, Flaubert e altre ossessioni \npresentazione del libro HarperCollins di e con Antonella Lattanzi\ncon Erica Bertinotti \nMadame Bovary rappresenta il desiderio che governa ogni scelta\, dalla ricerca di amore alla tragica conclusione. La sua figura continua a dividere i lettori\, ma la pulsione incontrollabile rivela un aspetto universale dell’animo umano. La sua storia è un viaggio nelle ossessioni\, in un’analisi profonda di come la volontà possa trasformarsi in autodistruzione\, lasciando tracce indelebili nella letteratura. \nIngresso libero fino a esaurimento posti \nCon la Carta Io leggo di Più puoi prenotare il tuo posto\, nelle prime file: scrivi a info.novara@circololettori.it
URL:https://www.ilcastellodinovara.it/event/circolo-dei-lettori-capire-il-cuore-altrui/
LOCATION:Sala Sibilla Aleramo – Circolo dei Lettori\, Castello di Novara - PIAZZA MARTIRI DELLA LIBERTA' 3\, NOVARA\, NO\, 28100\, Italia
CATEGORIES:Circolo dei Lettori,Sala Sibilla Aleramo
END:VEVENT
END:VCALENDAR