BEGIN:VCALENDAR
VERSION:2.0
PRODID:-//Il Castello di Novara - ECPv6.15.20//NONSGML v1.0//EN
CALSCALE:GREGORIAN
METHOD:PUBLISH
X-WR-CALNAME:Il Castello di Novara
X-ORIGINAL-URL:https://www.ilcastellodinovara.it
X-WR-CALDESC:Eventi per Il Castello di Novara
REFRESH-INTERVAL;VALUE=DURATION:PT1H
X-Robots-Tag:noindex
X-PUBLISHED-TTL:PT1H
BEGIN:VTIMEZONE
TZID:Europe/Rome
BEGIN:DAYLIGHT
TZOFFSETFROM:+0100
TZOFFSETTO:+0200
TZNAME:CEST
DTSTART:20240331T010000
END:DAYLIGHT
BEGIN:STANDARD
TZOFFSETFROM:+0200
TZOFFSETTO:+0100
TZNAME:CET
DTSTART:20241027T010000
END:STANDARD
BEGIN:DAYLIGHT
TZOFFSETFROM:+0100
TZOFFSETTO:+0200
TZNAME:CEST
DTSTART:20250330T010000
END:DAYLIGHT
BEGIN:STANDARD
TZOFFSETFROM:+0200
TZOFFSETTO:+0100
TZNAME:CET
DTSTART:20251026T010000
END:STANDARD
BEGIN:DAYLIGHT
TZOFFSETFROM:+0100
TZOFFSETTO:+0200
TZNAME:CEST
DTSTART:20260329T010000
END:DAYLIGHT
BEGIN:STANDARD
TZOFFSETFROM:+0200
TZOFFSETTO:+0100
TZNAME:CET
DTSTART:20261025T010000
END:STANDARD
END:VTIMEZONE
BEGIN:VEVENT
DTSTART;TZID=Europe/Rome:20250228T180000
DTEND;TZID=Europe/Rome:20250228T190000
DTSTAMP:20260423T042705
CREATED:20250130T160027Z
LAST-MODIFIED:20250130T160027Z
UID:7485-1740765600-1740769200@www.ilcastellodinovara.it
SUMMARY:Circolo dei Lettori: Donne mitiche #4
DESCRIPTION:Donne mitiche #4\n\n\nLe donne del mito rimangono archetipi di figure moderne\, di comportamenti passati e presenti. Hanno affascinato gli scrittori di tutti i tempi e oggi continuano a interrogarci. Sono donne mai definitivamente scoperte e comprese. \nLa ragazza: Nausicaa\ncon Giorgio Bellomo \nChi non si ricorda di Nausicaa\, della sua innocenza\, della bellezza? Gli autori che ne parlano e descrivono il mito ne tratteggiano una figura che non ha nulla da invidiare ai quadri dei pittori preraffaelliti. La riscopriamo attraverso le letture di Omero\, Sofocle\, Ieranò e Cantarella. \n  \nIngresso libero fino a esaurimento posti \nCon la Carta Io leggo di Più puoi prenotare il tuo posto\, nelle prime file: scrivi a info.novara@circololettori.it
URL:https://www.ilcastellodinovara.it/event/circolo-dei-lettori-donne-mitiche-4/
LOCATION:Sala Sibilla Aleramo – Circolo dei Lettori\, Castello di Novara - PIAZZA MARTIRI DELLA LIBERTA' 3\, NOVARA\, NO\, 28100\, Italia
CATEGORIES:Circolo dei Lettori,Sala Sibilla Aleramo
END:VEVENT
END:VCALENDAR