BEGIN:VCALENDAR
VERSION:2.0
PRODID:-//Il Castello di Novara - ECPv6.15.20//NONSGML v1.0//EN
CALSCALE:GREGORIAN
METHOD:PUBLISH
X-ORIGINAL-URL:https://www.ilcastellodinovara.it
X-WR-CALDESC:Eventi per Il Castello di Novara
REFRESH-INTERVAL;VALUE=DURATION:PT1H
X-Robots-Tag:noindex
X-PUBLISHED-TTL:PT1H
BEGIN:VTIMEZONE
TZID:Europe/Rome
BEGIN:DAYLIGHT
TZOFFSETFROM:+0100
TZOFFSETTO:+0200
TZNAME:CEST
DTSTART:20240331T010000
END:DAYLIGHT
BEGIN:STANDARD
TZOFFSETFROM:+0200
TZOFFSETTO:+0100
TZNAME:CET
DTSTART:20241027T010000
END:STANDARD
BEGIN:DAYLIGHT
TZOFFSETFROM:+0100
TZOFFSETTO:+0200
TZNAME:CEST
DTSTART:20250330T010000
END:DAYLIGHT
BEGIN:STANDARD
TZOFFSETFROM:+0200
TZOFFSETTO:+0100
TZNAME:CET
DTSTART:20251026T010000
END:STANDARD
BEGIN:DAYLIGHT
TZOFFSETFROM:+0100
TZOFFSETTO:+0200
TZNAME:CEST
DTSTART:20260329T010000
END:DAYLIGHT
BEGIN:STANDARD
TZOFFSETFROM:+0200
TZOFFSETTO:+0100
TZNAME:CET
DTSTART:20261025T010000
END:STANDARD
END:VTIMEZONE
BEGIN:VEVENT
DTSTART;TZID=Europe/Rome:20250304T180000
DTEND;TZID=Europe/Rome:20250304T190000
DTSTAMP:20260423T083103
CREATED:20250227T100213Z
LAST-MODIFIED:20250227T100213Z
UID:7556-1741111200-1741114800@www.ilcastellodinovara.it
SUMMARY:Circolo dei Lettori: Scrittrici difficili
DESCRIPTION:Scrittrici difficili\n\n\nMary Flannery  O’Connor\, la scrittrice impavida\ncon Romana Petri \na partire da La ragazza di Savannah (Mondadori)\nNata in Georgia nel 1925 e morta a 39 anni\, quando si ammalò di lupus eritematoso sistemico continuò a scrivere ogni giorno. Aveva un destino da signorina ben educata del Sud\, e invece la ragazza di Savannah diventò scrittrice impavida che con le sue storie crude e spietate ha ribaltato i luoghi comuni.\nnell’ambito di Voci di donna \n  \nIngresso libero fino a esaurimento posti \nCon la Carta Io leggo di Più puoi prenotare il tuo posto\, nelle prime file: scrivi a info.novara@circololettori.it
URL:https://www.ilcastellodinovara.it/event/circolo-dei-lettori-scrittrici-difficili/
LOCATION:Sala Sibilla Aleramo – Circolo dei Lettori\, Castello di Novara - PIAZZA MARTIRI DELLA LIBERTA' 3\, NOVARA\, NO\, 28100\, Italia
CATEGORIES:Circolo dei Lettori,Evento,Sala Sibilla Aleramo
ATTACH;FMTTYPE=image/png:https://www.ilcastellodinovara.it/wp-content/uploads/2025/02/Mary-Flannery-OConnor-la-scrittrice-impavida-16-9-per-sito-1600x900-1.png
END:VEVENT
END:VCALENDAR