BEGIN:VCALENDAR
VERSION:2.0
PRODID:-//Il Castello di Novara - ECPv6.15.20//NONSGML v1.0//EN
CALSCALE:GREGORIAN
METHOD:PUBLISH
X-ORIGINAL-URL:https://www.ilcastellodinovara.it
X-WR-CALDESC:Eventi per Il Castello di Novara
REFRESH-INTERVAL;VALUE=DURATION:PT1H
X-Robots-Tag:noindex
X-PUBLISHED-TTL:PT1H
BEGIN:VTIMEZONE
TZID:Europe/Rome
BEGIN:DAYLIGHT
TZOFFSETFROM:+0100
TZOFFSETTO:+0200
TZNAME:CEST
DTSTART:20240331T010000
END:DAYLIGHT
BEGIN:STANDARD
TZOFFSETFROM:+0200
TZOFFSETTO:+0100
TZNAME:CET
DTSTART:20241027T010000
END:STANDARD
BEGIN:DAYLIGHT
TZOFFSETFROM:+0100
TZOFFSETTO:+0200
TZNAME:CEST
DTSTART:20250330T010000
END:DAYLIGHT
BEGIN:STANDARD
TZOFFSETFROM:+0200
TZOFFSETTO:+0100
TZNAME:CET
DTSTART:20251026T010000
END:STANDARD
BEGIN:DAYLIGHT
TZOFFSETFROM:+0100
TZOFFSETTO:+0200
TZNAME:CEST
DTSTART:20260329T010000
END:DAYLIGHT
BEGIN:STANDARD
TZOFFSETFROM:+0200
TZOFFSETTO:+0100
TZNAME:CET
DTSTART:20261025T010000
END:STANDARD
END:VTIMEZONE
BEGIN:VEVENT
DTSTART;TZID=Europe/Rome:20250306T180000
DTEND;TZID=Europe/Rome:20250306T190000
DTSTAMP:20260423T072151
CREATED:20250227T100807Z
LAST-MODIFIED:20250227T100807Z
UID:7560-1741284000-1741287600@www.ilcastellodinovara.it
SUMMARY:Circolo dei Lettori: La famiglia americana
DESCRIPTION:La famiglia americana\n\n\nRevolutionary Road con Fabrizio Coppola \nFrank e April cercano di sfuggire alla realtà americana del secondo dopoguerra\, ma i loro sogni si infrangono contro la vita quotidiana. Quello di Richard Yates è un romanzo sulla crisi del conformismo\, su illusioni e difficoltà della middle class\, che fu di ispirazione per autori come Carver\, Wolff e Ford. \n  \nIngresso libero fino a esaurimento posti \nCon la Carta Io leggo di Più puoi prenotare il tuo posto\, nelle prime file: scrivi a info.novara@circololettori.it
URL:https://www.ilcastellodinovara.it/event/circolo-dei-lettori-la-famiglia-americana/
LOCATION:Sala Sibilla Aleramo – Circolo dei Lettori\, Castello di Novara - PIAZZA MARTIRI DELLA LIBERTA' 3\, NOVARA\, NO\, 28100\, Italia
CATEGORIES:Circolo dei Lettori,Evento,Sala Sibilla Aleramo
ATTACH;FMTTYPE=image/png:https://www.ilcastellodinovara.it/wp-content/uploads/2025/02/Revolutionary-Road-La-famiglia-americana-16-9-per-sito-1600x900-1.png
END:VEVENT
END:VCALENDAR