BEGIN:VCALENDAR
VERSION:2.0
PRODID:-//Il Castello di Novara - ECPv6.15.20//NONSGML v1.0//EN
CALSCALE:GREGORIAN
METHOD:PUBLISH
X-WR-CALNAME:Il Castello di Novara
X-ORIGINAL-URL:https://www.ilcastellodinovara.it
X-WR-CALDESC:Eventi per Il Castello di Novara
REFRESH-INTERVAL;VALUE=DURATION:PT1H
X-Robots-Tag:noindex
X-PUBLISHED-TTL:PT1H
BEGIN:VTIMEZONE
TZID:Europe/Rome
BEGIN:DAYLIGHT
TZOFFSETFROM:+0100
TZOFFSETTO:+0200
TZNAME:CEST
DTSTART:20240331T010000
END:DAYLIGHT
BEGIN:STANDARD
TZOFFSETFROM:+0200
TZOFFSETTO:+0100
TZNAME:CET
DTSTART:20241027T010000
END:STANDARD
BEGIN:DAYLIGHT
TZOFFSETFROM:+0100
TZOFFSETTO:+0200
TZNAME:CEST
DTSTART:20250330T010000
END:DAYLIGHT
BEGIN:STANDARD
TZOFFSETFROM:+0200
TZOFFSETTO:+0100
TZNAME:CET
DTSTART:20251026T010000
END:STANDARD
BEGIN:DAYLIGHT
TZOFFSETFROM:+0100
TZOFFSETTO:+0200
TZNAME:CEST
DTSTART:20260329T010000
END:DAYLIGHT
BEGIN:STANDARD
TZOFFSETFROM:+0200
TZOFFSETTO:+0100
TZNAME:CET
DTSTART:20261025T010000
END:STANDARD
END:VTIMEZONE
BEGIN:VEVENT
DTSTART;TZID=Europe/Rome:20250313T180000
DTEND;TZID=Europe/Rome:20250313T190000
DTSTAMP:20260423T102600
CREATED:20250227T103259Z
LAST-MODIFIED:20250227T103259Z
UID:7585-1741888800-1741892400@www.ilcastellodinovara.it
SUMMARY:Circolo dei Lettori: Pellizza\, pittore paesista
DESCRIPTION:Pellizza\, pittore paesista\n\n\ncon Aurora Scotti Tosini \nL’incontro è nell’ambito delle iniziative collaterali alla mostra Paesaggi. Realtà Impressione Simbolo. Da Migliara a Pellizza da Volpedo (al Castello di Novara fino al 6/04): più di 70 opere fanno luce sull’evoluzione della pittura di paesaggio tra Piemonte e Lombardia dal 1820 al primo decennio del Novecento. \nin collaborazione con Mets – Percorsi d’Arte \n  \nIngresso libero fino a esaurimento posti \nCon la Carta Io leggo di Più puoi prenotare il tuo posto\, nelle prime file: scrivi a info.novara@circololettori.it
URL:https://www.ilcastellodinovara.it/event/circolo-dei-lettori-pellizza-pittore-paesista/
LOCATION:Sala delle Vetrate – 1 Piano\, PIAZZA MARTIRI DELLA LIBERTA' 3\, NOVARA\, PIEMONTE\, 28100\, Italia
CATEGORIES:Circolo dei Lettori,Evento,Sala delle Vetrate - Primo Piano
ATTACH;FMTTYPE=image/jpeg:https://www.ilcastellodinovara.it/wp-content/uploads/2025/02/Pellizza-pittore-paesista-16-9-per-sito-1600x900-1.jpg
END:VEVENT
END:VCALENDAR