BEGIN:VCALENDAR
VERSION:2.0
PRODID:-//Il Castello di Novara - ECPv6.15.20//NONSGML v1.0//EN
CALSCALE:GREGORIAN
METHOD:PUBLISH
X-WR-CALNAME:Il Castello di Novara
X-ORIGINAL-URL:https://www.ilcastellodinovara.it
X-WR-CALDESC:Eventi per Il Castello di Novara
REFRESH-INTERVAL;VALUE=DURATION:PT1H
X-Robots-Tag:noindex
X-PUBLISHED-TTL:PT1H
BEGIN:VTIMEZONE
TZID:Europe/Rome
BEGIN:DAYLIGHT
TZOFFSETFROM:+0100
TZOFFSETTO:+0200
TZNAME:CEST
DTSTART:20240331T010000
END:DAYLIGHT
BEGIN:STANDARD
TZOFFSETFROM:+0200
TZOFFSETTO:+0100
TZNAME:CET
DTSTART:20241027T010000
END:STANDARD
BEGIN:DAYLIGHT
TZOFFSETFROM:+0100
TZOFFSETTO:+0200
TZNAME:CEST
DTSTART:20250330T010000
END:DAYLIGHT
BEGIN:STANDARD
TZOFFSETFROM:+0200
TZOFFSETTO:+0100
TZNAME:CET
DTSTART:20251026T010000
END:STANDARD
BEGIN:DAYLIGHT
TZOFFSETFROM:+0100
TZOFFSETTO:+0200
TZNAME:CEST
DTSTART:20260329T010000
END:DAYLIGHT
BEGIN:STANDARD
TZOFFSETFROM:+0200
TZOFFSETTO:+0100
TZNAME:CET
DTSTART:20261025T010000
END:STANDARD
END:VTIMEZONE
BEGIN:VEVENT
DTSTART;TZID=Europe/Rome:20250316T110000
DTEND;TZID=Europe/Rome:20250316T130000
DTSTAMP:20260423T102608
CREATED:20250227T104438Z
LAST-MODIFIED:20250227T104438Z
UID:7597-1742122800-1742130000@www.ilcastellodinovara.it
SUMMARY:Circolo dei Lettori: Il tempo di Christopher Nolan
DESCRIPTION:Il tempo di Christopher Nolan\n\n\ncon Roberto Gallaurese \nCon Nolan il tempo non scorre mai allo stesso modo: accelera\, rallenta\, si ferma\, scorre al contrario e trascina le storie in territori tanto affascinanti quanto impervi. Il regista di\, tra gli altri capolavori\, Interstellar\, Oppenheimer\, Memento e Dunkirk\, non ha paura di coniugare ambizioni artistiche e commerciali\, come pochi altri nel cinema contemporaneo. \nnell’ambito di Matinée \n  \nIngresso libero fino a esaurimento posti \nCon la Carta Io leggo di Più puoi prenotare il tuo posto\, nelle prime file: scrivi a info.novara@circololettori.it
URL:https://www.ilcastellodinovara.it/event/circolo-dei-lettori-il-tempo-di-christopher-nolan/
LOCATION:Sala Sibilla Aleramo – Circolo dei Lettori\, Castello di Novara - PIAZZA MARTIRI DELLA LIBERTA' 3\, NOVARA\, NO\, 28100\, Italia
CATEGORIES:Circolo dei Lettori,Evento,Sala Sibilla Aleramo
ATTACH;FMTTYPE=image/jpeg:https://www.ilcastellodinovara.it/wp-content/uploads/2025/02/Il-tempo-di-Christopher-Nolan-16-9-per-sito-1600x900-1.jpg
END:VEVENT
BEGIN:VEVENT
DTSTART;TZID=Europe/Rome:20250316T180000
DTEND;TZID=Europe/Rome:20250316T190000
DTSTAMP:20260423T102608
CREATED:20250227T105027Z
LAST-MODIFIED:20250227T105027Z
UID:7601-1742148000-1742151600@www.ilcastellodinovara.it
SUMMARY:Circolo dei Lettori: Storia di un memorabile perdente
DESCRIPTION:Storia di un memorabile perdente\n\n\nUn eroe dimenticato \npresentazione del libro Solferino di e con Marco Scardigli\ncon Roberto Sbaratto \nNel 1848\, Luciano Manara si batté per l’Italia: giovane patriota milanese\, affronta sconfitte e battaglie\, fino alla morte a Roma. Il suo percorso\, raccontato dal fedele stalliere Italo\, esplora la lotta per la libertà\, amori\, dolori e sacrifici di chi credeva in una nazione che non riuscì a vedere. \n  \nIngresso libero fino a esaurimento posti \nCon la Carta Io leggo di Più puoi prenotare il tuo posto\, nelle prime file: scrivi a info.novara@circololettori.it
URL:https://www.ilcastellodinovara.it/event/circolo-dei-lettori-storia-di-un-memorabile-perdente/
LOCATION:Sala delle Mura – piano terra\, Castello di Novara - PIAZZA MARTIRI DELLA LIBERTA' 3\, NOVARA\, NO\, 28100\, Italia
CATEGORIES:Circolo dei Lettori,Evento,Sala delle Mura - Piano Terra
ATTACH;FMTTYPE=image/png:https://www.ilcastellodinovara.it/wp-content/uploads/2025/02/Marco-Scardigli-Storia-di-un-memorabile-perdente-16-9-per-sito-1600x900-1.png
END:VEVENT
END:VCALENDAR