BEGIN:VCALENDAR
VERSION:2.0
PRODID:-//Il Castello di Novara - ECPv6.15.20//NONSGML v1.0//EN
CALSCALE:GREGORIAN
METHOD:PUBLISH
X-ORIGINAL-URL:https://www.ilcastellodinovara.it
X-WR-CALDESC:Eventi per Il Castello di Novara
REFRESH-INTERVAL;VALUE=DURATION:PT1H
X-Robots-Tag:noindex
X-PUBLISHED-TTL:PT1H
BEGIN:VTIMEZONE
TZID:Europe/Rome
BEGIN:DAYLIGHT
TZOFFSETFROM:+0100
TZOFFSETTO:+0200
TZNAME:CEST
DTSTART:20240331T010000
END:DAYLIGHT
BEGIN:STANDARD
TZOFFSETFROM:+0200
TZOFFSETTO:+0100
TZNAME:CET
DTSTART:20241027T010000
END:STANDARD
BEGIN:DAYLIGHT
TZOFFSETFROM:+0100
TZOFFSETTO:+0200
TZNAME:CEST
DTSTART:20250330T010000
END:DAYLIGHT
BEGIN:STANDARD
TZOFFSETFROM:+0200
TZOFFSETTO:+0100
TZNAME:CET
DTSTART:20251026T010000
END:STANDARD
BEGIN:DAYLIGHT
TZOFFSETFROM:+0100
TZOFFSETTO:+0200
TZNAME:CEST
DTSTART:20260329T010000
END:DAYLIGHT
BEGIN:STANDARD
TZOFFSETFROM:+0200
TZOFFSETTO:+0100
TZNAME:CET
DTSTART:20261025T010000
END:STANDARD
END:VTIMEZONE
BEGIN:VEVENT
DTSTART;TZID=Europe/Rome:20250324T180000
DTEND;TZID=Europe/Rome:20250324T190000
DTSTAMP:20260423T070035
CREATED:20250227T111251Z
LAST-MODIFIED:20250227T111251Z
UID:7625-1742839200-1742842800@www.ilcastellodinovara.it
SUMMARY:Circolo dei Lettori: La polvere che respiri era una casa
DESCRIPTION:La polvere che respiri era una casa\n\n\nTra desideri e realtà \npresentazione del libro Bollati Boringhieri di e con Eleonora Daniel\ncon Serena Galasso \nUna giovane coppia si trova a fare i conti con la realtà: nonostante l’amore che li unisce\, avere un figlio si rivela più arduo di quanto immaginato. Il romanzo esplora la difficoltà di affrontare delusioni e incertezze\, e offre uno sguardo realistico sulla lotta per creare una vita.\nnell’ambito di Voci di donna \n  \nIngresso libero fino a esaurimento posti \nCon la Carta Io leggo di Più puoi prenotare il tuo posto\, nelle prime file: scrivi a info.novara@circololettori.it
URL:https://www.ilcastellodinovara.it/event/circolo-dei-lettori-la-polvere-che-respiri-era-una-casa/
LOCATION:Sala Sibilla Aleramo – Circolo dei Lettori\, Castello di Novara - PIAZZA MARTIRI DELLA LIBERTA' 3\, NOVARA\, NO\, 28100\, Italia
CATEGORIES:Circolo dei Lettori,Evento,Sala Sibilla Aleramo
ATTACH;FMTTYPE=image/png:https://www.ilcastellodinovara.it/wp-content/uploads/2025/02/Eleonora-Daniel-La-polvere-che-respiri-era-una-casa-16-9-per-sito-1600x900-1.png
END:VEVENT
END:VCALENDAR