BEGIN:VCALENDAR
VERSION:2.0
PRODID:-//Il Castello di Novara - ECPv6.15.20//NONSGML v1.0//EN
CALSCALE:GREGORIAN
METHOD:PUBLISH
X-ORIGINAL-URL:https://www.ilcastellodinovara.it
X-WR-CALDESC:Eventi per Il Castello di Novara
REFRESH-INTERVAL;VALUE=DURATION:PT1H
X-Robots-Tag:noindex
X-PUBLISHED-TTL:PT1H
BEGIN:VTIMEZONE
TZID:Europe/Rome
BEGIN:DAYLIGHT
TZOFFSETFROM:+0100
TZOFFSETTO:+0200
TZNAME:CEST
DTSTART:20240331T010000
END:DAYLIGHT
BEGIN:STANDARD
TZOFFSETFROM:+0200
TZOFFSETTO:+0100
TZNAME:CET
DTSTART:20241027T010000
END:STANDARD
BEGIN:DAYLIGHT
TZOFFSETFROM:+0100
TZOFFSETTO:+0200
TZNAME:CEST
DTSTART:20250330T010000
END:DAYLIGHT
BEGIN:STANDARD
TZOFFSETFROM:+0200
TZOFFSETTO:+0100
TZNAME:CET
DTSTART:20251026T010000
END:STANDARD
BEGIN:DAYLIGHT
TZOFFSETFROM:+0100
TZOFFSETTO:+0200
TZNAME:CEST
DTSTART:20260329T010000
END:DAYLIGHT
BEGIN:STANDARD
TZOFFSETFROM:+0200
TZOFFSETTO:+0100
TZNAME:CET
DTSTART:20261025T010000
END:STANDARD
END:VTIMEZONE
BEGIN:VEVENT
DTSTART;TZID=Europe/Rome:20250329T100000
DTEND;TZID=Europe/Rome:20250329T120000
DTSTAMP:20260423T071240
CREATED:20250227T112709Z
LAST-MODIFIED:20250227T112709Z
UID:7645-1743242400-1743249600@www.ilcastellodinovara.it
SUMMARY:Circolo dei Lettori: Oltre le parole\, vicino al cuore
DESCRIPTION:Oltre le parole\, vicino al cuore\n\n\nUna favola di speranza \npresentazione del libro Leucotea di e con Federica Minuti\ncon Giulia Negri\n \nIn una casa di campagna\, un ragno e due topolini vivono sereni finché l’arrivo di tre umani sconvolge il loro mondo. La storia\, parlando di amicizia\, bullismo e disturbi alimentari\, invita a riflettere sull’importanza dell’ascolto\, dell’amore e del coraggio di affrontare la vita.\nin collaborazione con Assessorato Pari Opportunità e Gentilezza  \nIngresso libero fino a esaurimento posti \nCon la Carta Io leggo di Più puoi prenotare il tuo posto\, nelle prime file: scrivi a info.novara@circololettori.it
URL:https://www.ilcastellodinovara.it/event/circolo-dei-lettori-oltre-le-parole-vicino-al-cuore/
LOCATION:Sala Sibilla Aleramo – Circolo dei Lettori\, Castello di Novara - PIAZZA MARTIRI DELLA LIBERTA' 3\, NOVARA\, NO\, 28100\, Italia
CATEGORIES:Circolo dei Lettori,Evento,Sala Sibilla Aleramo
ATTACH;FMTTYPE=image/png:https://www.ilcastellodinovara.it/wp-content/uploads/2025/02/Federica-Minuti-Oltre-le-parole-vicino-al-cuore-16-9-per-sito-1600x900-1.png
END:VEVENT
BEGIN:VEVENT
DTSTART;TZID=Europe/Rome:20250329T163000
DTEND;TZID=Europe/Rome:20250329T173000
DTSTAMP:20260423T071240
CREATED:20250227T112945Z
LAST-MODIFIED:20250227T112945Z
UID:7649-1743265800-1743269400@www.ilcastellodinovara.it
SUMMARY:Circolo dei Lettori: Flora Alloctona
DESCRIPTION:Flora Alloctona\n\n\ncon Mariano Rognoni e Federico Ricci \nUn incontro sulle specie vegetali aliene\, giunte nel novarese grazie al trasporto\, volontario o accidentale\, da parte dell’uomo.\nin collaborazione con FAI Novara \n  \nIngresso libero fino a esaurimento posti \nCon la Carta Io leggo di Più puoi prenotare il tuo posto\, nelle prime file: scrivi a info.novara@circololettori.it
URL:https://www.ilcastellodinovara.it/event/circolo-dei-lettori-flora-alloctona/
LOCATION:Sala Sibilla Aleramo – Circolo dei Lettori\, Castello di Novara - PIAZZA MARTIRI DELLA LIBERTA' 3\, NOVARA\, NO\, 28100\, Italia
CATEGORIES:Circolo dei Lettori,Evento,Sala Sibilla Aleramo
ATTACH;FMTTYPE=image/png:https://www.ilcastellodinovara.it/wp-content/uploads/2025/02/Flora-Alloctona-16-9-per-sito-1600x900-1.png
END:VEVENT
END:VCALENDAR