BEGIN:VCALENDAR
VERSION:2.0
PRODID:-//Il Castello di Novara - ECPv6.15.20//NONSGML v1.0//EN
CALSCALE:GREGORIAN
METHOD:PUBLISH
X-ORIGINAL-URL:https://www.ilcastellodinovara.it
X-WR-CALDESC:Eventi per Il Castello di Novara
REFRESH-INTERVAL;VALUE=DURATION:PT1H
X-Robots-Tag:noindex
X-PUBLISHED-TTL:PT1H
BEGIN:VTIMEZONE
TZID:Europe/Rome
BEGIN:DAYLIGHT
TZOFFSETFROM:+0100
TZOFFSETTO:+0200
TZNAME:CEST
DTSTART:20220327T010000
END:DAYLIGHT
BEGIN:STANDARD
TZOFFSETFROM:+0200
TZOFFSETTO:+0100
TZNAME:CET
DTSTART:20221030T010000
END:STANDARD
BEGIN:DAYLIGHT
TZOFFSETFROM:+0100
TZOFFSETTO:+0200
TZNAME:CEST
DTSTART:20230326T010000
END:DAYLIGHT
BEGIN:STANDARD
TZOFFSETFROM:+0200
TZOFFSETTO:+0100
TZNAME:CET
DTSTART:20231029T010000
END:STANDARD
BEGIN:DAYLIGHT
TZOFFSETFROM:+0100
TZOFFSETTO:+0200
TZNAME:CEST
DTSTART:20240331T010000
END:DAYLIGHT
BEGIN:STANDARD
TZOFFSETFROM:+0200
TZOFFSETTO:+0100
TZNAME:CET
DTSTART:20241027T010000
END:STANDARD
BEGIN:DAYLIGHT
TZOFFSETFROM:+0100
TZOFFSETTO:+0200
TZNAME:CEST
DTSTART:20250330T010000
END:DAYLIGHT
BEGIN:STANDARD
TZOFFSETFROM:+0200
TZOFFSETTO:+0100
TZNAME:CET
DTSTART:20251026T010000
END:STANDARD
END:VTIMEZONE
BEGIN:VEVENT
DTSTART;TZID=Europe/Rome:20231219T000000
DTEND;TZID=Europe/Rome:20241227T233000
DTSTAMP:20260422T073448
CREATED:20231215T120254Z
LAST-MODIFIED:20240826T104606Z
UID:5101-1702944000-1735342200@www.ilcastellodinovara.it
SUMMARY:Il Castello Svelato - caccia al tesoro
DESCRIPTION:Cerca anche tu il leggendario Cavallo d’Oro di Leonardo da Vinci nascosto nel Castello di Novara\, partecipando alla caccia al tesoro “Il Castello Svelato”. Per cominciare l’avventura acquista il biglietto online e vieni al Castello di Novara con i tuoi amici.\nChissà che proprio tu non riesca dove tanti hanno fallito: trasformare in realtà un mito! \nDotatevi di telefonino ed entusiasmo da esploratori e scoprite il Castello con le sue mille storie grazie alla prima avventura phygital del Castello di Novara! \nSituato nel cuore della città\, da fortezza militare negli ultimi anni il Castello si è trasformato in un importante centro di aggregazione\, un polo culturale capace di ospitare molteplici ed eterogenei eventi conservando frammenti della sua storia. \nE’ proprio questa storia che vuole essere svelata attraverso una caccia al tesoro phygital: mappe\, enigmi\, immagini guideranno i giocatori alla scoperta di vicende storiche\, curiosità e luoghi ancora inaccessibili\, alla ricerca del “nostro” tesoro. \nPer iniziare l’avventura bastano pochi semplici passaggi: acquista il tuo biglietto tramite vivaticket\, riceverai una mail di conferma ed il tuo biglietto elettronico\, dal giorno successivo ( dopo 24 h dall’acquisto del biglietto) potrai venire in Castello ed attivare il gioco inquadrando con il tuo smartphone il QR che troverai all’ingresso e digitando il codice di attivazione presente sul tuo biglietto (si tratta del codice alfa numerico:  CA: XXXXXXXXXX) \nInizia l’avventura… buon divertimento! \ncon il sostegno della Fondazione Compagnia San Paolo 
URL:https://www.ilcastellodinovara.it/event/il-castello-svelato-caccia-al-tesoro/
LOCATION:Corte maggiore
CATEGORIES:Evento,Phygital
ATTACH;FMTTYPE=image/jpeg:https://www.ilcastellodinovara.it/wp-content/uploads/2023/12/dem-640x480-1.jpg
END:VEVENT
BEGIN:VEVENT
DTSTART;TZID=Europe/Rome:20241004T193000
DTEND;TZID=Europe/Rome:20241005T233000
DTSTAMP:20260422T073448
CREATED:20241002T101408Z
LAST-MODIFIED:20241002T102049Z
UID:6917-1728070200-1728171000@www.ilcastellodinovara.it
SUMMARY:Degusto 2024
DESCRIPTION:Evento gastronomico che da diciassette anni promuove le eccellenze del territorio e che anche per l’edizione 2024 ha scelto come cornice il Castello di Novara.\nNelle due serate otto chef tra stellati ed emergenti del territorio si alterneranno nella preparazione dei piatti che saranno abbinati ai vini del Consorzio Tutela Nebbioli Alto Piemonte.\n\n\nEcco i loro nomi:\n\n\nRICCARDO BASSETTI Il Porticciolo Hotel – Ristorante La Tavola di Laveno Mombello\nMARTA GRASSI Chef Ristorante Tantris di Novara\nAGNESE LOSS Osteria contemporanea di Gattinara\nCHRISTIAN MILONE Trattoria Zappatori di Pinerolo\nANDREA MONESI Locanda di Orta di Orta San Giulio\n\n\nFRANCESCO MORANO Ristorante Pinocchio di Borgomanero\nANDREA PENSA Adhoc Restaurant di Domodossola\nTANO SIMONATO Tano passami l’olio di Milano\n\n\n\n\n\n\n\nL’evento è organizzato da Confcommercio Alto Piemonte Associazione Commercianti e sostenuto dalla Camera di Commercio Monte Rosa Laghi Alto Piemonte
URL:https://www.ilcastellodinovara.it/event/degusto-2024/
LOCATION:Sala delle Colonne – piano terra\, Castello di Novara - PIAZZA MARTIRI DELLA LIBERTA' 3\, NOVARA\, NO\, 28100\, Italia
CATEGORIES:Evento,Sala delle Colonne -Piano Terra
ATTACH;FMTTYPE=image/jpeg:https://www.ilcastellodinovara.it/wp-content/uploads/2024/10/WEB_Degusto.jpg
END:VEVENT
BEGIN:VEVENT
DTSTART;TZID=Europe/Rome:20241017T093000
DTEND;TZID=Europe/Rome:20241017T123000
DTSTAMP:20260422T073448
CREATED:20241016T151707Z
LAST-MODIFIED:20241016T151707Z
UID:6941-1729157400-1729168200@www.ilcastellodinovara.it
SUMMARY:Un patto di giustizia e correttezza
DESCRIPTION:Benessere organizzativo\, prevenzione e contrasto alle molestie e violenze nel mondo del lavoro saranno i temi trattati durante l’evento organizzato da API Novara\, VCO\, Vercelli e Valsesia con la partecipazione di CIGL CISL UIL SPRESAL ITL INAIL e tecnici della sicurezza. \n 
URL:https://www.ilcastellodinovara.it/event/un-patto-di-giustizia-e-correttezza/
LOCATION:Sala delle Vetrate – 1 Piano\, PIAZZA MARTIRI DELLA LIBERTA' 3\, NOVARA\, PIEMONTE\, 28100\, Italia
CATEGORIES:Evento,Sala delle Vetrate - Primo Piano
ATTACH;FMTTYPE=image/jpeg:https://www.ilcastellodinovara.it/wp-content/uploads/2024/10/web_orizzontale_Castello-2-scaled.jpg
END:VEVENT
BEGIN:VEVENT
DTSTART;TZID=Europe/Rome:20241021T090000
DTEND;TZID=Europe/Rome:20241021T130000
DTSTAMP:20260422T073448
CREATED:20241016T153038Z
LAST-MODIFIED:20241017T101152Z
UID:6949-1729501200-1729515600@www.ilcastellodinovara.it
SUMMARY:A scuola di sussidiarietà: Laboratori di co-programmazione e co-progettazione
DESCRIPTION:Una serie di innovazioni giuridiche\, amministrative e nelle prassi\, relative ai servizi di pubblica utilità\, ha dato impulso alla pratica dell’amministrazione condivisa\, prevista e disciplinata dal Codice del Terzo settore (d.lgs. n.117/2017).\nI cambiamenti riguardano la nuova normativa sui contratti pubblici (d.lgs. n.36/2023)\, ispirata dalla sentenza della Corte Costituzionale 131/2020 sulla sussidiarietà orizzontale; la gestione dei servizi pubblici locali a rilevanza economica (d.lgs. n.201/2022); l’emanazione di leggi regionali e regolamenti comunali inerenti al rapporto fra amministrazione pubblica ed enti del Terzo settore e\, non ultime\, le prassi che si stanno diffondendo.\nCST ETS Novara VCO\, Fondazione Sussidiarietà\, ANCI Piemonte con la collaborazione del Comune di Novara e del Comune di Borgomanero hanno organizzato questo percorso formativo che offre conoscenze\, competenze\, momenti di dialogo\, di condivisione e di laboratorio\, rivolti ad amministratori e funzionari pubblici e a operatori del Terzo settore.\nParticolare attenzione verrà data all’applicazione delle nuove regole introdotte; alle diverse scelte gestionali a disposizione degli enti locali; alle fasi implicate nella co-programmazione e co-\nprogettazione dei servizi e alle modalità per gestirle. \n  \nQui di seguito il link per il programma completo: https://www.ciesseti.eu/sites/default/files/Scuola%20di%20amministrazione%20condivisa%20Novara.pdf
URL:https://www.ilcastellodinovara.it/event/a-scuola-di-sussidiarieta-laboratori-di-co-programmazione-e-co-progettazione/
LOCATION:Sala delle Vetrate – 1 Piano\, PIAZZA MARTIRI DELLA LIBERTA' 3\, NOVARA\, PIEMONTE\, 28100\, Italia
CATEGORIES:Evento,Sala delle Vetrate - Primo Piano
ATTACH;FMTTYPE=image/jpeg:https://www.ilcastellodinovara.it/wp-content/uploads/2024/10/16_9_Castello-scaled.jpg
END:VEVENT
BEGIN:VEVENT
DTSTART;TZID=Europe/Rome:20241025T090000
DTEND;TZID=Europe/Rome:20241025T180000
DTSTAMP:20260422T073448
CREATED:20241011T074936Z
LAST-MODIFIED:20241011T075042Z
UID:6932-1729846800-1729879200@www.ilcastellodinovara.it
SUMMARY:INNOVA Blockchain\, Green Tech e A.I.  for business
DESCRIPTION:Torna al Castello di Novara il prossimo venerdì 25 ottobre INNOVA\, il contenitore divulgativo proposto da CNA Piemonte Nord insieme a Staff Millennium.\nInnova si propone come una intera giornata di riferimento per le aziende desiderose di esplorare le opportunità offerte da tecnologie all’avanguardia. Quest’anno\, accanto alla tematica della blockchain e della tracciabilità certificata di filiera verrà approfondita la tematica dell’intelligenza artificiale applicata nel marketing e nella produzione per rendere le aziende più performanti ed efficaci. Saranno proposte esperienze sulla realtà virtuale e sul metaverso\, casi studio che mostrano come migliorare attraverso questi strumenti la gestione delle imprese e la possibilità di partecipare a workshop formativi. \nPer partecipare è necessaria l’iscrizione dal sito businessinnova.it\, l’iscrizione ai workshop tematici deve essere effettuata cliccando nella sezione dedicata.\nLink al programma completo https://businessinnova.it/programma/innova-2024.pdf \n  \nL’evento\, che si svolge con il contributo della Camera di Commercio Alto Piemonte Monte Rosa e Laghi e il patrocinio del Comune di Novara.
URL:https://www.ilcastellodinovara.it/event/innova-blockchain-green-tech-e-a-i-for-business/
LOCATION:Castello di Novara\, Piazza Martiri della Libertà\, 3\, Novara\, Novara\, 28100\, Italia
CATEGORIES:Evento,Sala delle Colonne -Piano Terra,Sala delle Mura - Piano Terra,Sala delle Vetrate - Primo Piano,Sala Sibilla Aleramo
ATTACH;FMTTYPE=image/png:https://www.ilcastellodinovara.it/wp-content/uploads/2024/10/banner-innova-.png
END:VEVENT
BEGIN:VEVENT
DTSTART;TZID=Europe/Rome:20241028T090000
DTEND;TZID=Europe/Rome:20241028T180000
DTSTAMP:20260422T073448
CREATED:20241016T153333Z
LAST-MODIFIED:20241017T101121Z
UID:6957-1730106000-1730138400@www.ilcastellodinovara.it
SUMMARY:A scuola di sussidiarietà: Laboratori di co-programmazione e co-progettazione
DESCRIPTION:Una serie di innovazioni giuridiche\, amministrative e nelle prassi\, relative ai servizi di pubblica utilità\, ha dato impulso alla pratica dell’amministrazione condivisa\, prevista e disciplinata dal Codice del Terzo settore (d.lgs. n.117/2017).\nI cambiamenti riguardano la nuova normativa sui contratti pubblici (d.lgs. n.36/2023)\, ispirata dalla sentenza della Corte Costituzionale 131/2020 sulla sussidiarietà orizzontale; la gestione dei servizi pubblici locali a rilevanza economica (d.lgs. n.201/2022); l’emanazione di leggi regionali e regolamenti comunali inerenti al rapporto fra amministrazione pubblica ed enti del Terzo settore e\, non ultime\, le prassi che si stanno diffondendo.\nCST ETS Novara VCO\, Fondazione Sussidiarietà\, ANCI Piemonte con la collaborazione del Comune di Novara e del Comune di Borgomanero hanno organizzato questo percorso formativo che offre conoscenze\, competenze\, momenti di dialogo\, di condivisione e di laboratorio\, rivolti ad amministratori e funzionari pubblici e a operatori del Terzo settore.\nParticolare attenzione verrà data all’applicazione delle nuove regole introdotte; alle diverse scelte gestionali a disposizione degli enti locali; alle fasi implicate nella co-programmazione e co-\nprogettazione dei servizi e alle modalità per gestirle. \n  \nQui di seguito il link per il programma completo: https://www.ciesseti.eu/sites/default/files/Scuola%20di%20amministrazione%20condivisa%20Novara.pdf
URL:https://www.ilcastellodinovara.it/event/a-scuola-di-sussidiarieta-laboratori-di-co-programmazione-e-co-progettazione-2/
LOCATION:Sala delle Vetrate – 1 Piano\, PIAZZA MARTIRI DELLA LIBERTA' 3\, NOVARA\, PIEMONTE\, 28100\, Italia
CATEGORIES:Evento,Sala delle Vetrate - Primo Piano
ATTACH;FMTTYPE=image/jpeg:https://www.ilcastellodinovara.it/wp-content/uploads/2024/10/16_9_Castello-scaled.jpg
END:VEVENT
END:VCALENDAR