BEGIN:VCALENDAR
VERSION:2.0
PRODID:-//Il Castello di Novara - ECPv6.15.17//NONSGML v1.0//EN
CALSCALE:GREGORIAN
METHOD:PUBLISH
X-WR-CALNAME:Il Castello di Novara
X-ORIGINAL-URL:https://www.ilcastellodinovara.it
X-WR-CALDESC:Eventi per Il Castello di Novara
REFRESH-INTERVAL;VALUE=DURATION:PT1H
X-Robots-Tag:noindex
X-PUBLISHED-TTL:PT1H
BEGIN:VTIMEZONE
TZID:Europe/Rome
BEGIN:DAYLIGHT
TZOFFSETFROM:+0100
TZOFFSETTO:+0200
TZNAME:CEST
DTSTART:20220327T010000
END:DAYLIGHT
BEGIN:STANDARD
TZOFFSETFROM:+0200
TZOFFSETTO:+0100
TZNAME:CET
DTSTART:20221030T010000
END:STANDARD
BEGIN:DAYLIGHT
TZOFFSETFROM:+0100
TZOFFSETTO:+0200
TZNAME:CEST
DTSTART:20230326T010000
END:DAYLIGHT
BEGIN:STANDARD
TZOFFSETFROM:+0200
TZOFFSETTO:+0100
TZNAME:CET
DTSTART:20231029T010000
END:STANDARD
BEGIN:DAYLIGHT
TZOFFSETFROM:+0100
TZOFFSETTO:+0200
TZNAME:CEST
DTSTART:20240331T010000
END:DAYLIGHT
BEGIN:STANDARD
TZOFFSETFROM:+0200
TZOFFSETTO:+0100
TZNAME:CET
DTSTART:20241027T010000
END:STANDARD
BEGIN:DAYLIGHT
TZOFFSETFROM:+0100
TZOFFSETTO:+0200
TZNAME:CEST
DTSTART:20250330T010000
END:DAYLIGHT
BEGIN:STANDARD
TZOFFSETFROM:+0200
TZOFFSETTO:+0100
TZNAME:CET
DTSTART:20251026T010000
END:STANDARD
END:VTIMEZONE
BEGIN:VEVENT
DTSTART;TZID=Europe/Rome:20231219T000000
DTEND;TZID=Europe/Rome:20241227T233000
DTSTAMP:20260421T153522
CREATED:20231215T120254Z
LAST-MODIFIED:20240826T104606Z
UID:5101-1702944000-1735342200@www.ilcastellodinovara.it
SUMMARY:Il Castello Svelato - caccia al tesoro
DESCRIPTION:Cerca anche tu il leggendario Cavallo d’Oro di Leonardo da Vinci nascosto nel Castello di Novara\, partecipando alla caccia al tesoro “Il Castello Svelato”. Per cominciare l’avventura acquista il biglietto online e vieni al Castello di Novara con i tuoi amici.\nChissà che proprio tu non riesca dove tanti hanno fallito: trasformare in realtà un mito! \nDotatevi di telefonino ed entusiasmo da esploratori e scoprite il Castello con le sue mille storie grazie alla prima avventura phygital del Castello di Novara! \nSituato nel cuore della città\, da fortezza militare negli ultimi anni il Castello si è trasformato in un importante centro di aggregazione\, un polo culturale capace di ospitare molteplici ed eterogenei eventi conservando frammenti della sua storia. \nE’ proprio questa storia che vuole essere svelata attraverso una caccia al tesoro phygital: mappe\, enigmi\, immagini guideranno i giocatori alla scoperta di vicende storiche\, curiosità e luoghi ancora inaccessibili\, alla ricerca del “nostro” tesoro. \nPer iniziare l’avventura bastano pochi semplici passaggi: acquista il tuo biglietto tramite vivaticket\, riceverai una mail di conferma ed il tuo biglietto elettronico\, dal giorno successivo ( dopo 24 h dall’acquisto del biglietto) potrai venire in Castello ed attivare il gioco inquadrando con il tuo smartphone il QR che troverai all’ingresso e digitando il codice di attivazione presente sul tuo biglietto (si tratta del codice alfa numerico:  CA: XXXXXXXXXX) \nInizia l’avventura… buon divertimento! \ncon il sostegno della Fondazione Compagnia San Paolo 
URL:https://www.ilcastellodinovara.it/event/il-castello-svelato-caccia-al-tesoro/
LOCATION:Corte maggiore
CATEGORIES:Evento,Phygital
ATTACH;FMTTYPE=image/jpeg:https://www.ilcastellodinovara.it/wp-content/uploads/2023/12/dem-640x480-1.jpg
END:VEVENT
BEGIN:VEVENT
DTSTART;TZID=Europe/Rome:20241111T090000
DTEND;TZID=Europe/Rome:20241111T180000
DTSTAMP:20260421T153522
CREATED:20241016T153719Z
LAST-MODIFIED:20241017T101000Z
UID:6959-1731315600-1731348000@www.ilcastellodinovara.it
SUMMARY:A scuola di sussidiarietà: Laboratori di co-programmazione e co-progettazione
DESCRIPTION:Una serie di innovazioni giuridiche\, amministrative e nelle prassi\, relative ai servizi di pubblica utilità\, ha dato impulso alla pratica dell’amministrazione condivisa\, prevista e disciplinata dal Codice del Terzo settore (d.lgs. n.117/2017).\nI cambiamenti riguardano la nuova normativa sui contratti pubblici (d.lgs. n.36/2023)\, ispirata dalla sentenza della Corte Costituzionale 131/2020 sulla sussidiarietà orizzontale; la gestione dei servizi pubblici locali a rilevanza economica (d.lgs. n.201/2022); l’emanazione di leggi regionali e regolamenti comunali inerenti al rapporto fra amministrazione pubblica ed enti del Terzo settore e\, non ultime\, le prassi che si stanno diffondendo.\nCST ETS Novara VCO\, Fondazione Sussidiarietà\, ANCI Piemonte con la collaborazione del Comune di Novara e del Comune di Borgomanero hanno organizzato questo percorso formativo che offre conoscenze\, competenze\, momenti di dialogo\, di condivisione e di laboratorio\, rivolti ad amministratori e funzionari pubblici e a operatori del Terzo settore.\nParticolare attenzione verrà data all’applicazione delle nuove regole introdotte; alle diverse scelte gestionali a disposizione degli enti locali; alle fasi implicate nella co-programmazione e co-\nprogettazione dei servizi e alle modalità per gestirle. \nQui di seguito il link per il programma completo: https://www.ciesseti.eu/sites/default/files/Scuola%20di%20amministrazione%20condivisa%20Novara.pdf
URL:https://www.ilcastellodinovara.it/event/a-scuola-di-sussidiarieta-laboratori-di-co-programmazione-e-co-progettazione-3/
LOCATION:Sala delle Vetrate – 1 Piano\, PIAZZA MARTIRI DELLA LIBERTA' 3\, NOVARA\, PIEMONTE\, 28100\, Italia
CATEGORIES:Evento,Sala delle Vetrate - Primo Piano
ATTACH;FMTTYPE=image/jpeg:https://www.ilcastellodinovara.it/wp-content/uploads/2024/10/16_9_Castello-scaled.jpg
END:VEVENT
BEGIN:VEVENT
DTSTART;TZID=Europe/Rome:20241111T180000
DTEND;TZID=Europe/Rome:20241111T190000
DTSTAMP:20260421T153522
CREATED:20241111T143431Z
LAST-MODIFIED:20241111T143431Z
UID:7026-1731348000-1731351600@www.ilcastellodinovara.it
SUMMARY:Non solo Artemisia
DESCRIPTION:Non solo Artemisia\n\n\ncon Susanna Borlandelli \nin collaborazione con Viva Vittoria Novara e Liceo Classico Carlo Alberto di Novara
URL:https://www.ilcastellodinovara.it/event/non-solo-artemisia/
LOCATION:Sala Sibilla Aleramo – Circolo dei Lettori\, Castello di Novara - PIAZZA MARTIRI DELLA LIBERTA' 3\, NOVARA\, NO\, 28100\, Italia
CATEGORIES:Circolo dei Lettori,Evento,Sala Sibilla Aleramo
ATTACH;FMTTYPE=image/jpeg:https://www.ilcastellodinovara.it/wp-content/uploads/2024/11/Non-solo-Artemisia-16-9-per-sito-1600x900-1.jpg
END:VEVENT
BEGIN:VEVENT
DTSTART;TZID=Europe/Rome:20241112T180000
DTEND;TZID=Europe/Rome:20241112T193000
DTSTAMP:20260421T153522
CREATED:20241111T144411Z
LAST-MODIFIED:20241111T144512Z
UID:7030-1731434400-1731439800@www.ilcastellodinovara.it
SUMMARY:Agamennone e Davide Segre
DESCRIPTION:Agamennone e Davide Segre\n\n\nL’affermazione della forza e l’illusione del potere in tutte le sue forme con Augusto Ferrari \nSecondo appuntamento dell’esplorazione fra pensieri\, passioni ed emozioni che attraversano la condizione umana di ogni tempo\, a partire da un confronto di dialogo e lettura fra La Storia di Elsa Morante (pubblicato 50 anni fa) e l’Iliade di Omero. \nscopri tutti gli appuntamenti qui \n  \n📌 abbonamento 4 appuntamenti € 20\,00 \n👀 con la Carta Io leggo di Più è gratuito
URL:https://www.ilcastellodinovara.it/event/agamennone-e-davide-segre/
LOCATION:Sala delle Mura – piano terra\, Castello di Novara - PIAZZA MARTIRI DELLA LIBERTA' 3\, NOVARA\, NO\, 28100\, Italia
CATEGORIES:Circolo dei Lettori,Evento,Sala delle Mura - Piano Terra
ATTACH;FMTTYPE=image/jpeg:https://www.ilcastellodinovara.it/wp-content/uploads/2024/11/Fra-La-Storia-di-Elsa-Morante-e-lIliade-di-Omero-16-9-per-sito-1600x900-1.jpg
END:VEVENT
BEGIN:VEVENT
DTSTART;TZID=Europe/Rome:20241113T180000
DTEND;TZID=Europe/Rome:20241113T193000
DTSTAMP:20260421T153522
CREATED:20241111T144855Z
LAST-MODIFIED:20241111T144855Z
UID:7034-1731520800-1731526200@www.ilcastellodinovara.it
SUMMARY:Io sono un bandito
DESCRIPTION:Io sono un bandito\n\n\nUna storia irripetibile\, a suo modo straordinaria \npresentazione del libro Milieu di e con Pancrazio Chiruzzi con Alessandro Battaglino e Mauro Anetrini \nCriminale indipendente e meticoloso\, Pancrazio Chiruzzi è uno dei più noti rapinatori della storia recente. A Torino negli anni Settanta idea e realizza colpi milionari ai danni di banche e uffici postali senza spargere sangue. A partire da una conversazione con Rosella Simone\, “Pan” racconta la sua vita di bandito. \n  \n📌 ingresso libero fino a esaurimento posti \n👀 con la Carta Io leggo di Più puoi prenotare il tuo posto\, nelle prime file: scrivi a info.novara@circololettori.it
URL:https://www.ilcastellodinovara.it/event/io-sono-un-bandito/
LOCATION:Sala Sibilla Aleramo – Circolo dei Lettori\, Castello di Novara - PIAZZA MARTIRI DELLA LIBERTA' 3\, NOVARA\, NO\, 28100\, Italia
CATEGORIES:Circolo dei Lettori,Evento,Sala Sibilla Aleramo
ATTACH;FMTTYPE=image/jpeg:https://www.ilcastellodinovara.it/wp-content/uploads/2024/11/Pancrazio-Chiruzzi-Io-sono-un-bandito-16-9-1600x900-1.jpg
END:VEVENT
BEGIN:VEVENT
DTSTART;TZID=Europe/Rome:20241115T170000
DTEND;TZID=Europe/Rome:20241115T193000
DTSTAMP:20260421T153522
CREATED:20241111T113119Z
LAST-MODIFIED:20241111T115347Z
UID:7001-1731690000-1731699000@www.ilcastellodinovara.it
SUMMARY:La vita non si beve!
DESCRIPTION:Il convegno dal titolo “La vita non si beve! Non berti la vita. Se bevi non guidare!” è organizzato dalla Prefettura e dal Comune di Novara\, con la Polizia di Stato\, con l’Arma dei Carabinieri\, con il 118 e con l’AIVIS\, in occasione della Giornata mondiale delle vittime della strada. \n“La vita non si beve è un progetto avviato tre anni fa nelle scuole\, coinvolgendo più di 5000 studenti degli istituti superiori della Provincia – spiega il Prefetto Francesco Garsia – Vorremmo raggiungere\, con l’iniziativa del 15 novembre\, anche gli utenti della strada fra i 20 ed i 50 anni\, statisticamente più interessati da un tema complesso come quello della guida sotto l’effetto di alcool e stupefacenti\, affrontato in questo caso con un approccio multidisciplinare e sinergico tra le varie istituzioni coinvolte”. \n“Momenti di sensibilizzazione di questo genere – aggiunge l’assessore alla Sicurezza e Polizia Locale del Comune di Novara Luca Piantanida – sono fondamentali per trasmettere le giuste informazioni\, ma soprattutto per far riflettere sui rischi e pericoli che la guida comporta in caso di trasgressioni. Ed è molto positivo che questo incontro si rivolga anche alle fasce dei giovani attraverso un confronto con le forze dell’ordine nelle scuole. Proprio con gli studenti stiamo portando avanti un progetto per capire quali siano le loro debolezze dalla loro voce e dalle loro parole. L’alcolismo e la diffusione delle droghe sta diventando un problema serio e precoce rispetto al passato. La sensibilizzazione\, dunque\, non può che aiutare in un percorso di educazione\, così come il controllo del territorio puntualmente effettuato dalle nostre forze di polizia e dai carabinieri”. \nDurante l’incontro si affronteranno i seguenti temi:\n– accertamento e conseguenze della guida in stato di ebbrezza\n– mobilità elettrica\n– chiamate di soccorso al NUE\n– cause dell’incidentalità: la mancanza di consapevolezza\n– testimonianze dei familiari delle vittime della strada \nPer partecipare scrivere a cultura@comune.novara.it
URL:https://www.ilcastellodinovara.it/event/la-vita-non-si-beve-non-berti-la-vita-se-bevi-non-guidare/
LOCATION:Sala delle Mura – piano terra\, Castello di Novara - PIAZZA MARTIRI DELLA LIBERTA' 3\, NOVARA\, NO\, 28100\, Italia
CATEGORIES:Evento,Sala delle Mura - Piano Terra
ATTACH;FMTTYPE=image/jpeg:https://www.ilcastellodinovara.it/wp-content/uploads/2024/11/CdN_web_contributi-sito_evento-convegno_a-novara_taglio-1.jpg
END:VEVENT
BEGIN:VEVENT
DTSTART;TZID=Europe/Rome:20241116T180000
DTEND;TZID=Europe/Rome:20241116T193000
DTSTAMP:20260421T153522
CREATED:20241111T145134Z
LAST-MODIFIED:20241111T150802Z
UID:7040-1731780000-1731785400@www.ilcastellodinovara.it
SUMMARY:E voleremo sopra la paura
DESCRIPTION:E voleremo sopra la paura\n\n\nScegliere a occhi chiusi la felicità \npresentazione del libro DeAgostini di e con Valentina Mastroianni\ncon Francesca Debernardi\n \nFederico\, Ale\, Terry e Cece hanno dovuto imparare che di fronte a un dolore forte\, per preservare l’amore\, è necessario riconoscere i propri limiti e chiedere aiuto. Tra farmaci sperimentali\, terapie fuori protocollo\, gioie e incertezze\, ciò che succede a Cesare e a chi gli sta intorno continua a richiedere molto coraggio. \n  \n📌 ingresso libero fino a esaurimento posti \n👀 con la Carta Io leggo di Più puoi prenotare il tuo posto\, nelle prime file: scrivi a info.novara@circololettori.it
URL:https://www.ilcastellodinovara.it/event/e-voleremo-sopra-la-paura/
LOCATION:Sala Sibilla Aleramo – Circolo dei Lettori\, Castello di Novara - PIAZZA MARTIRI DELLA LIBERTA' 3\, NOVARA\, NO\, 28100\, Italia
CATEGORIES:Circolo dei Lettori,Evento,Sala Sibilla Aleramo
ATTACH;FMTTYPE=image/jpeg:https://www.ilcastellodinovara.it/wp-content/uploads/2024/11/Valentina-Mastroianni-E-voleremo-sopra-la-paura-16-9-1600x900-1.jpg
END:VEVENT
BEGIN:VEVENT
DTSTART;TZID=Europe/Rome:20241117T110000
DTEND;TZID=Europe/Rome:20241117T130000
DTSTAMP:20260421T153522
CREATED:20241111T150056Z
LAST-MODIFIED:20241114T081636Z
UID:7044-1731841200-1731848400@www.ilcastellodinovara.it
SUMMARY:Dialoghi con la scienza: Uomo e natura nell'Antropocene
DESCRIPTION:Uomo e natura nell’Antropocene\n\n\nDialoghi con la scienza\ncon Paolo Vineis\ncon Annalisa Chiocchetti\nCambiamenti climatici\, surriscaldamento\, riduzione delle risorse idriche\, aumento delle malattie trasmesse\, allevamenti intensivi\, contaminanti ambientali\, disuguaglianze sociali e “cibo spazzatura”:  porvi rimedio è essenziale orientarsi verso la ricerca di nessi causali legati in generale al rapporto tra ambiente e salute.\nin collaborazione con Dipartimento di Scienze della salute di UPO\, Europrogetti\, Consorzio Ibis e MEPA Srl \nscopri tutti gli appuntamenti qui \n\n📌 prenotazione obbligatoria qui
URL:https://www.ilcastellodinovara.it/event/dialoghi-con-la-scienza-uomo-e-natura-nellantropocene/
LOCATION:Sala delle Mura – piano terra\, Castello di Novara - PIAZZA MARTIRI DELLA LIBERTA' 3\, NOVARA\, NO\, 28100\, Italia
CATEGORIES:Circolo dei Lettori,Evento,Sala delle Mura - Piano Terra
ATTACH;FMTTYPE=image/jpeg:https://www.ilcastellodinovara.it/wp-content/uploads/2024/11/generica-Dialoghi-con-la-scienza-2024-16-9-per-sito-1600x900-1.jpg
END:VEVENT
BEGIN:VEVENT
DTSTART;TZID=Europe/Rome:20241118T180000
DTEND;TZID=Europe/Rome:20241118T193000
DTSTAMP:20260421T153522
CREATED:20241111T151240Z
LAST-MODIFIED:20241111T151240Z
UID:7049-1731952800-1731958200@www.ilcastellodinovara.it
SUMMARY:Non solo Pandora
DESCRIPTION:Non solo Pandora\n\n\ncon Fiammetta Fazio \nin collaborazione con Viva Vittoria Novara e Liceo Classico Carlo Alberto di Novara \n  \n📌 ingresso libero fino a esaurimento posti \n👀 con la Carta Io leggo di Più puoi prenotare il tuo posto\, nelle prime file: scrivi a info.novara@circololettori.it
URL:https://www.ilcastellodinovara.it/event/non-solo-pandora/
LOCATION:Sala Sibilla Aleramo – Circolo dei Lettori\, Castello di Novara - PIAZZA MARTIRI DELLA LIBERTA' 3\, NOVARA\, NO\, 28100\, Italia
CATEGORIES:Circolo dei Lettori,Evento,Sala Sibilla Aleramo
ATTACH;FMTTYPE=image/jpeg:https://www.ilcastellodinovara.it/wp-content/uploads/2024/11/Non-solo-Artemisia-16-9-per-sito-1600x900-1.jpg
END:VEVENT
BEGIN:VEVENT
DTSTART;TZID=Europe/Rome:20241119T180000
DTEND;TZID=Europe/Rome:20241119T193000
DTSTAMP:20260421T153522
CREATED:20241111T151457Z
LAST-MODIFIED:20241111T151457Z
UID:7051-1732039200-1732044600@www.ilcastellodinovara.it
SUMMARY:Andromaca\, Ecuba\, Ida
DESCRIPTION:Andromaca\, Ecuba\, Ida\n\n\nLa pietas delle donne-madri e la compassione come via alla giustizia \ncon Augusto Ferrari \nTerzo appuntamento dell’esplorazione fra pensieri\, passioni ed emozioni che attraversano la condizione umana di ogni tempo\, a partire da un confronto di dialogo e lettura fra La Storia di Elsa Morante (pubblicato 50 anni fa) e l’Iliade di Omero. \nscopri tutti gli appuntamenti qui \n  \n📌 abbonamento 4 appuntamenti € 20\,00\n👀 con la Carta Io leggo di Più è gratuito
URL:https://www.ilcastellodinovara.it/event/andromaca-ecuba-ida/
LOCATION:Sala delle mura
CATEGORIES:Circolo dei Lettori,Evento,Sala delle Mura - Piano Terra
ATTACH;FMTTYPE=image/jpeg:https://www.ilcastellodinovara.it/wp-content/uploads/2024/11/Fra-La-Storia-di-Elsa-Morante-e-lIliade-di-Omero-16-9-per-sito-1600x900-2.jpg
END:VEVENT
BEGIN:VEVENT
DTSTART;TZID=Europe/Rome:20241120T180000
DTEND;TZID=Europe/Rome:20241120T193000
DTSTAMP:20260421T153522
CREATED:20241111T151828Z
LAST-MODIFIED:20241111T151853Z
UID:7053-1732125600-1732131000@www.ilcastellodinovara.it
SUMMARY:Anna e il cioccolato
DESCRIPTION:Anna e il cioccolato\n\n\nStoria di vita e di industria \npresentazione del libro Gribaudo di e con Giuseppe Braida \nIl volume narra la straordinaria vicenda di un uomo comune\, Giuseppe Braida\, che\, unendo passione e dedizione per il lavoro\, ha realizzato il suo sogno imprenditoriale sino a creare una delle aziende di maggior successo\, a livello in­ternazionale\, nel settore del cioccolato. \n  \n📌 ingresso libero fino a esaurimento posti \n👀 con la Carta Io leggo di Più puoi prenotare il tuo posto\, nelle prime file: scrivi a info.novara@circololettori.it
URL:https://www.ilcastellodinovara.it/event/anna-e-il-cioccolato/
LOCATION:Sala delle Mura – piano terra\, Castello di Novara - PIAZZA MARTIRI DELLA LIBERTA' 3\, NOVARA\, NO\, 28100\, Italia
CATEGORIES:Circolo dei Lettori,Evento,Sala delle Mura - Piano Terra
ATTACH;FMTTYPE=image/jpeg:https://www.ilcastellodinovara.it/wp-content/uploads/2024/11/Giuseppe-Braida-Anna-e-il-cioccolato-16-9-1600x900-1.jpg
END:VEVENT
BEGIN:VEVENT
DTSTART;TZID=Europe/Rome:20241121T180000
DTEND;TZID=Europe/Rome:20241121T193000
DTSTAMP:20260421T153522
CREATED:20241111T152441Z
LAST-MODIFIED:20241111T152441Z
UID:7057-1732212000-1732217400@www.ilcastellodinovara.it
SUMMARY:Il mago dell'aria
DESCRIPTION:Il mago dell’aria\n\n\nL’infanzia immaginaria di Philippe Petit \npresentazione del libro Mondadori di e con Mauro Garofalo con Alessandro Barbaglia\n \nIl 7 agosto 1974 Philippe Petit tende un cavo d’acciaio tra le Torri Gemelle. Sospeso a 417\,5 metri\, senza sistemi di sicurezza\, compie la traversata avanti e indietro per otto volte. Sotto di lui\, la città si sveglia\, alza la testa e spalanca gli occhi. L’immagine di quell’uomo è la dimostrazione che l’orizzonte dei sogni non deve avere limiti. \n  \n📌 ingresso libero fino a esaurimento posti \n👀 con la Carta Io leggo di Più puoi prenotare il tuo posto\, nelle prime file: scrivi a info.novara@circololettori.it
URL:https://www.ilcastellodinovara.it/event/il-mago-dellaria/
LOCATION:Sala Sibilla Aleramo – Circolo dei Lettori\, Castello di Novara - PIAZZA MARTIRI DELLA LIBERTA' 3\, NOVARA\, NO\, 28100\, Italia
CATEGORIES:Circolo dei Lettori,Evento,Sala Sibilla Aleramo
ATTACH;FMTTYPE=image/jpeg:https://www.ilcastellodinovara.it/wp-content/uploads/2024/11/Mauro-Garofalo-Il-mago-dellaria-16-9-1600x900-1.jpg
END:VEVENT
BEGIN:VEVENT
DTSTART;TZID=Europe/Rome:20241123T100000
DTEND;TZID=Europe/Rome:20241123T170000
DTSTAMP:20260421T153522
CREATED:20241111T152839Z
LAST-MODIFIED:20241111T152839Z
UID:7061-1732356000-1732381200@www.ilcastellodinovara.it
SUMMARY:Romance House
DESCRIPTION:Romance House\n\n\nIl nido delle bookloovers \na cura di e con Sofia Mazzoni (@littlereadersophia) \nAmi leggere ma non riesci a trovare qualcuno con cui condividere questa esperienza?\nRomance House è l’appuntamento perfetto per te! \nUn sabato al mese (h 10-17)\, dedicato al mondo del romance\, vieni al Circolo per leggere in compagnia\, partecipare al silent reading\, fare giochi letterari e attività a tema\, conoscere appassionati e appassionate come te\, e tanto tanto altro. \nPer una giornata in cui condividere (anche offline) la certezza che la lettura è un’attività individuale ma non di certo solitaria: ognuna e ognuno di noi può trovare tra le pagine un rifugio condiviso. \nprogramma\n> h 10 Benvenuti e benvenute!\n> h 10.20 Gioco letterario\n> h 11 Silent Reading\n> h 12.30 Pranzo al sacco\n> h 13.30 Attività libresca a tema\n> h 14.30 Silent Reading\n> h 16 Chiacchiere & Merenda con Violet Ren\n> h 17 Come è andata? \na seguire \nAppuntamento con Violet Ren che\, dopo aver partecipato alle attività del pomeriggio insieme alle book lovers\, firmerà le copie del suo Frutti della memoria (Garzanti)\, una delicata e appassionante storia che racchiude tutte quelle emozioni in grado di farci sorridere\, e\, perché no\, a volte commuovere. \n🕒 prossimo appuntamento: sabato 14 dicembre h 10-17 \n  \n📌ingresso gratuito con prenotazione obbligatoria scrivendo a info.novara@circololettori.it
URL:https://www.ilcastellodinovara.it/event/romance-house/
LOCATION:Sala Sibilla Aleramo – Circolo dei Lettori\, Castello di Novara - PIAZZA MARTIRI DELLA LIBERTA' 3\, NOVARA\, NO\, 28100\, Italia
CATEGORIES:Circolo dei Lettori,Evento,Sala Sibilla Aleramo
ATTACH;FMTTYPE=image/jpeg:https://www.ilcastellodinovara.it/wp-content/uploads/2024/11/Romance-House-16-9-per-sito-1600x900-1.jpg
END:VEVENT
BEGIN:VEVENT
DTSTART;TZID=Europe/Rome:20241124T110000
DTEND;TZID=Europe/Rome:20241124T133000
DTSTAMP:20260421T153522
CREATED:20241111T153140Z
LAST-MODIFIED:20241111T153140Z
UID:7065-1732446000-1732455000@www.ilcastellodinovara.it
SUMMARY:Dialoghi con la scienza: Intestino e cervello\, andata e ritorno
DESCRIPTION:Intestino e cervello\, andata e ritorno\n\n\nDialoghi con la scienza\ncon Maria Rescigno\ncon Barbara Azzimonti\nCome la ricerca sul microbiota intestinale sta rivoluzionando la prevenzione e la cura delle malattie\, da quelle neurologiche a quelle degenerative\, dai disturbi dell’umore a quelli alimentari.\nin collaborazione con Dipartimento di Scienze della salute di UPO\, Europrogetti\, Consorzio Ibis e MEPA Srl \nscopri tutti gli appuntamenti qui \n  \n📌 prenotazione obbligatoria qui 
URL:https://www.ilcastellodinovara.it/event/dialoghi-con-la-scienza-intestino-e-cervello-andata-e-ritorno/
LOCATION:Sala delle mura
CATEGORIES:Circolo dei Lettori,Evento,Sala delle Mura - Piano Terra
ATTACH;FMTTYPE=image/jpeg:https://www.ilcastellodinovara.it/wp-content/uploads/2024/11/generica-Dialoghi-con-la-scienza-2024-16-9-per-sito-1600x900-1.jpg
END:VEVENT
BEGIN:VEVENT
DTSTART;TZID=Europe/Rome:20241124T170000
DTEND;TZID=Europe/Rome:20241124T190000
DTSTAMP:20260421T153522
CREATED:20241119T084251Z
LAST-MODIFIED:20241119T084251Z
UID:7082-1732467600-1732474800@www.ilcastellodinovara.it
SUMMARY:Bitter! The Festival in red
DESCRIPTION:Fa tappa anche a Novara “Bìtter! The festival in red”\, il primo evento diffuso dedicato al mondo dei bitter. \nProgramma: \n\nore 17 show cooking con il Bitter Campari con lo chef Marta Grassi – evento gratuito\, prenotazione obbligatoria\nore 18 conferenza stampa a cura di Massimo Delzoppo\, giornalista e cultore di storia dell’enogastronomia “Gaspare Campari. Un inventore sotto la Cupola” – evento gratuito\n\n  \nPer informazioni e prenotazioni ATL Terre Dell’Alto Piemonte 0321394095 – infonovara@terrealtopiemonte.it \nPuoi conoscere tutto il programma\, cliccando qui
URL:https://www.ilcastellodinovara.it/event/bitter-the-festival-in-red/
LOCATION:Sala delle Mura – piano terra\, Castello di Novara - PIAZZA MARTIRI DELLA LIBERTA' 3\, NOVARA\, NO\, 28100\, Italia
CATEGORIES:Evento,Sala delle Mura - Piano Terra
ATTACH;FMTTYPE=image/jpeg:https://www.ilcastellodinovara.it/wp-content/uploads/2024/11/Grafica-x-Castello-1.jpg
ORGANIZER;CN="Atl Terre dell'Alto Piemonte - Novara":MAILTO:info@turismonovara.it
END:VEVENT
BEGIN:VEVENT
DTSTART;TZID=Europe/Rome:20241125T180000
DTEND;TZID=Europe/Rome:20241125T193000
DTSTAMP:20260421T153522
CREATED:20241111T153601Z
LAST-MODIFIED:20241113T091601Z
UID:7067-1732557600-1732563000@www.ilcastellodinovara.it
SUMMARY:Generazione alternativa 1991-1995
DESCRIPTION:Generazione alternativa 1991-1995\n\n\nCome la musica underground ha conquistato le classifiche \npresentazione del libro Rizzoli Lizard di e con Luca de Gennaro\ncon Federico Sacchi \nNei ‘90\, l’industria musicale affronta una rivoluzione inaspettata: il pop degli ‘80 vive un momento di crisi\, il grunge e l’hip hop emergono\, spostando il focus verso band come Nirvana e Pearl Jam. Il critico musicale\, voce di Radio Capital\, racconta la trasformazione di quel periodo\, dalle scene dei rave alle rivalità tra Blur e Oasis. \n  \n📌 ingresso libero fino a esaurimento posti \n👀 con la Carta Io leggo di Più puoi prenotare il tuo posto\, nelle prime file: scrivi a info.novara@circololettori.it
URL:https://www.ilcastellodinovara.it/event/generazione-alternativa-1991-1995/
LOCATION:Sala Sibilla Aleramo – Circolo dei Lettori\, Castello di Novara - PIAZZA MARTIRI DELLA LIBERTA' 3\, NOVARA\, NO\, 28100\, Italia
CATEGORIES:Circolo dei Lettori,Evento,Sala Sibilla Aleramo
ATTACH;FMTTYPE=image/jpeg:https://www.ilcastellodinovara.it/wp-content/uploads/2024/11/Luca-De-Gennaro-Generazione-alternativa-1991-1995-16-9-per-sito-1600x900-1.jpg
END:VEVENT
BEGIN:VEVENT
DTSTART;TZID=Europe/Rome:20241126T180000
DTEND;TZID=Europe/Rome:20241126T190000
DTSTAMP:20260421T153522
CREATED:20241111T153956Z
LAST-MODIFIED:20241111T153956Z
UID:7071-1732644000-1732647600@www.ilcastellodinovara.it
SUMMARY:Astianatte e Useppe
DESCRIPTION:Astianatte e Useppe\n\n\nIl mondo salvato dai “piccoli” \ncon Augusto Ferrari \nQuarto appuntamento dell’esplorazione fra pensieri\, passioni ed emozioni che attraversano la condizione umana di ogni tempo\, a partire da un confronto di dialogo e lettura fra La Storia di Elsa Morante (pubblicato 50 anni fa) e l’Iliade di Omero. \nscopri tutti gli appuntamenti qui \n  \n📌 abbonamento 4 appuntamenti € 20\,00\n👀 con la Carta Io leggo di Più è gratuito
URL:https://www.ilcastellodinovara.it/event/astianatte-e-useppe/
LOCATION:Sala delle Mura – piano terra\, Castello di Novara - PIAZZA MARTIRI DELLA LIBERTA' 3\, NOVARA\, NO\, 28100\, Italia
CATEGORIES:Circolo dei Lettori,Evento,Sala delle Mura - Piano Terra
ATTACH;FMTTYPE=image/jpeg:https://www.ilcastellodinovara.it/wp-content/uploads/2024/11/Fra-La-Storia-di-Elsa-Morante-e-lIliade-di-Omero-16-9-per-sito-1600x900-2.jpg
END:VEVENT
BEGIN:VEVENT
DTSTART;TZID=Europe/Rome:20241128T173000
DTEND;TZID=Europe/Rome:20241128T193000
DTSTAMP:20260421T153522
CREATED:20241121T163421Z
LAST-MODIFIED:20241121T163421Z
UID:7088-1732815000-1732822200@www.ilcastellodinovara.it
SUMMARY:Forma è sostanza
DESCRIPTION:Forma è sostanza. Le meraviglie della biologia strutturale \nCerimonia di apertura anno accademico 2024/2025 dell’Università della terza Età di Novara \ncon Menico Rizzi Rettore UPO \n 
URL:https://www.ilcastellodinovara.it/event/forma-e-sostanza/
LOCATION:Sala delle Vetrate – 1 Piano\, PIAZZA MARTIRI DELLA LIBERTA' 3\, NOVARA\, PIEMONTE\, 28100\, Italia
CATEGORIES:Evento,Sala delle Vetrate - Primo Piano
ATTACH;FMTTYPE=image/jpeg:https://www.ilcastellodinovara.it/wp-content/uploads/2024/11/2024-11_UTE-invito-1-scaled.jpg
END:VEVENT
BEGIN:VEVENT
DTSTART;TZID=Europe/Rome:20241129T180000
DTEND;TZID=Europe/Rome:20241129T190000
DTSTAMP:20260421T153522
CREATED:20241111T154303Z
LAST-MODIFIED:20241111T154344Z
UID:7073-1732903200-1732906800@www.ilcastellodinovara.it
SUMMARY:Mondi arabi
DESCRIPTION:Mondi arabi\n\n\nUna guida essenziale \npresentazione del libro Bompiani\ncon la coautrice Caterina Roggero e Anna Ida Russo \nUn viaggio attraverso la storia araba\, i nodi irrisolti\, la religione\, i movimenti sociali e politici\, la letteratura che sia una nuova porta di accesso ai mondi arabi per leggere il presente e guardare con speranza a un futuro in cui sia possibile una soluzione di terribili conflitti\, che riguardano tutti. \n  \n📌 ingresso libero fino a esaurimento posti \n👀 con la Carta Io leggo di Più puoi prenotare il tuo posto\, nelle prime file: scrivi a info.novara@circololettori.it
URL:https://www.ilcastellodinovara.it/event/mondi-arabi/
LOCATION:Sala Sibilla Aleramo – Circolo dei Lettori\, Castello di Novara - PIAZZA MARTIRI DELLA LIBERTA' 3\, NOVARA\, NO\, 28100\, Italia
CATEGORIES:Circolo dei Lettori,Evento,Sala Sibilla Aleramo
ATTACH;FMTTYPE=image/jpeg:https://www.ilcastellodinovara.it/wp-content/uploads/2024/11/Mondi-arabi-16-9-1600x900-1.jpg
END:VEVENT
END:VCALENDAR