BEGIN:VCALENDAR
VERSION:2.0
PRODID:-//Il Castello di Novara - ECPv6.15.17//NONSGML v1.0//EN
CALSCALE:GREGORIAN
METHOD:PUBLISH
X-ORIGINAL-URL:https://www.ilcastellodinovara.it
X-WR-CALDESC:Eventi per Il Castello di Novara
REFRESH-INTERVAL;VALUE=DURATION:PT1H
X-Robots-Tag:noindex
X-PUBLISHED-TTL:PT1H
BEGIN:VTIMEZONE
TZID:Europe/Rome
BEGIN:DAYLIGHT
TZOFFSETFROM:+0100
TZOFFSETTO:+0200
TZNAME:CEST
DTSTART:20240331T010000
END:DAYLIGHT
BEGIN:STANDARD
TZOFFSETFROM:+0200
TZOFFSETTO:+0100
TZNAME:CET
DTSTART:20241027T010000
END:STANDARD
BEGIN:DAYLIGHT
TZOFFSETFROM:+0100
TZOFFSETTO:+0200
TZNAME:CEST
DTSTART:20250330T010000
END:DAYLIGHT
BEGIN:STANDARD
TZOFFSETFROM:+0200
TZOFFSETTO:+0100
TZNAME:CET
DTSTART:20251026T010000
END:STANDARD
BEGIN:DAYLIGHT
TZOFFSETFROM:+0100
TZOFFSETTO:+0200
TZNAME:CEST
DTSTART:20260329T010000
END:DAYLIGHT
BEGIN:STANDARD
TZOFFSETFROM:+0200
TZOFFSETTO:+0100
TZNAME:CET
DTSTART:20261025T010000
END:STANDARD
END:VTIMEZONE
BEGIN:VEVENT
DTSTART;TZID=Europe/Rome:20250205T170000
DTEND;TZID=Europe/Rome:20250205T190000
DTSTAMP:20260419T231955
CREATED:20250123T091143Z
LAST-MODIFIED:20250123T091237Z
UID:7410-1738774800-1738782000@www.ilcastellodinovara.it
SUMMARY:La Stampa è con voi
DESCRIPTION:Protagonisti e storie del nostro territorio con le firme de La Stampa. \nAndrea Malaguti\, direttore La Stampa \nè lieto di invitarti all’appuntamento del giornale con la città. Mercoledì 5 febbraio · ore 17:00\nCastello di Novara · Sala delle Vetrate \nCON IL DIRETTORE SCOPRIREMO IL GIORNALE  IN EDICOLA “DOMANI”\, \nADDENTRANDOCI NEI SEGRETI DELLE SCELTE DELLA PRIMA PAGINA \nE NEI FATTI CHE DARANNO VITA AGLI ARTICOLI PIU’ INTERESSANTI \nSi prega di voler confermare la partecipazione scrivendo a:\neventi@gnn.it\nentro giovedì 30 gennaio \n  \n 
URL:https://www.ilcastellodinovara.it/event/la-stampa-e-con-voi-3/
LOCATION:Sala delle Vetrate – 1 Piano\, PIAZZA MARTIRI DELLA LIBERTA' 3\, NOVARA\, PIEMONTE\, 28100\, Italia
CATEGORIES:Evento
END:VEVENT
BEGIN:VEVENT
DTSTART;TZID=Europe/Rome:20250206T180000
DTEND;TZID=Europe/Rome:20250206T190000
DTSTAMP:20260419T231955
CREATED:20250131T084827Z
LAST-MODIFIED:20250131T085238Z
UID:7489-1738864800-1738868400@www.ilcastellodinovara.it
SUMMARY:Castello in parole e musica: Concerto di Flauti
DESCRIPTION:Negli spazi della Rocchetta del Castello giovedì 6 febbraio si terrà un suggestivo concerto a cura dell’orchestra barocca del Conservatorio “G.Cantelli”. \nL’occasione nasce dalla volontà della Fondazione Castello di proporre un calendario eventi  variegato che possa attirare  dai più piccoli  agli adulti e appassionati di musica e storia. \nDopo gli eventi di Natale dedicati ai più piccoli\, con il mese di febbraio invece inizia un calendario eventi “Castello in parole e musica”. Infatto  l’incontro sulla storia del Castello di Novara ( a cui seguiranno altri appuntamenti) nasce anche una collaborazione con il conservatorio G. Cantelli  per regalare alla cittadinanza momenti musicali  con una anche una guida all’ascolto dedicata. \nGiovedì  6 alle 18 vi sarà quindi il primo appuntamento con un Concerto di Flauti  con Luca Oberti al clavicembalo e Marco Scorticati al flauto dolce e direzione. \nMusiche di J.S. Bach e G.P. Telemann \n  \nIngresso libero fino ad esaurimento posti \n 
URL:https://www.ilcastellodinovara.it/event/castello-in-parole-e-musica-concerto-di-flauti/
LOCATION:Rocchetta
CATEGORIES:Evento
END:VEVENT
BEGIN:VEVENT
DTSTART;TZID=Europe/Rome:20250221T140000
DTEND;TZID=Europe/Rome:20250221T180000
DTSTAMP:20260419T231955
CREATED:20250219T140848Z
LAST-MODIFIED:20250219T140848Z
UID:7535-1740146400-1740160800@www.ilcastellodinovara.it
SUMMARY:IL CODICE DEGLI APPALTI PUBBLICI: Le novità del Decreto Correttivo e l’evoluzione della normativa
DESCRIPTION:IL CODICE DEGLI APPALTI PUBBLICI: Le novità del Decreto Correttivo e l’evoluzione della normativa \n  \nOrganizzato da: Collegio Costruttori UNIONEDILI API Novara\, VCO e Vercelli \nIn collaborazione con gli Ordini Professionali per il riconoscimento di n.3 crediti formativi: ORDINE DEGLI ARCHITETTI PIANIFICATORI PAESAGGISTI E CONSERVATORI delle province di Novara e Verbano-Cusio-Ossola; Collegio dei Geometri e dei Geometri Laureati della Provincia di Novara
URL:https://www.ilcastellodinovara.it/event/il-codice-degli-appalti-pubblici-le-novita-del-decreto-correttivo-e-levoluzione-della-normativa/
LOCATION:Sala delle Vetrate – 1 Piano\, PIAZZA MARTIRI DELLA LIBERTA' 3\, NOVARA\, PIEMONTE\, 28100\, Italia
CATEGORIES:Evento,Sala delle Vetrate - Primo Piano
ATTACH;FMTTYPE=application/pdf:https://www.ilcastellodinovara.it/wp-content/uploads/2025/02/Locandina-Evento-21-Febbraio-2025-1.pdf
ORGANIZER;CN="API Novara VCO e Vercelli":MAILTO:segreteria@apimpresa.it
END:VEVENT
BEGIN:VEVENT
DTSTART;TZID=Europe/Rome:20250222T170000
DTEND;TZID=Europe/Rome:20250222T183000
DTSTAMP:20260419T231955
CREATED:20250217T103648Z
LAST-MODIFIED:20250221T082358Z
UID:7522-1740243600-1740249000@www.ilcastellodinovara.it
SUMMARY:Ludovico Maria Sforza  con Maria Nadia Covini
DESCRIPTION:Maria Nadia Covini\, studiosa e ricercatrice\, ci racconta di Ludovico il Moro\, personaggio di primo piano nella politica e nella cultura del suo tempo \nNella prima biografia dedicata Ludovico Maria Sforza detto “il Moro” (1452-1508)  si racconta della sua scalata al potere dello Sforza\, la sua personalità e i suoi progetti in campo culturale e artistico sono all’origine dello splendore della corte milanese a fine Quattrocento. Da cadetto destinato a un profilo politico minore\, diventò il settimo duca di Milano grazie a una strategia abile\, paziente e talvolta spregiudicata\, rimuovendo insidie e ostacoli provenienti da molti avversari e nemici. Tra coloro che cercarono di chiudere la strada alle sue ambizioni\, l’ultimo e fatale fu Luigi di Orléans\, che nel 1495 lo contrastò in Lombardia e nel 1500\, diventato re di Francia\, lo sconfisse e lo relegò in una prigione presso Tours\, dove restò fino alla fine dei suoi giorni. \nCi racconterà delle vicende che lega la figura di Ludovico con la città di Novara e il Castello stesso così come degli altri castelli che appartenevano al Ducato di Milano \nLa relatrice  insegna Storia medievale all’Università degli Studi di Milano. Ha dedicato vari studi alle istituzioni del Rinascimento lombardo\, dai Visconti agli Sforza. Tra le sue più recenti pubblicazioni\, Potere\, ricchezza e distinzione a Milano nel Quattrocento. Nuove ricerche su Cicco Simonetta (2018); Donne\, emozioni e potere alla corte degli Sforza. Da Bianca Maria a Cecilia Gallerani (2012); «La balanza drita». Pratiche di governo\, leggi e ordinamenti nel ducato sforzesco (2007).
URL:https://www.ilcastellodinovara.it/event/ludovico-maria-sforza-con-maria-nadia-covini/
LOCATION:Sala delle Mura – piano terra\, Castello di Novara - PIAZZA MARTIRI DELLA LIBERTA' 3\, NOVARA\, NO\, 28100\, Italia
CATEGORIES:Evento,Sala delle Mura - Piano Terra
ATTACH;FMTTYPE=image/png:https://www.ilcastellodinovara.it/wp-content/uploads/2025/02/Ludovico-il-Moro_Covini.png
END:VEVENT
BEGIN:VEVENT
DTSTART;TZID=Europe/Rome:20250223T103000
DTEND;TZID=Europe/Rome:20250223T120000
DTSTAMP:20260419T231955
CREATED:20250213T105804Z
LAST-MODIFIED:20250213T110856Z
UID:7516-1740306600-1740312000@www.ilcastellodinovara.it
SUMMARY:Carnevale al Castello: gioco - laboratorio in maschera
DESCRIPTION:Domenica 23 febbraio\, alle ore 10:30\, nuovo appuntamento a cura del Club dei Piccoli lettori e della Fondazione Castello di Novara  per festeggiare Carnevale! \nUna sfida tra maschere della tradizione e costumi di oggi. Chi vincerà tra Spiderman e Arlecchino? Un gioco-laboratorio alla scoperta dei personaggi della Commedia dell’Arte e dei travestimenti moderni. \nEtà consigliata: dai 3 anni in su. Posti limitati. Prenotazione obbligatoria. Contributo euro 15.00 \nGrandi e piccoli possono partecipare in maschera! \nNovara | Castello – Sala della Rocchetta \n➡️ Per info e prenotazioni scrivi a contatti@ilclubdeipiccolilettori.it indicando nome\, cognome ed età del bambino o dei bambini partecipanti.
URL:https://www.ilcastellodinovara.it/event/carnevale-al-castello-gioco-laboratorio-in-maschera/
LOCATION:Rocchetta
CATEGORIES:Evento
END:VEVENT
END:VCALENDAR