BEGIN:VCALENDAR
VERSION:2.0
PRODID:-//Il Castello di Novara - ECPv6.15.17//NONSGML v1.0//EN
CALSCALE:GREGORIAN
METHOD:PUBLISH
X-WR-CALNAME:Il Castello di Novara
X-ORIGINAL-URL:https://www.ilcastellodinovara.it
X-WR-CALDESC:Eventi per Il Castello di Novara
REFRESH-INTERVAL;VALUE=DURATION:PT1H
X-Robots-Tag:noindex
X-PUBLISHED-TTL:PT1H
BEGIN:VTIMEZONE
TZID:Europe/Rome
BEGIN:DAYLIGHT
TZOFFSETFROM:+0100
TZOFFSETTO:+0200
TZNAME:CEST
DTSTART:20240331T010000
END:DAYLIGHT
BEGIN:STANDARD
TZOFFSETFROM:+0200
TZOFFSETTO:+0100
TZNAME:CET
DTSTART:20241027T010000
END:STANDARD
BEGIN:DAYLIGHT
TZOFFSETFROM:+0100
TZOFFSETTO:+0200
TZNAME:CEST
DTSTART:20250330T010000
END:DAYLIGHT
BEGIN:STANDARD
TZOFFSETFROM:+0200
TZOFFSETTO:+0100
TZNAME:CET
DTSTART:20251026T010000
END:STANDARD
BEGIN:DAYLIGHT
TZOFFSETFROM:+0100
TZOFFSETTO:+0200
TZNAME:CEST
DTSTART:20260329T010000
END:DAYLIGHT
BEGIN:STANDARD
TZOFFSETFROM:+0200
TZOFFSETTO:+0100
TZNAME:CET
DTSTART:20261025T010000
END:STANDARD
END:VTIMEZONE
BEGIN:VEVENT
DTSTART;TZID=Europe/Rome:20250114T180000
DTEND;TZID=Europe/Rome:20250114T193000
DTSTAMP:20260420T134053
CREATED:20250109T105921Z
LAST-MODIFIED:20250109T105921Z
UID:7332-1736877600-1736883000@www.ilcastellodinovara.it
SUMMARY:Circolo dei Lettori: Una nonna a Hong Kong
DESCRIPTION:Piccola guida emozionale per futuri viaggiatori\n\n\nPresentazione del libro Lampi di stampa di e con Maria Pia Nervini con Claudia Cominoli \nLa figlia espatria a Hong Kong e la mamma ormai nonna vola in Asia più volte\, prima\, durante e dopo la pandemia. In questi soggiorni prolungati esplora la città e scopre i luoghi del cuore del cosiddetto porto profumato. Ne risulta una guida personale e sentimentale per chi vuole scoprire la città.\n \nnell’ambito di Novara si racconta \n  \nIngresso libero fino a esaurimento posti \nCon la Carta Io leggo di Più puoi prenotare il tuo posto\, nelle prime file: scrivi a info.novara@circololettori.it
URL:https://www.ilcastellodinovara.it/event/circolo-dei-lettori-una-nonna-a-hong-kong/
LOCATION:Sala Sibilla Aleramo – Circolo dei Lettori\, Castello di Novara - PIAZZA MARTIRI DELLA LIBERTA' 3\, NOVARA\, NO\, 28100\, Italia
CATEGORIES:Circolo dei Lettori,Evento,Sala Sibilla Aleramo
ATTACH;FMTTYPE=image/jpeg:https://www.ilcastellodinovara.it/wp-content/uploads/2025/01/Maria-Pia-Nervini-Una-nonna-a-Hong-Kong-16-9-per-sito-1600x900-1.jpg
END:VEVENT
END:VCALENDAR