BEGIN:VCALENDAR
VERSION:2.0
PRODID:-//Il Castello di Novara - ECPv6.15.17//NONSGML v1.0//EN
CALSCALE:GREGORIAN
METHOD:PUBLISH
X-ORIGINAL-URL:https://www.ilcastellodinovara.it
X-WR-CALDESC:Eventi per Il Castello di Novara
REFRESH-INTERVAL;VALUE=DURATION:PT1H
X-Robots-Tag:noindex
X-PUBLISHED-TTL:PT1H
BEGIN:VTIMEZONE
TZID:Europe/Rome
BEGIN:DAYLIGHT
TZOFFSETFROM:+0100
TZOFFSETTO:+0200
TZNAME:CEST
DTSTART:20240331T010000
END:DAYLIGHT
BEGIN:STANDARD
TZOFFSETFROM:+0200
TZOFFSETTO:+0100
TZNAME:CET
DTSTART:20241027T010000
END:STANDARD
BEGIN:DAYLIGHT
TZOFFSETFROM:+0100
TZOFFSETTO:+0200
TZNAME:CEST
DTSTART:20250330T010000
END:DAYLIGHT
BEGIN:STANDARD
TZOFFSETFROM:+0200
TZOFFSETTO:+0100
TZNAME:CET
DTSTART:20251026T010000
END:STANDARD
BEGIN:DAYLIGHT
TZOFFSETFROM:+0100
TZOFFSETTO:+0200
TZNAME:CEST
DTSTART:20260329T010000
END:DAYLIGHT
BEGIN:STANDARD
TZOFFSETFROM:+0200
TZOFFSETTO:+0100
TZNAME:CET
DTSTART:20261025T010000
END:STANDARD
END:VTIMEZONE
BEGIN:VEVENT
DTSTART;TZID=Europe/Rome:20250115T180000
DTEND;TZID=Europe/Rome:20250115T193000
DTSTAMP:20260420T160420
CREATED:20250109T110621Z
LAST-MODIFIED:20250109T110621Z
UID:7337-1736964000-1736969400@www.ilcastellodinovara.it
SUMMARY:Circolo dei Lettori: A Roma non ci sono le montagne
DESCRIPTION:Comprendere e ricordare\n\n\npresentazione del libro Ponte alle Grazie di e con Ritanna Armeni con Barbara Cottavoz \nUno degli episodi più emblematici della Resistenza romana si è consumato in via Rasella\, in un breve e infinito pomeriggio di primavera. Passato e presente si sono intrecciati a chi si era preparato e a chi è stato sorpreso\, a chi è morto e a chi è sopravvissuto. E anche a chi\, sui corpi di 33 tedeschi uccisi\, ha firmato la condanna a morte di 335 italiani. \n  \nIngresso libero fino a esaurimento posti \nCon la Carta Io leggo di Più puoi prenotare il tuo posto\, nelle prime file: scrivi a info.novara@circololettori.it
URL:https://www.ilcastellodinovara.it/event/circolo-dei-lettori-a-roma-non-ci-sono-le-montagne/
LOCATION:Sala Sibilla Aleramo – Circolo dei Lettori\, Castello di Novara - PIAZZA MARTIRI DELLA LIBERTA' 3\, NOVARA\, NO\, 28100\, Italia
CATEGORIES:Circolo dei Lettori,Evento,Sala Sibilla Aleramo
ATTACH;FMTTYPE=image/jpeg:https://www.ilcastellodinovara.it/wp-content/uploads/2025/01/Ritanna-Armeni-A-Roma-non-ci-sono-le-montagne16-9-per-sito-1600x900-1.jpg
END:VEVENT
END:VCALENDAR