BEGIN:VCALENDAR
VERSION:2.0
PRODID:-//Il Castello di Novara - ECPv6.15.20//NONSGML v1.0//EN
CALSCALE:GREGORIAN
METHOD:PUBLISH
X-ORIGINAL-URL:https://www.ilcastellodinovara.it
X-WR-CALDESC:Eventi per Il Castello di Novara
REFRESH-INTERVAL;VALUE=DURATION:PT1H
X-Robots-Tag:noindex
X-PUBLISHED-TTL:PT1H
BEGIN:VTIMEZONE
TZID:Europe/Rome
BEGIN:DAYLIGHT
TZOFFSETFROM:+0100
TZOFFSETTO:+0200
TZNAME:CEST
DTSTART:20230326T010000
END:DAYLIGHT
BEGIN:STANDARD
TZOFFSETFROM:+0200
TZOFFSETTO:+0100
TZNAME:CET
DTSTART:20231029T010000
END:STANDARD
BEGIN:DAYLIGHT
TZOFFSETFROM:+0100
TZOFFSETTO:+0200
TZNAME:CEST
DTSTART:20240331T010000
END:DAYLIGHT
BEGIN:STANDARD
TZOFFSETFROM:+0200
TZOFFSETTO:+0100
TZNAME:CET
DTSTART:20241027T010000
END:STANDARD
BEGIN:DAYLIGHT
TZOFFSETFROM:+0100
TZOFFSETTO:+0200
TZNAME:CEST
DTSTART:20250330T010000
END:DAYLIGHT
BEGIN:STANDARD
TZOFFSETFROM:+0200
TZOFFSETTO:+0100
TZNAME:CET
DTSTART:20251026T010000
END:STANDARD
BEGIN:DAYLIGHT
TZOFFSETFROM:+0100
TZOFFSETTO:+0200
TZNAME:CEST
DTSTART:20260329T010000
END:DAYLIGHT
BEGIN:STANDARD
TZOFFSETFROM:+0200
TZOFFSETTO:+0100
TZNAME:CET
DTSTART:20261025T010000
END:STANDARD
END:VTIMEZONE
BEGIN:VEVENT
DTSTART;TZID=Europe/Rome:20240316T100000
DTEND;TZID=Europe/Rome:20240317T190000
DTSTAMP:20260423T005155
CREATED:20240301T105054Z
LAST-MODIFIED:20240311T135102Z
UID:5416-1710583200-1710702000@www.ilcastellodinovara.it
SUMMARY:Vetrina della Eccellenza Artigiana
DESCRIPTION:Sabato 16 e domenica 17 marzo torna la Vetrina dell’Eccellenza Artigiana\, l’iniziativa dedicata alle migliori produzioni artistiche e tipiche di qualità riconosciute con il prestigioso marchio “Piemonte Eccellenza Artigiana”. \nProtagoniste della manifestazione saranno le aziende artigiane dell’Alto Piemonte che presenteranno i prodotti di pregio di diversi settori di lavorazione\, dall’alimentare alla gioielleria\, dai metalli al legno\, senza dimenticare la tessitura\, l’abbigliamento e le altre attività artistiche e tipiche. \nLa mostra mercato\, ad ingresso libero\, sarà aperta al pubblico con orario continuato fino alle ore 20.00 di sabato e dalle ore 10.00 alle 19.00 di domenica 17 marzo\, presso il Castello Visconteo Sforzesco.
URL:https://www.ilcastellodinovara.it/event/vetrina-delleccellenza-artigiana/
LOCATION:Sala delle Vetrate – 1 Piano\, PIAZZA MARTIRI DELLA LIBERTA' 3\, NOVARA\, PIEMONTE\, 28100\, Italia
CATEGORIES:Fiera,Sala delle Vetrate - Primo Piano
ATTACH;FMTTYPE=image/png:https://www.ilcastellodinovara.it/wp-content/uploads/2024/03/VEA-promo-Castello-1-1-e1709300244399.png
END:VEVENT
BEGIN:VEVENT
DTSTART;TZID=Europe/Rome:20240322T100000
DTEND;TZID=Europe/Rome:20240324T190000
DTSTAMP:20260423T005155
CREATED:20240201T105809Z
LAST-MODIFIED:20240205T082709Z
UID:5283-1711101600-1711306800@www.ilcastellodinovara.it
SUMMARY:Fiorissimo 2024
DESCRIPTION:La mostra-mercato florovivaistica organizzata da Nova Eventi all’interno della Corte Maggiore del Castello di Novara è giunta alla sua settima edizione. \nAl suo interno troverete non solo diverse specie del mondo botanico esposte dai florovivaisti e collezionisti italiani più esperti\, ma anche attrezzature dedicate alla decorazione e cura del giardino\, così come un’area dedicata all’artigianato di alta qualità e ai prodotti naturali con la possibilità di partecipare a workshop\, conferenze o laboratori didattici a tema.
URL:https://www.ilcastellodinovara.it/event/fiorissimo-2024/
LOCATION:Corte maggiore
CATEGORIES:Fiera
ATTACH;FMTTYPE=image/jpeg:https://www.ilcastellodinovara.it/wp-content/uploads/2024/02/Fiorissimo_adv_condivisione-online_240126_portrait-scaled.jpg
ORGANIZER;CN="Nova Eventi":MAILTO:segreteria@sapeg.it
END:VEVENT
BEGIN:VEVENT
DTSTART;TZID=Europe/Rome:20250328T100000
DTEND;TZID=Europe/Rome:20250330T190000
DTSTAMP:20260423T005155
CREATED:20250325T143055Z
LAST-MODIFIED:20250325T143055Z
UID:7724-1743156000-1743361200@www.ilcastellodinovara.it
SUMMARY:Fiorissimo
DESCRIPTION:Fiorissimo: L’appuntamento annuale del florovivaismo\, tra fiori\, piante e giardinaggio \nTorna al Castello di Novara per l’8° anno consecutivo la manifestazione che celebra la passione per il mondo botanico e il settore florovivaistico. Il celebre evento evento\, nato dall’impegno di Nova Eventi per promuovere la bellezza della natura e la valorizzazione del mondo botanico\, si terrà dal 28 al 30 marzo 2025 e rappresenta un’occasione imperdibile per gli appassionati di florovivaismo\, giardinaggio e creatività. \nL’evento offre una varietà di attività\, tra cui laboratori creativi\, workshop pratici e conferenze\, pensate per arricchire l’esperienza di tutta la famiglia. Grazie alla rinnovata collaborazione con FAI\nDelegazione Novara\, i visitatori avranno l’opportunità di partecipare a visite guidate alla Cappella di San Giorgio\, mentre\, con il supporto di Kalatà\, sarà possibile scoprire la maestosità della Cupola di San Gaudenzio\, immergendosi nelle meraviglie artistiche e storiche della città di Novara.\nUn’occasione unica per esplorare il patrimonio culturale della città\, arricchendo l’esperienza con approfondimenti esclusivi.
URL:https://www.ilcastellodinovara.it/event/fiorissimo-2/
LOCATION:Corte maggiore
CATEGORIES:Corte Maggiore,Fiera,Mercato
ATTACH;FMTTYPE=image/png:https://www.ilcastellodinovara.it/wp-content/uploads/2025/03/Fiorissimo_web_contributi-social_evento_250212.png
ORGANIZER;CN="Nova Eventi":MAILTO:segreteria@sapeg.it
END:VEVENT
END:VCALENDAR