BEGIN:VCALENDAR
VERSION:2.0
PRODID:-//Il Castello di Novara - ECPv6.15.20//NONSGML v1.0//EN
CALSCALE:GREGORIAN
METHOD:PUBLISH
X-ORIGINAL-URL:https://www.ilcastellodinovara.it
X-WR-CALDESC:Eventi per Il Castello di Novara
REFRESH-INTERVAL;VALUE=DURATION:PT1H
X-Robots-Tag:noindex
X-PUBLISHED-TTL:PT1H
BEGIN:VTIMEZONE
TZID:Europe/Rome
BEGIN:DAYLIGHT
TZOFFSETFROM:+0100
TZOFFSETTO:+0200
TZNAME:CEST
DTSTART:20220327T010000
END:DAYLIGHT
BEGIN:STANDARD
TZOFFSETFROM:+0200
TZOFFSETTO:+0100
TZNAME:CET
DTSTART:20221030T010000
END:STANDARD
BEGIN:DAYLIGHT
TZOFFSETFROM:+0100
TZOFFSETTO:+0200
TZNAME:CEST
DTSTART:20230326T010000
END:DAYLIGHT
BEGIN:STANDARD
TZOFFSETFROM:+0200
TZOFFSETTO:+0100
TZNAME:CET
DTSTART:20231029T010000
END:STANDARD
BEGIN:DAYLIGHT
TZOFFSETFROM:+0100
TZOFFSETTO:+0200
TZNAME:CEST
DTSTART:20240331T010000
END:DAYLIGHT
BEGIN:STANDARD
TZOFFSETFROM:+0200
TZOFFSETTO:+0100
TZNAME:CET
DTSTART:20241027T010000
END:STANDARD
END:VTIMEZONE
BEGIN:VEVENT
DTSTART;TZID=Europe/Rome:20231017T170000
DTEND;TZID=Europe/Rome:20231024T180000
DTSTAMP:20260423T051722
CREATED:20231017T130854Z
LAST-MODIFIED:20231017T131008Z
UID:4947-1697562000-1698170400@www.ilcastellodinovara.it
SUMMARY:Tratti e ritratti - opere di Edmondo Poletti
DESCRIPTION:Sarà inaugurata alle 17 del prossimo 17 ottobre\, al castello di Novara\, la mostra “Tratti e ritratti”\, una mostra che vuole  riscoprire le opere e la figura di Edmondo Poletti\, uno degli artisti più particolari del nostro territorio. \n“Tratti e ritratti”\, a ingresso gratuito\, è visitabile fino al 24 ottobre 2023 al piano terra dalla Manica Moderna – Sala delle Colonne
URL:https://www.ilcastellodinovara.it/event/tratti-e-ritratti-opere-di-edmondo-poletti/
LOCATION:Sala delle Colonne – piano terra\, Castello di Novara - PIAZZA MARTIRI DELLA LIBERTA' 3\, NOVARA\, NO\, 28100\, Italia
CATEGORIES:Mostra
ATTACH;FMTTYPE=image/webp:https://www.ilcastellodinovara.it/wp-content/uploads/2023/10/edmondo-poletti.webp
END:VEVENT
END:VCALENDAR