BEGIN:VCALENDAR
VERSION:2.0
PRODID:-//Il Castello di Novara - ECPv6.15.20//NONSGML v1.0//EN
CALSCALE:GREGORIAN
METHOD:PUBLISH
X-ORIGINAL-URL:https://www.ilcastellodinovara.it
X-WR-CALDESC:Eventi per Il Castello di Novara
REFRESH-INTERVAL;VALUE=DURATION:PT1H
X-Robots-Tag:noindex
X-PUBLISHED-TTL:PT1H
BEGIN:VTIMEZONE
TZID:Europe/Rome
BEGIN:DAYLIGHT
TZOFFSETFROM:+0100
TZOFFSETTO:+0200
TZNAME:CEST
DTSTART:20230326T010000
END:DAYLIGHT
BEGIN:STANDARD
TZOFFSETFROM:+0200
TZOFFSETTO:+0100
TZNAME:CET
DTSTART:20231029T010000
END:STANDARD
BEGIN:DAYLIGHT
TZOFFSETFROM:+0100
TZOFFSETTO:+0200
TZNAME:CEST
DTSTART:20240331T010000
END:DAYLIGHT
BEGIN:STANDARD
TZOFFSETFROM:+0200
TZOFFSETTO:+0100
TZNAME:CET
DTSTART:20241027T010000
END:STANDARD
BEGIN:DAYLIGHT
TZOFFSETFROM:+0100
TZOFFSETTO:+0200
TZNAME:CEST
DTSTART:20250330T010000
END:DAYLIGHT
BEGIN:STANDARD
TZOFFSETFROM:+0200
TZOFFSETTO:+0100
TZNAME:CET
DTSTART:20251026T010000
END:STANDARD
END:VTIMEZONE
BEGIN:VEVENT
DTSTART;TZID=Europe/Rome:20240419T103000
DTEND;TZID=Europe/Rome:20240506T183000
DTSTAMP:20260423T132317
CREATED:20240405T103750Z
LAST-MODIFIED:20240417T105113Z
UID:5645-1713522600-1715020200@www.ilcastellodinovara.it
SUMMARY:Buon viaggio Campionissimo
DESCRIPTION:Realizzata dal Consorzio turistico “Terre di Fausto Coppi” in collaborazione con La Gazzetta dello Sport è il racconto di una storia umana e sportiva diventata leggenda: un percorso storico e tematico attraverso le eroiche corse di Fausto Coppi\, i suoi Giri\, i suoi Tour\, le sue Sanremo\, i suoi Gregari\, ecc. \nFoto originali del Centro di Documentazione di Gazzetta che raccontano la sua storia\, a corollario\, una serie di curiosi aneddoti e curiosità su Coppi\, raccontati attraverso un sistema audio che la rende originale Completa la parte espositiva una teca nella quale vengono esposti cimeli del Campionissimo. \n  \nInaugurazione venerdì 19 aprile 2024 – ore 16.30 \nIngresso libero
URL:https://www.ilcastellodinovara.it/event/buon-viaggio-campionissimo/
LOCATION:Sala delle Colonne – piano terra\, Castello di Novara - PIAZZA MARTIRI DELLA LIBERTA' 3\, NOVARA\, NO\, 28100\, Italia
CATEGORIES:Mostra,Sala delle Colonne -Piano Terra
ATTACH;FMTTYPE=image/jpeg:https://www.ilcastellodinovara.it/wp-content/uploads/2024/04/Cartoline-coppi-rosa-e1713351061454.jpg
END:VEVENT
BEGIN:VEVENT
DTSTART;TZID=Europe/Rome:20240517T180000
DTEND;TZID=Europe/Rome:20240518T000000
DTSTAMP:20260423T132317
CREATED:20240430T080157Z
LAST-MODIFIED:20240516T102626Z
UID:5710-1715968800-1715990400@www.ilcastellodinovara.it
SUMMARY:Love Gineration\, il festival del Gin a Novara
DESCRIPTION:Venerdì 17 e sabato 18 Maggio 2024\, il Castello di Novara ospiterà Love Gineration\, il festival dedicato ai produttori di gin e distillati italiani. \nCon i 20 produttori provenienti da tutta Italia e le oltre 100 etichette proposte\, Love Gineration punta a confermarsi come evento di riferimento per tutti gli appassionati dei gin e distillati italiani anche in Piemonte. \nDurante i due giorni\, i partecipanti potranno degustare gin in purezza\, distillati\, sorseggiare cocktails a base di gin (e non solo) lasciandosi trasportare dalla musica coinvolgente proposta da ottimi Djs. \nLove Gineration offre\, inoltre\, la possibilità di acquistare le bottiglie di gin e distillati direttamente dal produttore mantenendo alto il rapporto qualità-prezzo\, con il vantaggio di conoscere di persona la filiera del bene acquistato. \nPer gli amanti del cibo di strada saranno presenti food trucks\, vere e proprie cucine su ruote\, che soddisferanno anche i palati più esigenti con le loro golose proposte culinarie. \n  \nSi ricorda il divieto di vendita e di somministrazione di bevande alcoliche alle persone con età inferiore ai 18 anni così come stabilito espressamente dal Decreto Legge n. 14 del 20 febbraio del 2017.
URL:https://www.ilcastellodinovara.it/event/love-gineration-il-festival-del-gin-a-novara/
LOCATION:Sala delle Colonne – piano terra\, Castello di Novara - PIAZZA MARTIRI DELLA LIBERTA' 3\, NOVARA\, NO\, 28100\, Italia
CATEGORIES:Corte Maggiore,Evento,Sala delle Colonne -Piano Terra
ATTACH;FMTTYPE=image/png:https://www.ilcastellodinovara.it/wp-content/uploads/2024/04/LG-NOVARA-2.png
END:VEVENT
END:VCALENDAR