BEGIN:VCALENDAR
VERSION:2.0
PRODID:-//Il Castello di Novara - ECPv6.15.20//NONSGML v1.0//EN
CALSCALE:GREGORIAN
METHOD:PUBLISH
X-WR-CALNAME:Il Castello di Novara
X-ORIGINAL-URL:https://www.ilcastellodinovara.it
X-WR-CALDESC:Eventi per Il Castello di Novara
REFRESH-INTERVAL;VALUE=DURATION:PT1H
X-Robots-Tag:noindex
X-PUBLISHED-TTL:PT1H
BEGIN:VTIMEZONE
TZID:Europe/Rome
BEGIN:DAYLIGHT
TZOFFSETFROM:+0100
TZOFFSETTO:+0200
TZNAME:CEST
DTSTART:20230326T010000
END:DAYLIGHT
BEGIN:STANDARD
TZOFFSETFROM:+0200
TZOFFSETTO:+0100
TZNAME:CET
DTSTART:20231029T010000
END:STANDARD
BEGIN:DAYLIGHT
TZOFFSETFROM:+0100
TZOFFSETTO:+0200
TZNAME:CEST
DTSTART:20240331T010000
END:DAYLIGHT
BEGIN:STANDARD
TZOFFSETFROM:+0200
TZOFFSETTO:+0100
TZNAME:CET
DTSTART:20241027T010000
END:STANDARD
BEGIN:DAYLIGHT
TZOFFSETFROM:+0100
TZOFFSETTO:+0200
TZNAME:CEST
DTSTART:20250330T010000
END:DAYLIGHT
BEGIN:STANDARD
TZOFFSETFROM:+0200
TZOFFSETTO:+0100
TZNAME:CET
DTSTART:20251026T010000
END:STANDARD
END:VTIMEZONE
BEGIN:VEVENT
DTSTART;TZID=Europe/Rome:20241109T100000
DTEND;TZID=Europe/Rome:20241212T190000
DTSTAMP:20260425T153629
CREATED:20241105T125857Z
LAST-MODIFIED:20241111T135840Z
UID:6996-1731146400-1734030000@www.ilcastellodinovara.it
SUMMARY:JILL MATHIS  ART&INDUSTRIA: VISIONARY WOMEN
DESCRIPTION:Una mostra tutta al femminile promossa da Asilo Bianco per rivelare la visione di donne che fanno impresa attraverso gli scatti fotografici della fotografa Jill Mathis. \nTramite una personale tecnica artistica che si basa sulla ripresa di dettagli fortemente ingranditi\, metafora dell’osservazione non superficiale\, Jill Mathis racconta con uno sguardo femminile inedito i cambiamenti sociali avvenuti e quelli in corso all’interno dell’industria e del mondo del lavoro. Negli scatti realizzati gli elementi figurativi sono ridotti al minimo\, in quanto sono le strutture e i meccanismi nascosti degli elementi stessi a essere esaltati.\nSaranno esposti 18 scatti fotografici con dettagli di prodotti e macchinari presenti in quattro importanti aziende del territorio appartenenti a settori merceologici differenti e caratterizzati da CEO femminili. Si tratta di Fantini Rubinetti con Daniela Fantini; RivMet finiture galvaniche con Marta Arrondini; Cantine Castello Conti con Elena e Paola Conti; Gottifredi Maffioli corde hi-tech con Rossella Maffioli.
URL:https://www.ilcastellodinovara.it/event/jill-mathis-artindustria-visionary-women/
LOCATION:Sala delle Colonne – piano terra\, Castello di Novara - PIAZZA MARTIRI DELLA LIBERTA' 3\, NOVARA\, NO\, 28100\, Italia
CATEGORIES:Mostra,Sala delle Colonne -Piano Terra
ATTACH;FMTTYPE=image/jpeg:https://www.ilcastellodinovara.it/wp-content/uploads/2023/06/copertina-sito-mostre.jpg
ORGANIZER;CN="Associazione Asilo Bianco APS":MAILTO:enricaborghi@asilobianco.it
END:VEVENT
END:VCALENDAR