BEGIN:VCALENDAR
VERSION:2.0
PRODID:-//Il Castello di Novara - ECPv6.15.20//NONSGML v1.0//EN
CALSCALE:GREGORIAN
METHOD:PUBLISH
X-WR-CALNAME:Il Castello di Novara
X-ORIGINAL-URL:https://www.ilcastellodinovara.it
X-WR-CALDESC:Eventi per Il Castello di Novara
REFRESH-INTERVAL;VALUE=DURATION:PT1H
X-Robots-Tag:noindex
X-PUBLISHED-TTL:PT1H
BEGIN:VTIMEZONE
TZID:Europe/Rome
BEGIN:DAYLIGHT
TZOFFSETFROM:+0100
TZOFFSETTO:+0200
TZNAME:CEST
DTSTART:20250330T010000
END:DAYLIGHT
BEGIN:STANDARD
TZOFFSETFROM:+0200
TZOFFSETTO:+0100
TZNAME:CET
DTSTART:20251026T010000
END:STANDARD
BEGIN:DAYLIGHT
TZOFFSETFROM:+0100
TZOFFSETTO:+0200
TZNAME:CEST
DTSTART:20260329T010000
END:DAYLIGHT
BEGIN:STANDARD
TZOFFSETFROM:+0200
TZOFFSETTO:+0100
TZNAME:CET
DTSTART:20261025T010000
END:STANDARD
BEGIN:DAYLIGHT
TZOFFSETFROM:+0100
TZOFFSETTO:+0200
TZNAME:CEST
DTSTART:20270328T010000
END:DAYLIGHT
BEGIN:STANDARD
TZOFFSETFROM:+0200
TZOFFSETTO:+0100
TZNAME:CET
DTSTART:20271031T010000
END:STANDARD
END:VTIMEZONE
BEGIN:VEVENT
DTSTART;TZID=Europe/Rome:20260215T110000
DTEND;TZID=Europe/Rome:20260215T123000
DTSTAMP:20260425T163654
CREATED:20260204T161919Z
LAST-MODIFIED:20260204T161919Z
UID:8455-1771153200-1771158600@www.ilcastellodinovara.it
SUMMARY:Circolo dei Lettori: Dieci piccoli indiani
DESCRIPTION:Dieci piccoli indiani\n\n\nMattinée in giallo \ncon Roberto Gallaurese\n\nPur rifiutando il realismo e preferendo una visione surreale e personale\, Fellini crea uno stile unico che trasforma memorie intime in immagini condivise. Le sue storie\, filtrate da un immaginario originale\, rendono universali personaggi e ricordi nati dalla propria esperienza\, diventando patrimonio collettivo. \n  \nIngresso libero fino a esaurimento posti \ncon la Carta Io leggo di Più puoi prenotare il tuo posto\, nelle prime file: scrivi a info.novara@circololettori.it
URL:https://www.ilcastellodinovara.it/event/circolo-dei-lettori-dieci-piccoli-indiani/
LOCATION:Sala delle Mura – piano terra\, Castello di Novara - PIAZZA MARTIRI DELLA LIBERTA' 3\, NOVARA\, NO\, 28100\, Italia
CATEGORIES:Circolo dei Lettori,Sala delle Mura - Piano Terra
ATTACH;FMTTYPE=image/png:https://www.ilcastellodinovara.it/wp-content/uploads/2026/02/Dieci-piccoli-indiani-Matinee-16-9-per-sito-1-1600x900-1.png
END:VEVENT
BEGIN:VEVENT
DTSTART;TZID=Europe/Rome:20260218T180000
DTEND;TZID=Europe/Rome:20260218T190000
DTSTAMP:20260425T163654
CREATED:20260204T163821Z
LAST-MODIFIED:20260204T163821Z
UID:8458-1771437600-1771441200@www.ilcastellodinovara.it
SUMMARY:Circolo dei Lettori: Il mistero delle origini dell’uomo
DESCRIPTION:Il mistero delle origini dell’uomo\n\n\npresentazione del libro Feltrinelli di e con Massimo Polidoro\ncon Francesca Boccafoschi \nMiti\, cosmologie e scienza accompagnano da sempre la ricerca sulle origini dell’umanità. Il racconto attraversa Darwin e arriva alle scoperte di genetica\, fisica e scienze della Terra. DNA antico\, datazioni e climi del passato ricostruiscono la storia dell’universo. Ne emerge la posizione fragile dell’uomo nella natura. \nIngresso libero fino a esaurimento posti \ncon la Carta Io leggo di Più puoi prenotare il tuo posto\, nelle prime file: scrivi a info.novara@circololettori.it
URL:https://www.ilcastellodinovara.it/event/circolo-dei-lettori-il-mistero-delle-origini-delluomo/
LOCATION:Sala delle Mura – piano terra\, Castello di Novara - PIAZZA MARTIRI DELLA LIBERTA' 3\, NOVARA\, NO\, 28100\, Italia
CATEGORIES:Circolo dei Lettori,Sala delle Mura - Piano Terra
ATTACH;FMTTYPE=image/png:https://www.ilcastellodinovara.it/wp-content/uploads/2026/02/Massimo-Polidoro-Il-mistero-delle-origini-delluomo-16-9-per-sito-1600x900-1.png
END:VEVENT
BEGIN:VEVENT
DTSTART;TZID=Europe/Rome:20260219T180000
DTEND;TZID=Europe/Rome:20260219T190000
DTSTAMP:20260425T163654
CREATED:20260205T083532Z
LAST-MODIFIED:20260205T083532Z
UID:8462-1771524000-1771527600@www.ilcastellodinovara.it
SUMMARY:Circolo dei Lettori: Volume. Avere vent'anni
DESCRIPTION:Volume. Avere vent’anni\n\n\npresentazione del magazine di Chora Media e Feltrinelli \nIl secondo numero del magazine è dedicato al presente letto  da prospettive diverse\, senza filtri nostalgici. Voci e immagini raccontano una generazione giovane che agisce\, immagina futuro\, affronta paura\, lavoro\, amore e perdita. Un mosaico di storie\, luoghi e linguaggi per leggere il tempo mentre accade. \nin collaborazione con Chora Media \n  \nIngresso libero fino a esaurimento posti \ncon la Carta Io leggo di Più puoi prenotare il tuo posto\, nelle prime file: scrivi a info.novara@circololettori.it
URL:https://www.ilcastellodinovara.it/event/circolo-dei-lettori-volume-avere-ventanni/
LOCATION:Sala delle Mura – piano terra\, Castello di Novara - PIAZZA MARTIRI DELLA LIBERTA' 3\, NOVARA\, NO\, 28100\, Italia
CATEGORIES:Circolo dei Lettori,Sala delle Mura - Piano Terra
ATTACH;FMTTYPE=image/png:https://www.ilcastellodinovara.it/wp-content/uploads/2026/02/Volume-Avere-ventanni-novara-16-9-per-sito-1600x900-1.png
END:VEVENT
BEGIN:VEVENT
DTSTART;TZID=Europe/Rome:20260429T093000
DTEND;TZID=Europe/Rome:20260430T133000
DTSTAMP:20260425T163654
CREATED:20260424T081108Z
LAST-MODIFIED:20260424T081108Z
UID:8611-1777455000-1777555800@www.ilcastellodinovara.it
SUMMARY:WOOOOOW 2026 - Career Day
DESCRIPTION:Costruire un ponte concreto tra scuola e mondo del lavoro è l’obiettivo del “Career Day” promosso congiuntamente dagli istituti ITI “Omar” e ITE “Mossotti” in collaborazione con il Gruppo Giovani Imprenditori di Confindustria Novara Vercelli Valsesia (CNVV)\, le aziende partner di “Wooooow”\, Omar Innovation Lab 4.0 e l’agenzia “We4Job”. \nL’iniziativa nasce da un percorso condiviso che\, a partire dall’esperienza del Career Day degli istituti\, giunta alla sua quinta edizione\, si apre al territorio rafforzando la sinergia tra sistema educativo e tessuto produttivo nel solco tracciato anche dall’ultima edizione di “Wooooow”\, che nel marzo scorso ha accompagnato oltre 2.000 studenti e studentesse prossimi al diploma alla scoperta dei mestieri di oggi e delle professioni del futuro. \n\n\nDurante le due mattinate tutte le scuole secondarie di secondo grado di Novara potranno visitare gli stand di 34 aziende del territorio (Amut\, Arona Consulting\, Automagenta\, Baglioni\, Banco Bpm\, Barilla\, Bellasi\, Boca\, Cantoni & C.\, Cavanna\, CL System\, Comoli Ferrari\, Eikinex\, Esseco\, Fibercop\, Fondazione Academy\, Iem Italia\, Kpmg\, La Nuova Rettifica\, Magni Impianti\, Marazzato Soluzioni Ambientali\, Metaltecnica\, Newform\, Procos\, Saiet Engineering\, Sanco\, Sarpom\, Sea\, Sertec\, Seven Fluss\, Sogin\, Soluzione\, Studio Miazzo e TK)\, che presenteranno la loro offerta e rilasceranno un “passaporto” come promemoria di quanto esposto. \nA tutti i partecipanti al Career Day sarà anche data la possibilità di compilare un form per fissare un colloquio di orientamento\, tramite “We4job”\, nelle settimane successive all’evento. \nIn entrambi i giorni\, inoltre\, saranno presenti quattro agenzie per il lavoro (Adecco Italia\, Ali Lavoro\, Randstad Italia e Umana)\, che organizzeranno altrettanti workshop sui seguenti argomenti: “Il contratto di lavoro”\, “Le Soft Skills”\, “Dentro il colloquio: dimostra chi sei!” e “Agenzie per il lavoro – Come funzionano e miti da sfatare”.
URL:https://www.ilcastellodinovara.it/event/wooooow-2026-career-day/
LOCATION:Sala delle Vetrate – 1 Piano\, PIAZZA MARTIRI DELLA LIBERTA' 3\, NOVARA\, PIEMONTE\, 28100\, Italia
CATEGORIES:Sala delle Mura - Piano Terra,Sala delle Vetrate - Primo Piano
ATTACH;FMTTYPE=image/png:https://www.ilcastellodinovara.it/wp-content/uploads/2026/04/DwnVer-1-1.png
ORGANIZER;CN="Confindustria Novara Vercelli Valsesia":MAILTO:info@cnvv.it
END:VEVENT
END:VCALENDAR