BEGIN:VCALENDAR
VERSION:2.0
PRODID:-//Il Castello di Novara - ECPv6.15.17//NONSGML v1.0//EN
CALSCALE:GREGORIAN
METHOD:PUBLISH
X-WR-CALNAME:Il Castello di Novara
X-ORIGINAL-URL:https://www.ilcastellodinovara.it
X-WR-CALDESC:Eventi per Il Castello di Novara
REFRESH-INTERVAL;VALUE=DURATION:PT1H
X-Robots-Tag:noindex
X-PUBLISHED-TTL:PT1H
BEGIN:VTIMEZONE
TZID:Europe/Rome
BEGIN:DAYLIGHT
TZOFFSETFROM:+0100
TZOFFSETTO:+0200
TZNAME:CEST
DTSTART:20230326T010000
END:DAYLIGHT
BEGIN:STANDARD
TZOFFSETFROM:+0200
TZOFFSETTO:+0100
TZNAME:CET
DTSTART:20231029T010000
END:STANDARD
BEGIN:DAYLIGHT
TZOFFSETFROM:+0100
TZOFFSETTO:+0200
TZNAME:CEST
DTSTART:20240331T010000
END:DAYLIGHT
BEGIN:STANDARD
TZOFFSETFROM:+0200
TZOFFSETTO:+0100
TZNAME:CET
DTSTART:20241027T010000
END:STANDARD
BEGIN:DAYLIGHT
TZOFFSETFROM:+0100
TZOFFSETTO:+0200
TZNAME:CEST
DTSTART:20250330T010000
END:DAYLIGHT
BEGIN:STANDARD
TZOFFSETFROM:+0200
TZOFFSETTO:+0100
TZNAME:CET
DTSTART:20251026T010000
END:STANDARD
END:VTIMEZONE
BEGIN:VEVENT
DTSTART;TZID=Europe/Rome:20241001T180000
DTEND;TZID=Europe/Rome:20241001T193000
DTSTAMP:20260420T203128
CREATED:20240927T102706Z
LAST-MODIFIED:20240927T102706Z
UID:6857-1727805600-1727811000@www.ilcastellodinovara.it
SUMMARY:Circolo dei Lettori: Incorreggibili
DESCRIPTION:La lettura come esercizio di introspezione \nPresentazione del libro 66thand2nd di e con Paola Moretti con Valeria Francese \nJane Bowles\, Fleur Jaeggy\, Elfriede Jelinek e Clarice Lispector\, audaci scrittrici novecentesche\, accompagnano l’autrice nel corso di dieci anni\, dalla maturità a Berlino fino al ritorno a Roma dieci anni dopo\, creando un dialogo unico tra letteratura e vita reale. \n  \nIngresso libero fino a esaurimento posti \nCon la Carta Io leggo di Più puoi prenotare il tuo posto\, nelle prime file: scrivi a info.novara@circololettori.it
URL:https://www.ilcastellodinovara.it/event/circolo-dei-lettori-incorreggibili/
LOCATION:Sala Sibilla Aleramo – Circolo dei Lettori\, Castello di Novara - PIAZZA MARTIRI DELLA LIBERTA' 3\, NOVARA\, NO\, 28100\, Italia
CATEGORIES:Circolo dei Lettori,Sala Sibilla Aleramo
ATTACH;FMTTYPE=image/jpeg:https://www.ilcastellodinovara.it/wp-content/uploads/2024/09/Paola-Moretti-Incorreggibili-16-9-per-sito-1600x900-1.jpg
END:VEVENT
BEGIN:VEVENT
DTSTART;TZID=Europe/Rome:20241002T180000
DTEND;TZID=Europe/Rome:20241002T193000
DTSTAMP:20260420T203128
CREATED:20240927T103212Z
LAST-MODIFIED:20240927T103254Z
UID:6861-1727892000-1727897400@www.ilcastellodinovara.it
SUMMARY:Circolo dei Lettori: Soggetti
DESCRIPTION:Ogni disegno\, una piccola storia\n\n\npresentazione del libro Feltrinelli Comics di e con Silvia Ziche con Ivan Pelizzari \nIn questo sketch book uno sguardo inedito segue il filo che accomuna ognuno di noi: l’umanità. La si può trovare osservando le persone per strada\, in metropolitana\, sul treno\, ammirando le coppie\, la loro armonia o disarmonia\, e i bambini con la loro spontaneità intrinseca. \n  \nIngresso libero fino a esaurimento posti \nCon la Carta Io leggo di Più puoi prenotare il tuo posto\, nelle prime file: scrivi a info.novara@circololettori.it
URL:https://www.ilcastellodinovara.it/event/circolo-dei-lettori-soggetti/
LOCATION:NO
CATEGORIES:Circolo dei Lettori,Sala Sibilla Aleramo
ATTACH;FMTTYPE=image/jpeg:https://www.ilcastellodinovara.it/wp-content/uploads/2024/09/Silvia-Ziche-Soggetti-16-9-1600x900-1.jpg
END:VEVENT
BEGIN:VEVENT
DTSTART;TZID=Europe/Rome:20241003T180000
DTEND;TZID=Europe/Rome:20241003T193000
DTSTAMP:20260420T203128
CREATED:20240927T103655Z
LAST-MODIFIED:20240927T103655Z
UID:6865-1727978400-1727983800@www.ilcastellodinovara.it
SUMMARY:Circolo Lettori: Gli Straordinari
DESCRIPTION:Vite al limite in una società in crisi\n\n\nPresentazione del libro Mondadori di e con Edoardo Vitale con Roberto Gallaurese \nNico ed Elsa\, creativi di successo in una multinazionale\, si confrontano con le pressioni di un mondo del lavoro frenetico e incerto. Tra amore\, ansie e crisi personali\, emerge il ritratto di una generazione sospesa tra sogni e cambiamenti climatici\, alla ricerca di equilibrio. \n  \nIngresso libero fino a esaurimento posti \nCon la Carta Io leggo di Più puoi prenotare il tuo posto\, nelle prime file: scrivi a info.novara@circololettori.it
URL:https://www.ilcastellodinovara.it/event/circolo-lettori-gli-straordinari/
LOCATION:NO
CATEGORIES:Circolo dei Lettori,Sala Sibilla Aleramo
ATTACH;FMTTYPE=image/jpeg:https://www.ilcastellodinovara.it/wp-content/uploads/2024/09/Edoardo-Vitale-Gli-Straordinari-16-9-1600x900-1.jpg
END:VEVENT
BEGIN:VEVENT
DTSTART;TZID=Europe/Rome:20241007T180000
DTEND;TZID=Europe/Rome:20241007T193000
DTSTAMP:20260420T203128
CREATED:20240927T104048Z
LAST-MODIFIED:20240927T104048Z
UID:6869-1728324000-1728329400@www.ilcastellodinovara.it
SUMMARY:Circolo dei Lettori: Charming Men
DESCRIPTION:La storia degli Smiths\n\n\npresentazione del libro nottetempo di e con Fernando Rennis con Roberto Gallaurese \nUn racconto appassionante sull’ascesa degli Smiths\, la band che ha segnato generazioni a partire dagli anni Ottanta. Tra disillusione e ribellione\, la loro musica e il carisma di Morrissey restano un’icona indelebile della cultura britannica. \n  \nIngresso libero fino a esaurimento posti \nCon la Carta Io leggo di Più puoi prenotare il tuo posto\, nelle prime file: scrivi a info.novara@circololettori.it
URL:https://www.ilcastellodinovara.it/event/circolo-dei-lettori-charming-men/
LOCATION:Sala Sibilla Aleramo – Circolo dei Lettori\, Castello di Novara - PIAZZA MARTIRI DELLA LIBERTA' 3\, NOVARA\, NO\, 28100\, Italia
CATEGORIES:Circolo dei Lettori,Sala Sibilla Aleramo
ATTACH;FMTTYPE=image/jpeg:https://www.ilcastellodinovara.it/wp-content/uploads/2024/09/Fernando-Rennis-Charming-men-16-9-1600x900-1.jpg
END:VEVENT
BEGIN:VEVENT
DTSTART;TZID=Europe/Rome:20241008T180000
DTEND;TZID=Europe/Rome:20241008T193000
DTSTAMP:20260420T203128
CREATED:20240927T104939Z
LAST-MODIFIED:20240927T104939Z
UID:6878-1728410400-1728415800@www.ilcastellodinovara.it
SUMMARY:Circolo dei Lettori: La Malacarne
DESCRIPTION:Due ragazze tormentate e ribelli\, la guerra\, scegliere da che parte stare\n\n\npresentazione del libro Einaudi di e con Beatrice Salvioni con Eleonora Groppetti \nMonza\, aprile 1940. Da quattro anni Francesca non sa nulla di Maddalena che\, rinchiusa in manicomio\, non ha mai ha risposto alle sue lettere. Francesca\, intanto\, è andata a vivere da Noè Tresoldi\, destando scandalo. Quando Maddalena ritorna\, è molto diversa. Cosa è successo in manicomio? Nel frattempo\, l’Italia entra in guerra e \, tra la fame e la paura delle bombe\, ogni giorno diventa più difficile. \n  \nIngresso libero fino a esaurimento posti \nCon la Carta Io leggo di Più puoi prenotare il tuo posto\, nelle prime file: scrivi a info.novara@circololettori.it
URL:https://www.ilcastellodinovara.it/event/circolo-dei-lettori-la-malacarne/
LOCATION:Sala Sibilla Aleramo – Circolo dei Lettori\, Castello di Novara - PIAZZA MARTIRI DELLA LIBERTA' 3\, NOVARA\, NO\, 28100\, Italia
CATEGORIES:Circolo dei Lettori,Sala Sibilla Aleramo
ATTACH;FMTTYPE=image/jpeg:https://www.ilcastellodinovara.it/wp-content/uploads/2024/09/Beatrice-Salvioni-La-Malacarne-16-9-per-sito-1600x900-1.jpg
END:VEVENT
BEGIN:VEVENT
DTSTART;TZID=Europe/Rome:20241009T180000
DTEND;TZID=Europe/Rome:20241009T193000
DTSTAMP:20260420T203128
CREATED:20240927T105556Z
LAST-MODIFIED:20240927T105556Z
UID:6882-1728496800-1728502200@www.ilcastellodinovara.it
SUMMARY:Circolo dei Lettori: Un'allegria di troppo
DESCRIPTION:Il coraggio di essere autentici\n\n\npresentazione del libro Feltrinelli di e con Francesca Tumiati con Eleonora Groppetti \nLa protagonista del romanzo-memoir esplora il contrasto tra un’allegria irrefrenabile e un dolore profondo\, cercando la propria identità sotto l’ombra di una madre scrittrice e il confronto con una sorella prediletta. Con il suo spirito vivace\, affronta relazioni complesse e la ricerca di libertà. \n  \nIngresso libero fino a esaurimento posti \nCon la Carta Io leggo di Più puoi prenotare il tuo posto\, nelle prime file: scrivi a info.novara@circololettori.it
URL:https://www.ilcastellodinovara.it/event/circolo-dei-lettori-unallegria-di-troppo/
LOCATION:Sala Sibilla Aleramo – Circolo dei Lettori\, Castello di Novara - PIAZZA MARTIRI DELLA LIBERTA' 3\, NOVARA\, NO\, 28100\, Italia
CATEGORIES:Circolo dei Lettori,Sala Sibilla Aleramo
ATTACH;FMTTYPE=image/jpeg:https://www.ilcastellodinovara.it/wp-content/uploads/2024/09/Francesca-Tumiati-Unallegria-di-troppo-16-9-1600x900-1.jpg
END:VEVENT
BEGIN:VEVENT
DTSTART;TZID=Europe/Rome:20241017T180000
DTEND;TZID=Europe/Rome:20241017T193000
DTSTAMP:20260420T203128
CREATED:20240927T123404Z
LAST-MODIFIED:20240927T123404Z
UID:6894-1729188000-1729193400@www.ilcastellodinovara.it
SUMMARY:Circolo dei Lettori: Le navi perdute del capitano Franklin
DESCRIPTION:L’enigma delle spedizioni scomparse nel grande Nord\n\n\nPresentazione del libro Einaudi di e con Luigi Guarnieri con Barbara Cottavoz \nUna testimonianza spaventosa e seducente a bordo delle navi d’esplorazione di quasi duecento anni fa. Un avamposto letterario che si affaccia sulla curiosità\, l’audacia e il disprezzo del pericolo degli avventurieri che conquistarono il Nord. \n  \nIngresso libero fino a esaurimento posti \nCon la Carta Io leggo di Più puoi prenotare il tuo posto\, nelle prime file: scrivi a info.novara@circololettori.it
URL:https://www.ilcastellodinovara.it/event/circolo-dei-lettori-le-navi-perdute-del-capitano-franklin/
LOCATION:Sala Sibilla Aleramo – Circolo dei Lettori\, Castello di Novara - PIAZZA MARTIRI DELLA LIBERTA' 3\, NOVARA\, NO\, 28100\, Italia
CATEGORIES:Circolo dei Lettori,Sala Sibilla Aleramo
ATTACH;FMTTYPE=image/jpeg:https://www.ilcastellodinovara.it/wp-content/uploads/2024/09/Luigi-Guarnieri-Le-navi-perdute-del-Capitano-Franklin-16-9-1600x900-1.jpg
END:VEVENT
BEGIN:VEVENT
DTSTART;TZID=Europe/Rome:20241019T180000
DTEND;TZID=Europe/Rome:20241019T193000
DTSTAMP:20260420T203128
CREATED:20240927T123757Z
LAST-MODIFIED:20240927T123757Z
UID:6899-1729360800-1729366200@www.ilcastellodinovara.it
SUMMARY:Circolo dei Lettori: Il territorio del vino
DESCRIPTION:Il territorio del vino\n\n\ncon Mario Finotti e Paola Turchelli \ncopie in omaggio ai partecipanti \nSegue degustazione a cura dell’Associazione Città del Vino con i vini dell’Alto Piemonte della Cantina Rovellotti di Ghemme. \nIn collaborazione con il Consorzio Mutue \n  \nIngresso libero fino a esaurimento posti  \nCon la Carta Io leggo di Più puoi prenotare il tuo posto\, nelle prime file: scrivi a info.novara@circololettori.it
URL:https://www.ilcastellodinovara.it/event/circolo-dei-lettori-il-territorio-del-vino/
LOCATION:Sala Sibilla Aleramo – Circolo dei Lettori\, Castello di Novara - PIAZZA MARTIRI DELLA LIBERTA' 3\, NOVARA\, NO\, 28100\, Italia
CATEGORIES:Circolo dei Lettori,Sala Sibilla Aleramo
ATTACH;FMTTYPE=image/jpeg:https://www.ilcastellodinovara.it/wp-content/uploads/2024/09/Il-territorio-del-vino-16-9-per-sito-1600x900-1.jpg
END:VEVENT
BEGIN:VEVENT
DTSTART;TZID=Europe/Rome:20241021T180000
DTEND;TZID=Europe/Rome:20241021T193000
DTSTAMP:20260420T203128
CREATED:20240927T124135Z
LAST-MODIFIED:20240927T124135Z
UID:6903-1729533600-1729539000@www.ilcastellodinovara.it
SUMMARY:Circolo dei Lettori: Storia di un puntino che aveva dei piani
DESCRIPTION:Un mondo di forme diverse \npresentazione del libro TS Terra Santa di e con Vanessa Nerone con Carlotta Campanini \nNel paese delle forme geometriche\, Puntino\, nato dall’amore di Mamma Quadrato e Papà Rettangolo\, è destinato a crescere in modo unico e originale. Questa fiaba parla della diversità\, incoraggiando i più piccoli ad accettarsi\, a seguire il proprio percorso\, per una società inclusiva che valorizzi ogni singola voce. \n  \nIngresso libero fino a esaurimento posti \nCon la Carta Io leggo di Più puoi prenotare il tuo posto\, nelle prime file: scrivi a info.novara@circololettori.it
URL:https://www.ilcastellodinovara.it/event/circolo-dei-lettori-storia-di-un-puntino-che-aveva-dei-piani/
LOCATION:Sala Sibilla Aleramo – Circolo dei Lettori\, Castello di Novara - PIAZZA MARTIRI DELLA LIBERTA' 3\, NOVARA\, NO\, 28100\, Italia
CATEGORIES:Circolo dei Lettori,Sala Sibilla Aleramo
ATTACH;FMTTYPE=image/jpeg:https://www.ilcastellodinovara.it/wp-content/uploads/2024/09/Vanessa-Nerone-Storia-di-un-puntino-che-aveva-dei-piani-16-9-1600x900-1.jpg
END:VEVENT
BEGIN:VEVENT
DTSTART;TZID=Europe/Rome:20241022T180000
DTEND;TZID=Europe/Rome:20241022T193000
DTSTAMP:20260420T203128
CREATED:20240927T124419Z
LAST-MODIFIED:20240927T124419Z
UID:6907-1729620000-1729625400@www.ilcastellodinovara.it
SUMMARY:Circolo dei Lettori: Santa
DESCRIPTION:Sogni e scelte: un cammino di emancipazione\n\n\npresentazione del libro NN di e con Rosanna Turone con Serena Galasso \nFin da bambina\, Santa ha solo un sogno: essere amata senza condizioni. Dopo aver lasciato il paesino calabrese d’origine\, affronta relazioni complesse e scelte estreme\, sfidando le convenzioni familiari. Qui il racconto della sua intensa lotta per l’emancipazione. \n  \nIngresso libero fino a esaurimento posti \nCon la Carta Io leggo di Più puoi prenotare il tuo posto\, nelle prime file: scrivi a info.novara@circololettori.it
URL:https://www.ilcastellodinovara.it/event/circolo-dei-lettori-santa/
LOCATION:Sala Sibilla Aleramo – Circolo dei Lettori\, Castello di Novara - PIAZZA MARTIRI DELLA LIBERTA' 3\, NOVARA\, NO\, 28100\, Italia
CATEGORIES:Circolo dei Lettori,Sala Sibilla Aleramo
ATTACH;FMTTYPE=image/jpeg:https://www.ilcastellodinovara.it/wp-content/uploads/2024/09/Rosanna-Turone-Santa-16-9-1600x900-1.jpg
END:VEVENT
BEGIN:VEVENT
DTSTART;TZID=Europe/Rome:20241023T180000
DTEND;TZID=Europe/Rome:20241023T193000
DTSTAMP:20260420T203128
CREATED:20240927T124752Z
LAST-MODIFIED:20240927T124752Z
UID:6911-1729706400-1729711800@www.ilcastellodinovara.it
SUMMARY:Circolo dei Lettori: La signora meraviglia
DESCRIPTION:Memorie da Mogadiscio\n\n\npresentazione del libro Sellerio di e con Saba Anglana con Erica Bertinotti \nUna giovane etiope affronta le sfide burocratiche italiane per ottenere la cittadinanza\, mentre la sua storia familiare rivela legami profondi e ferite mai sanate. Attraverso ironia e dolcezza\, l’autrice intreccia passato e presente in un racconto di ricerca dell’identità e della libertà. \n  \nIngresso libero fino a esaurimento posti \nCon la Carta Io leggo di Più puoi prenotare il tuo posto\, nelle prime file: scrivi a info.novara@circololettori.it
URL:https://www.ilcastellodinovara.it/event/circolo-dei-lettori-la-signora-meraviglia/
LOCATION:Sala Sibilla Aleramo – Circolo dei Lettori\, Castello di Novara - PIAZZA MARTIRI DELLA LIBERTA' 3\, NOVARA\, NO\, 28100\, Italia
CATEGORIES:Circolo dei Lettori,Sala Sibilla Aleramo
ATTACH;FMTTYPE=image/jpeg:https://www.ilcastellodinovara.it/wp-content/uploads/2024/09/Saba-Anglana-La-signora-meraviglia-16-9-per-sito-1600x900-1.jpg
END:VEVENT
BEGIN:VEVENT
DTSTART;TZID=Europe/Rome:20241025T090000
DTEND;TZID=Europe/Rome:20241025T180000
DTSTAMP:20260420T203128
CREATED:20241011T074936Z
LAST-MODIFIED:20241011T075042Z
UID:6932-1729846800-1729879200@www.ilcastellodinovara.it
SUMMARY:INNOVA Blockchain\, Green Tech e A.I.  for business
DESCRIPTION:Torna al Castello di Novara il prossimo venerdì 25 ottobre INNOVA\, il contenitore divulgativo proposto da CNA Piemonte Nord insieme a Staff Millennium.\nInnova si propone come una intera giornata di riferimento per le aziende desiderose di esplorare le opportunità offerte da tecnologie all’avanguardia. Quest’anno\, accanto alla tematica della blockchain e della tracciabilità certificata di filiera verrà approfondita la tematica dell’intelligenza artificiale applicata nel marketing e nella produzione per rendere le aziende più performanti ed efficaci. Saranno proposte esperienze sulla realtà virtuale e sul metaverso\, casi studio che mostrano come migliorare attraverso questi strumenti la gestione delle imprese e la possibilità di partecipare a workshop formativi. \nPer partecipare è necessaria l’iscrizione dal sito businessinnova.it\, l’iscrizione ai workshop tematici deve essere effettuata cliccando nella sezione dedicata.\nLink al programma completo https://businessinnova.it/programma/innova-2024.pdf \n  \nL’evento\, che si svolge con il contributo della Camera di Commercio Alto Piemonte Monte Rosa e Laghi e il patrocinio del Comune di Novara.
URL:https://www.ilcastellodinovara.it/event/innova-blockchain-green-tech-e-a-i-for-business/
LOCATION:Castello di Novara\, Piazza Martiri della Libertà\, 3\, Novara\, Novara\, 28100\, Italia
CATEGORIES:Evento,Sala delle Colonne -Piano Terra,Sala delle Mura - Piano Terra,Sala delle Vetrate - Primo Piano,Sala Sibilla Aleramo
ATTACH;FMTTYPE=image/png:https://www.ilcastellodinovara.it/wp-content/uploads/2024/10/banner-innova-.png
END:VEVENT
END:VCALENDAR