BEGIN:VCALENDAR
VERSION:2.0
PRODID:-//Il Castello di Novara - ECPv6.15.17//NONSGML v1.0//EN
CALSCALE:GREGORIAN
METHOD:PUBLISH
X-ORIGINAL-URL:https://www.ilcastellodinovara.it
X-WR-CALDESC:Eventi per Il Castello di Novara
REFRESH-INTERVAL;VALUE=DURATION:PT1H
X-Robots-Tag:noindex
X-PUBLISHED-TTL:PT1H
BEGIN:VTIMEZONE
TZID:Europe/Rome
BEGIN:DAYLIGHT
TZOFFSETFROM:+0100
TZOFFSETTO:+0200
TZNAME:CEST
DTSTART:20230326T010000
END:DAYLIGHT
BEGIN:STANDARD
TZOFFSETFROM:+0200
TZOFFSETTO:+0100
TZNAME:CET
DTSTART:20231029T010000
END:STANDARD
BEGIN:DAYLIGHT
TZOFFSETFROM:+0100
TZOFFSETTO:+0200
TZNAME:CEST
DTSTART:20240331T010000
END:DAYLIGHT
BEGIN:STANDARD
TZOFFSETFROM:+0200
TZOFFSETTO:+0100
TZNAME:CET
DTSTART:20241027T010000
END:STANDARD
BEGIN:DAYLIGHT
TZOFFSETFROM:+0100
TZOFFSETTO:+0200
TZNAME:CEST
DTSTART:20250330T010000
END:DAYLIGHT
BEGIN:STANDARD
TZOFFSETFROM:+0200
TZOFFSETTO:+0100
TZNAME:CET
DTSTART:20251026T010000
END:STANDARD
END:VTIMEZONE
BEGIN:VEVENT
DTSTART;TZID=Europe/Rome:20241123T100000
DTEND;TZID=Europe/Rome:20241123T170000
DTSTAMP:20260421T043330
CREATED:20241111T152839Z
LAST-MODIFIED:20241111T152839Z
UID:7061-1732356000-1732381200@www.ilcastellodinovara.it
SUMMARY:Romance House
DESCRIPTION:Romance House\n\n\nIl nido delle bookloovers \na cura di e con Sofia Mazzoni (@littlereadersophia) \nAmi leggere ma non riesci a trovare qualcuno con cui condividere questa esperienza?\nRomance House è l’appuntamento perfetto per te! \nUn sabato al mese (h 10-17)\, dedicato al mondo del romance\, vieni al Circolo per leggere in compagnia\, partecipare al silent reading\, fare giochi letterari e attività a tema\, conoscere appassionati e appassionate come te\, e tanto tanto altro. \nPer una giornata in cui condividere (anche offline) la certezza che la lettura è un’attività individuale ma non di certo solitaria: ognuna e ognuno di noi può trovare tra le pagine un rifugio condiviso. \nprogramma\n> h 10 Benvenuti e benvenute!\n> h 10.20 Gioco letterario\n> h 11 Silent Reading\n> h 12.30 Pranzo al sacco\n> h 13.30 Attività libresca a tema\n> h 14.30 Silent Reading\n> h 16 Chiacchiere & Merenda con Violet Ren\n> h 17 Come è andata? \na seguire \nAppuntamento con Violet Ren che\, dopo aver partecipato alle attività del pomeriggio insieme alle book lovers\, firmerà le copie del suo Frutti della memoria (Garzanti)\, una delicata e appassionante storia che racchiude tutte quelle emozioni in grado di farci sorridere\, e\, perché no\, a volte commuovere. \n🕒 prossimo appuntamento: sabato 14 dicembre h 10-17 \n  \n📌ingresso gratuito con prenotazione obbligatoria scrivendo a info.novara@circololettori.it
URL:https://www.ilcastellodinovara.it/event/romance-house/
LOCATION:Sala Sibilla Aleramo – Circolo dei Lettori\, Castello di Novara - PIAZZA MARTIRI DELLA LIBERTA' 3\, NOVARA\, NO\, 28100\, Italia
CATEGORIES:Circolo dei Lettori,Evento,Sala Sibilla Aleramo
ATTACH;FMTTYPE=image/jpeg:https://www.ilcastellodinovara.it/wp-content/uploads/2024/11/Romance-House-16-9-per-sito-1600x900-1.jpg
END:VEVENT
END:VCALENDAR