BEGIN:VCALENDAR
VERSION:2.0
PRODID:-//Il Castello di Novara - ECPv6.15.20//NONSGML v1.0//EN
CALSCALE:GREGORIAN
METHOD:PUBLISH
X-ORIGINAL-URL:https://www.ilcastellodinovara.it
X-WR-CALDESC:Eventi per Il Castello di Novara
REFRESH-INTERVAL;VALUE=DURATION:PT1H
X-Robots-Tag:noindex
X-PUBLISHED-TTL:PT1H
BEGIN:VTIMEZONE
TZID:Europe/Rome
BEGIN:DAYLIGHT
TZOFFSETFROM:+0100
TZOFFSETTO:+0200
TZNAME:CEST
DTSTART:20250330T010000
END:DAYLIGHT
BEGIN:STANDARD
TZOFFSETFROM:+0200
TZOFFSETTO:+0100
TZNAME:CET
DTSTART:20251026T010000
END:STANDARD
BEGIN:DAYLIGHT
TZOFFSETFROM:+0100
TZOFFSETTO:+0200
TZNAME:CEST
DTSTART:20260329T010000
END:DAYLIGHT
BEGIN:STANDARD
TZOFFSETFROM:+0200
TZOFFSETTO:+0100
TZNAME:CET
DTSTART:20261025T010000
END:STANDARD
BEGIN:DAYLIGHT
TZOFFSETFROM:+0100
TZOFFSETTO:+0200
TZNAME:CEST
DTSTART:20270328T010000
END:DAYLIGHT
BEGIN:STANDARD
TZOFFSETFROM:+0200
TZOFFSETTO:+0100
TZNAME:CET
DTSTART:20271031T010000
END:STANDARD
END:VTIMEZONE
BEGIN:VEVENT
DTSTART;TZID=Europe/Rome:20260414T090000
DTEND;TZID=Europe/Rome:20260416T130000
DTSTAMP:20260424T143245
CREATED:20260409T150051Z
LAST-MODIFIED:20260409T150213Z
UID:8576-1776157200-1776344400@www.ilcastellodinovara.it
SUMMARY:SCIENZA SOTTO LA CUPOLA
DESCRIPTION:Dal 14 al 16 aprile 2026\, il Castello di Novara ospiterà la V edizione del festival “Scienza sotto la Cupola”\, organizzato da Università del Piemonte Orientale\, Provincia di Novara\, Istituto tecnico industriale Omar\, associazione Science is cool – Cultural Association e patrocinato dal Comune di Novara. \nLa manifestazione che nasce con l’obiettivo di rendere la scienza accessibile e stimolante per tutte le fasce di età\, offrendo occasioni di confronto e di scoperta\, proporrà un ricco programma di conferenze\, laboratori\, attività interattive e mostre\, pensate per avvicinare il grande pubblico ai temi della scienza e della ricerca contemporanea\, nonché favorire un dialogo aperto e coinvolgente tra comunità accademica\, scuole e cittadini. \n“Scienza sotto la Cupola” rappresenta un’opportunità unica per valorizzare la cultura scientifica sul territorio\, promuovendo una società più consapevole e attenta alle sfide del presente e del futuro. \nClicca qui per conoscere il programma completo del festival \n 
URL:https://www.ilcastellodinovara.it/event/8576/
LOCATION:Sala delle Vetrate – 1 Piano\, PIAZZA MARTIRI DELLA LIBERTA' 3\, NOVARA\, PIEMONTE\, 28100\, Italia
CATEGORIES:Evento,Sala delle Vetrate - Primo Piano
ATTACH;FMTTYPE=image/jpeg:https://www.ilcastellodinovara.it/wp-content/uploads/2026/04/Scienza-sotto-la-Cupola-2026-banner-1920x1080-1.jpg
ORGANIZER;CN="associazione science is cool":MAILTO:info@scienceiscool.it
END:VEVENT
BEGIN:VEVENT
DTSTART;TZID=Europe/Rome:20260429T093000
DTEND;TZID=Europe/Rome:20260430T133000
DTSTAMP:20260424T143245
CREATED:20260424T081108Z
LAST-MODIFIED:20260424T081108Z
UID:8611-1777455000-1777555800@www.ilcastellodinovara.it
SUMMARY:WOOOOOW 2026 - Career Day
DESCRIPTION:Costruire un ponte concreto tra scuola e mondo del lavoro è l’obiettivo del “Career Day” promosso congiuntamente dagli istituti ITI “Omar” e ITE “Mossotti” in collaborazione con il Gruppo Giovani Imprenditori di Confindustria Novara Vercelli Valsesia (CNVV)\, le aziende partner di “Wooooow”\, Omar Innovation Lab 4.0 e l’agenzia “We4Job”. \nL’iniziativa nasce da un percorso condiviso che\, a partire dall’esperienza del Career Day degli istituti\, giunta alla sua quinta edizione\, si apre al territorio rafforzando la sinergia tra sistema educativo e tessuto produttivo nel solco tracciato anche dall’ultima edizione di “Wooooow”\, che nel marzo scorso ha accompagnato oltre 2.000 studenti e studentesse prossimi al diploma alla scoperta dei mestieri di oggi e delle professioni del futuro. \n\n\nDurante le due mattinate tutte le scuole secondarie di secondo grado di Novara potranno visitare gli stand di 34 aziende del territorio (Amut\, Arona Consulting\, Automagenta\, Baglioni\, Banco Bpm\, Barilla\, Bellasi\, Boca\, Cantoni & C.\, Cavanna\, CL System\, Comoli Ferrari\, Eikinex\, Esseco\, Fibercop\, Fondazione Academy\, Iem Italia\, Kpmg\, La Nuova Rettifica\, Magni Impianti\, Marazzato Soluzioni Ambientali\, Metaltecnica\, Newform\, Procos\, Saiet Engineering\, Sanco\, Sarpom\, Sea\, Sertec\, Seven Fluss\, Sogin\, Soluzione\, Studio Miazzo e TK)\, che presenteranno la loro offerta e rilasceranno un “passaporto” come promemoria di quanto esposto. \nA tutti i partecipanti al Career Day sarà anche data la possibilità di compilare un form per fissare un colloquio di orientamento\, tramite “We4job”\, nelle settimane successive all’evento. \nIn entrambi i giorni\, inoltre\, saranno presenti quattro agenzie per il lavoro (Adecco Italia\, Ali Lavoro\, Randstad Italia e Umana)\, che organizzeranno altrettanti workshop sui seguenti argomenti: “Il contratto di lavoro”\, “Le Soft Skills”\, “Dentro il colloquio: dimostra chi sei!” e “Agenzie per il lavoro – Come funzionano e miti da sfatare”.
URL:https://www.ilcastellodinovara.it/event/wooooow-2026-career-day/
LOCATION:Sala delle Vetrate – 1 Piano\, PIAZZA MARTIRI DELLA LIBERTA' 3\, NOVARA\, PIEMONTE\, 28100\, Italia
CATEGORIES:Sala delle Mura - Piano Terra,Sala delle Vetrate - Primo Piano
ATTACH;FMTTYPE=image/png:https://www.ilcastellodinovara.it/wp-content/uploads/2026/04/DwnVer-1-1.png
ORGANIZER;CN="Confindustria Novara Vercelli Valsesia":MAILTO:info@cnvv.it
END:VEVENT
BEGIN:VEVENT
DTSTART;TZID=Europe/Rome:20260508T100000
DTEND;TZID=Europe/Rome:20260927T190000
DTSTAMP:20260424T143245
CREATED:20260409T072247Z
LAST-MODIFIED:20260422T072122Z
UID:8525-1778234400-1790535600@www.ilcastellodinovara.it
SUMMARY:SUPERHEROES - Le Origini del Mito
DESCRIPTION:Novara 2026 \nSUPERHEROES\nLe origini del Mito\n“Prima che esistesse Superman\, c’era Ercole. Prima dei comics\, c’era la Mitologia.” \nCOMICS ORIGINALI • REPERTI ARCHEOLOGICI • ACTION FIGURES • SET ESPERIENZIALI\n\n\nIl Concept\nLa mostra\, prodotta da Contemporanea Progetti e curata da Eugenio Martera\, Fabrizio Modina e Federica Montani\, si sviluppa con un percorso tematico e cronologico che porta alla scoperta delle radici culturali e storiche dei moderni Supereroi. \n\n\n4000+anni di miti greco-romani\n90+anni di Storia dei comics\n1938 creazione di Superman\n12 sezioni\n\nPercorso Espositivo\n01Origini del Mito\n02Miti nel Tempo\n03Dei dell’Olimpo\n04Mito Greco-Romano\n05Proto-Supereroi\n06Poteri e Tipologie\n07Storia Comics\n08Arte dei Supereroi\n09TV e Musica\n10Grandi Conquiste\n11I Supereroi Oggi\n12Artisti e Autori\n01 | Superheroes \nLe Origini del Mito\nErcole e Superman a confronto: il passato incontra il presente\, a conferma della longevità delle grandi storie e dei miti del passato. \n\n02 | Miti nel tempo e nello spazio \nOrigini dei Supereroi nel Mondo\nOltre alle colonne portanti del gotha dei Supereroi americani (Marvel e DC)\, in ogni parte del mondo\, sono nati personaggi le cui origini sono da rintracciarsi nelle tradizioni culturali\, mitologiche e religiose dei loro paesi. \n\n03 | Metamorfosi Mitologiche I \nGli Dei Dell’Olimpo\nLa trasposizione moderna degli antichi dèi nei comics\, a dimostrazione del perdurare degli schemi iconografici originali. \n\n04 | Metamorfosi Mitologiche II \nIl Mito Greco-Romano\nUna serie di riproduzioni archeologiche esposte approfondiscono il legame tra passato e presente nella narrazione mitologica. \n\n05 | Proto-Supereroi \nDalle Origini al 2026\nUn viaggio nel tempo che parte dagli anni ’30 e arriva al 2026\, mette a confronto i grandi eventi storici con l’evoluzione dei Supereroi. \n\n06 | Poteri e Tipologie \nSupereroi\n“Da grandi poteri derivano grandi responsabilità”. I principali “superpoteri” che rendono queste creature simili a dèi. \n\n07 | I Supereroi nella Storia dei Comics \nStoria dei Comics\nLa sezione ricostruisce i momenti fondamentali della storia dei Supereroi su carta stampata\, dalle origini ad oggi. \n\n08 | L’Arte dei Supereroi \nCinque Decadi di Arte\nCinque decadi e cinque artisti che hanno segnato capitoli fondamentali nella storia della Marvel e DC\, definendo tratti iconici indelebili. \n\n09 | Oltre i Comics \nTV e Musica\nDalle serie animate ai serial TV\, fino all’influenza sulla musica pop e rock\, con una selezione di dischi in vinile d’epoca. \n\n10 | Le Grandi Conquiste \nConquiste Sociali\nCome i comics hanno affrontato\, per primi\, temi sociali rilevanti sfidando censure e convenzioni\, trasmettendo valori fondamentali al pubblico. \n\n11 | I Supereroi Oggi \nFenomeno Globale\nDalle action figure agli oggetti quotidiani\, un universo nato per il gioco è divenuto fenomeno culturale globale e cinematografico. \n\n12 | Artisti e Autori \nVideo Tributo\nVideo tributo ai grandi Maestri (Stan Lee\, Jack Kirby\, Bob Kane e altri) che hanno dato vita a questo straordinario viaggio fantastico. \n\n\nUna Mostra per Tutte Le Generazioni\nUn ponte tra storia\, arte e presente. Pensata per le famiglie\, le scuole e tutti gli amanti del mito moderno. \n\nFAMIGLIE\nSCUOLE\nFAN COMICS\nAPPASSIONATI MITO\n\nAcquista Biglietti \n\n\nCollaborazioni & Partner\nCircolo dei lettori\nATL Novara\nLibreria La Talpa\nLibreria Lazzarelli
URL:https://www.ilcastellodinovara.it/event/superheroes/
LOCATION:PIEMONTE
CATEGORIES:Mostra
ATTACH;FMTTYPE=image/jpeg:https://www.ilcastellodinovara.it/wp-content/uploads/2026/04/K_Visual1_Orizzontale.jpg
ORGANIZER;CN="Contemporanea Progetti":MAILTO:contact@contemporaneaprogetti.eu
END:VEVENT
END:VCALENDAR