BEGIN:VCALENDAR
VERSION:2.0
PRODID:-//Il Castello di Novara - ECPv6.15.17//NONSGML v1.0//EN
CALSCALE:GREGORIAN
METHOD:PUBLISH
X-WR-CALNAME:Il Castello di Novara
X-ORIGINAL-URL:https://www.ilcastellodinovara.it
X-WR-CALDESC:Eventi per Il Castello di Novara
REFRESH-INTERVAL;VALUE=DURATION:PT1H
X-Robots-Tag:noindex
X-PUBLISHED-TTL:PT1H
BEGIN:VTIMEZONE
TZID:Europe/Rome
BEGIN:DAYLIGHT
TZOFFSETFROM:+0100
TZOFFSETTO:+0200
TZNAME:CEST
DTSTART:20220327T010000
END:DAYLIGHT
BEGIN:STANDARD
TZOFFSETFROM:+0200
TZOFFSETTO:+0100
TZNAME:CET
DTSTART:20221030T010000
END:STANDARD
BEGIN:DAYLIGHT
TZOFFSETFROM:+0100
TZOFFSETTO:+0200
TZNAME:CEST
DTSTART:20230326T010000
END:DAYLIGHT
BEGIN:STANDARD
TZOFFSETFROM:+0200
TZOFFSETTO:+0100
TZNAME:CET
DTSTART:20231029T010000
END:STANDARD
BEGIN:DAYLIGHT
TZOFFSETFROM:+0100
TZOFFSETTO:+0200
TZNAME:CEST
DTSTART:20240331T010000
END:DAYLIGHT
BEGIN:STANDARD
TZOFFSETFROM:+0200
TZOFFSETTO:+0100
TZNAME:CET
DTSTART:20241027T010000
END:STANDARD
BEGIN:DAYLIGHT
TZOFFSETFROM:+0100
TZOFFSETTO:+0200
TZNAME:CEST
DTSTART:20250330T010000
END:DAYLIGHT
BEGIN:STANDARD
TZOFFSETFROM:+0200
TZOFFSETTO:+0100
TZNAME:CET
DTSTART:20251026T010000
END:STANDARD
END:VTIMEZONE
BEGIN:VEVENT
DTSTART;TZID=Europe/Rome:20231104T100000
DTEND;TZID=Europe/Rome:20240407T190000
DTSTAMP:20260420T152249
CREATED:20230901T093221Z
LAST-MODIFIED:20240307T150329Z
UID:4833-1699092000-1712516400@www.ilcastellodinovara.it
SUMMARY:Boldini\, De Nittis et les italiens de Paris
DESCRIPTION:L’evento\, organizzato congiuntamente da Associazione Mets – percorsi d’arte\,  Comune di Novara e  Fondazione Castello di Novara\, sarà dedicato ad alcuni degli artisti italiani più noti e amati dal grande pubblico\, conosciuti internazionalmente come Les italiens de Paris\, primi tra tutti il ferrarese Giovanni Boldini (1842-1931) e il barlettano Giuseppe de Nittis (1846-1884).\n\n\n\nLa curatela della rassegna è stata affidata anche quest’anno a Elisabetta Chiodini\, storico dell’arte indipendente\, studiosa di arti figurative e di storia del costume e della moda\, esperta di arte italiana tra la seconda metà dell’Ottocento e i primi decenni del Novecento. \nIl percorso espositivo\, articolato in otto sezioni\, segue come di consueto l’andamento delle suggestive sale del Castello e si propone di illustrare\, attraverso confronti dal ritmo serrato e stimolante\, il lavoro dei pittori italiani di maggior successo attivi nella Parigi del secondo Ottocento e del primo Novecento. Le opere in mostra\, provenienti da collezioni pubbliche e private\, saranno circa una novantina. \nPerché Parigi e perché gli italiani a Parigi? \nCom’è noto\, fin dai primi anni Venti dell’Ottocento la Francia aveva attratto numerosi artisti italiani da un lato desiderosi di confrontarsi con la cultura figurativa d’Oltralpe e dall’altro di ampliare il proprio mercato oltre confine. Tra questi il veronese Giuseppe Canella (1788-1847)\, uno dei primi a scegliere la Francia come patria d’elezione e tra i primissimi ad immergersi a dipingere dal vero nella fitta foresta di Fontainebleau e a proporre i propri lavori al Salon del 1827. Quattro degli otto dipinti esposti in quell’occasione furono acquistati dal Duca Luigi Filippo d’Orleans\, il futuro sovrano\, e oggi sono nelle collezioni del Musée Carnavalet. \nQualche anno più tardi\, solo per fare qualche nome\, sarà la volta di Gabriele Smargiassi (1798-1882)\, di Consalvo Carelli (1818-1900)\, considerato il paesista più à la page della società aristocratica del regno di Luigi Filippo\, di Giuseppe Palizzi (1812-1888). Palizzi si affermerà come uno dei maggiori peintre animalièr\, nel 1859 verrà insignito della prestigiosa Légion d’honneur e per tutti gli anni Sessanta sarà il punto di riferimento per molti degli artisti italiani che arriveranno a Parigi. \nCon la nascita delle prime Esposizioni Universali\, città come Londra (Great Exhibition of the Works of Industry of all Nations\, 1851) e Parigi (Exposition universelle des produits de l’agriculture\, de l’industrie et des beaux-arts\, 1855) attraggono milioni di visitatori da tutta Europa e diventano il centro nevralgico del mercato internazionale dell’arte contemporanea. \nDiversamente dall’esposizione di Londra del 1851\, nel 1855 Parigi dedica un intero padiglione anche alle Belle Arti. Ben 28 i paesi partecipanti e circa 5000 le opere esposte. Numeri decisamente importanti. Il padiglione\, ricordano le cronache\, è visitato da quasi un milione di persone. Semplici curiosi\, amanti dell’arte\, mercanti d’arte\, collezionisti e i medesimi artisti. Artisti che hanno la possibilità di confrontarsi direttamente con quello che è considerato “il meglio” della cultura artistica contemporanea di altri Paesi e\, al contempo\, non solo di visitare i musei e conoscere gli antichi maestri\, ma di avvicinarsi persino alle nuove poetiche\, ai nuovi modi espressivi\, compresi quelli considerati di scandalosa avanguardia\, come quelli di Gustave Courbet (1819-1877). Quest’ultimo\, vistosi rifiutare l’opera L’atelier del pittore dalla giuria dell’Esposizione\, decide di erigere\, a sue spese e proprio accanto ai padiglioni dell’Esposizione ufficiale\, il Pavillon du Realisme per allestirvi la sua mostra personale\, una mostra che segnerà il destino dell’evoluzione dell’arte europea. \nL’ Exposition universelle successiva\, quella del 1867\, la prima strutturata interamente a padiglioni\, confermerà Parigi\, parafrasando Walter Benjamin\, capitale del lusso e delle mode\, del progresso e della civiltà. L’evento attirerà ben oltre quindici milioni di visitatori\, tra i quali anche moltissimi dei nostri artisti\, pittori e scultori. \nVa da sé\, che nella capitale del lusso e delle mode\, anche il mercato dell’arte non solo è florido ma è in continua e rapida crescita. Sarà proprio dagli anni Sessanta che intraprendenti mercanti d’arte contemporanea\, francesi\, inglesi\, tedeschi\, olandesi faranno a gara per assicurarsi le opere di giovani artisti promettenti riuscendo\, spesso\, a convincerli a stipulare contratti “in esclusiva”\, diventandone i diretti intermediari con i compratori e il loro gusto estetico. Tra i mercanti di maggior fama spiccano i nomi di Adolphe Goupil\, Friedrich Reitlinger\, Thomas e William Agnew\, Algernon Moses Marsden. \nUna città piena di opportunità\, insomma\, nella quale numerosi artisti stranieri decideranno di fermarsi per sempre. \n\nComunicato stampa Download \n 
URL:https://www.ilcastellodinovara.it/event/boldini-de-nittis-et-les-italiens-de-paris/
LOCATION:Ala degli Sforza- 1 piano
CATEGORIES:Ala degli Sforza - Primo Piano,Mostra
ATTACH;FMTTYPE=image/jpeg:https://www.ilcastellodinovara.it/wp-content/uploads/2023/09/Boldini.jpg
END:VEVENT
BEGIN:VEVENT
DTSTART;TZID=Europe/Rome:20231111T100000
DTEND;TZID=Europe/Rome:20231203T190000
DTSTAMP:20260420T152249
CREATED:20231108T142209Z
LAST-MODIFIED:20231108T142322Z
UID:5064-1699696800-1701630000@www.ilcastellodinovara.it
SUMMARY:MOSTRA FOTOGRAFICA “NONCHIAMATEMI MORBO”
DESCRIPTION:Il Castello Visconteo Sforzesco di Novara\, dal 10 novembre al 3 dicembre\, ospiterà la mostra fotografica parlante “Nonchiamatemi morbo” per sensibilizzare sulle condizioni e la vita quotidiana di chi è affetto dal morbo di Parkinson.\nOgni scatto esposto è accompagnato da un breve audio che\, attraverso le voci di Lella Costa e Claudio Bisio nei panni di “Mr. e Mrs. Parkinson”\, guida il visitatore in un’intima riflessione sulla malattia e le sue ripercussioni nella quotidianità.\nIn totale sono 40 le storie\, piccole e grandi\, sempre emozionanti\, di donne e di uomini che resistono al Parkinson raccontate dai 48 scatti fotografici di Giovanni Diffidenti. \n  \nCastello Sforzesco di Novara\nVenerdì 10 novembre\, ore 17.00\nNONCHIAMATEMI MORBO\nStorie di resistenza al Parkinson\nInaugurazione mostra fotografica\nFotografie di Giovanni Diffidenti\nVoci di Claudio Bisio e Lella Costa \nApertura Mostra\norario continuato dalle ore 10.00 alle ore 19.00\nda martedì a domenica
URL:https://www.ilcastellodinovara.it/event/mostra-fotografica-nonchiamatemi-morbo/
CATEGORIES:Mostra
ATTACH;FMTTYPE=image/jpeg:https://www.ilcastellodinovara.it/wp-content/uploads/2023/11/mostra-novara.jpeg
END:VEVENT
BEGIN:VEVENT
DTSTART;TZID=Europe/Rome:20231201T180000
DTEND;TZID=Europe/Rome:20231201T180000
DTSTAMP:20260420T152249
CREATED:20231107T115334Z
LAST-MODIFIED:20231107T115334Z
UID:5052-1701453600-1701453600@www.ilcastellodinovara.it
SUMMARY:Essere insegnanti
DESCRIPTION:Pratiche di didattica attiva\npresentazione del libro Carocci di Davide Tamagnini\n\nLa bellezza e la fatica dell’essere insegnanti. Un’occasione per riflettere sulla complessità di questa professione e definire gli aspetti principali per i quali vale la pena mettersi in ricerca e sperimentare. La necessità di costruire processi realmente formativi\, capaci di favorire l’emancipazione di tutti. \nIl libro riflette sulla bellezza e la complessità della professione di insegnante e ne definisce gli aspetti principali. Attraverso il dialogo con grandi educatori del passato e con coloro che sono maestri nel presente\, ogni docente può muoversi sulla strada della ricerca e della sperimentazione\, in modo da favorire l’emancipazione di tutti. A tale scopo\, gli strumenti e le tecniche presentati nel testo\, dal punto di vista teorico e pratico\, fanno riferimento a quell’attivismo pedagogico indispensabile per trasformare la scuola\, qualsiasi sia il suo ordine. Non si propongono né ricette né progetti da applicare\, ma soltanto delle possibilità. Affinché la scuola sia tale\, è necessario che gli insegnanti riflettano sul proprio ruolo e la propria identità.
URL:https://www.ilcastellodinovara.it/event/essere-insegnanti/
LOCATION:Sala Sibilla Aleramo – Circolo dei Lettori\, Castello di Novara - PIAZZA MARTIRI DELLA LIBERTA' 3\, NOVARA\, NO\, 28100\, Italia
ATTACH;FMTTYPE=image/jpeg:https://www.ilcastellodinovara.it/wp-content/uploads/2023/11/Davide-Tamagnini-Essere-insegnanti-16-9-1600x900-1.jpg
END:VEVENT
BEGIN:VEVENT
DTSTART;TZID=Europe/Rome:20231203T110000
DTEND;TZID=Europe/Rome:20231203T120000
DTSTAMP:20260420T152249
CREATED:20231030T093029Z
LAST-MODIFIED:20231030T093029Z
UID:4984-1701601200-1701604800@www.ilcastellodinovara.it
SUMMARY:Dialoghi con la scienza #3
DESCRIPTION:L’ATOMICA E IL DILEMMA DELLO SCIENZIATO\ncon Emanuele Menietti\, giornalista Il Post e Dario Rossi\, editor UTET\nin collaborazione con Il Post \nPoche persone hanno cambiato il mondo\, una di queste fu J. Robert Oppenheimer: il “padre della bomba atomica”. Coordinando il Progetto Manhattan ottenne in pochi anni un risultato insperato\, che contribuì alla fine della Seconda guerra mondiale\, aprendo nuove conoscenze e opportunità legate alle tecnologie nucleari. Al tempo stesso\, però\, aveva reso possibile la costruzione dell’arma più potente e mortale mai realizzata con il potenziale di distruggere l’intera umanità. Dopo i bombardamenti sul Giappone\, Oppenheimer avrebbe convissuto per sempre con questo dilemma e\, proprio per questo\, divenne uno dei più convinti sostenitori della necessità di istituire regole comuni e internazionali per tenere sotto controllo la proliferazione delle armi nucleari. \nDIALOGHI CON LA SCIENZA\nPer la scienza come per l’arte\, tutto parte da un pensiero\, da un’idea che\, in entrambi i casi\, deriva dalla stessa\, fortissima\, spinta umana a osservare la realtà. Da un lato la fisica\, la chimica\, le scienze naturali e le altre discipline scientifiche\, dall’altro l’espressione artistica\, nelle sue forme molteplici\, usano linguaggi diversi con un comune intento: elaborare una rappresentazione del mondo per affrontarne la complessità.\nIn questa 3. edizione di Dialoghi con la scienza\, analizziamo come questi saperi si intrecciano e si scambiano e\, in particolare\, come la musica\, il teatro e il cinema riescano a narrare la scienza\, i suoi protagonisti\, le sue conseguenze sul mondo e sui singoli esseri umani.
URL:https://www.ilcastellodinovara.it/event/dialoghi-con-la-scienza-3/
LOCATION:Castello di Novara\, Piazza Martiri della Libertà\, 3\, Novara\, Novara\, 28100\, Italia
ATTACH;FMTTYPE=image/jpeg:https://www.ilcastellodinovara.it/wp-content/uploads/2023/10/dialoghiconlascienza-1600x900-1.jpg
END:VEVENT
BEGIN:VEVENT
DTSTART;TZID=Europe/Rome:20231204T180000
DTEND;TZID=Europe/Rome:20231204T180000
DTSTAMP:20260420T152249
CREATED:20231107T120127Z
LAST-MODIFIED:20231107T120127Z
UID:5056-1701712800-1701712800@www.ilcastellodinovara.it
SUMMARY:Uno a testa
DESCRIPTION:E se potessimo uccidere?\npresentazione del libro LiberAria di Michela Volante\ncon Lorenza Pieri\nin collaborazione con Fondazione Teatro Coccia\n\nOgni cittadino della Repubblica Commerciale può sparare una volta contro una persona\, animale o cosa\, senza alcuna conseguenza. Il costo in termini di vite umane è ininfluente alla luce dell’equilibrio sociale. Ma cosa comporta nelle persone e nei rapporti sociali? E cosa succede a Sean\, sbalzato nell’era del Dopo? \nNella Repubblica Commerciale\, dove tutto è regolamentato dalla GigaCorp\, c’è un Prima e un Dopo la promulgazione della Legge n. 40904\, fortemente voluta dal Senatore Flour\, che consente a ogni cittadino\, per diritto di nascita\, di poter usufruire di un colpo di pistola a testa\, una licenza di uccidere contro qualsivoglia persona\, animale o cosa\, per cui è lecito qualsiasi movente e senza conseguenze giuridiche o penali. Questo dice la legge\, per garantire l’ordine sociale occorre almeno una valvola di sfogo. Il costo in termini di vite umane è ininfluente alla luce dell’equilibrio sociale che ne deriva. Ma cosa comporta nella vita della gente questa mostruosità? Come cambiano i rapporti sociali? Il Prima e il Dopo investono anche la vita di Sean\, biologo marino finalmente a una svolta nella sua carriera\, e di Jackie\, la sua compagna\, che si troveranno coinvolti una trasformazione epocale\, in un susseguirsi di colpi di scena che lascia col fiato sospeso fino all’ultima pagina.
URL:https://www.ilcastellodinovara.it/event/uno-a-testa/
LOCATION:Sala Sibilla Aleramo – Circolo dei Lettori\, Castello di Novara - PIAZZA MARTIRI DELLA LIBERTA' 3\, NOVARA\, NO\, 28100\, Italia
ATTACH;FMTTYPE=image/jpeg:https://www.ilcastellodinovara.it/wp-content/uploads/2023/11/Michela-Volante-Uno-a-testa-16-9-1600x900-1.jpg
END:VEVENT
BEGIN:VEVENT
DTSTART;TZID=Europe/Rome:20231208T170000
DTEND;TZID=Europe/Rome:20231219T190000
DTSTAMP:20260420T152249
CREATED:20231207T152215Z
LAST-MODIFIED:20231219T114423Z
UID:5095-1702054800-1703012400@www.ilcastellodinovara.it
SUMMARY:Mostra antologica Vittorio Valente 1987-2023
DESCRIPTION:Da venerdì 8 dicembre alle 17 inaugura la mostra antologica di Vittorio Valente che presenta nella suggestiva Sale delle colonne la sua produzione autistica dal 1987 ad oggi. \nValente è un’artista eclettico \, poliedrico \, che sotto gli impasti in silicone esprime arte ed eleganza. Basta ammirare i suoi lavori per trovare passione in tutto quello che trasforma. Basti vedere \, o meglio toccare \, il risultato finale dei suoi animali \, per capire che ha saputo stregare chiunque sia invece in cerca di un significato che non è mai scontato. La sua ricetta artistica è una miscela unica di scienza\, cultura pop e un po’ di kitsch . Vittorio Valente non può non attirare l’attenzione degli amanti dell’arte e della critica.
URL:https://www.ilcastellodinovara.it/event/mostra-antologica-vittorio-valente-1987-2023/
LOCATION:Sala delle Colonne – piano terra\, Castello di Novara - PIAZZA MARTIRI DELLA LIBERTA' 3\, NOVARA\, NO\, 28100\, Italia
CATEGORIES:Mostra
ATTACH;FMTTYPE=image/jpeg:https://www.ilcastellodinovara.it/wp-content/uploads/2023/12/408767278_7312183662149711_1143221895669389929_n.jpg
END:VEVENT
BEGIN:VEVENT
DTSTART;TZID=Europe/Rome:20231211T180000
DTEND;TZID=Europe/Rome:20231211T193000
DTSTAMP:20260420T152249
CREATED:20231206T163637Z
LAST-MODIFIED:20231206T163637Z
UID:5073-1702317600-1702323000@www.ilcastellodinovara.it
SUMMARY:Odio il calcio
DESCRIPTION:Perdibili storie di formazione e pallone – presentazione del libro Sperling & Kupfer di Fabrizio Biasin\ncon Matteo Marnati\, modera Lorenzo Del Boca\n  \nIn questa autoanalisi che arriva ai giorni nostri\, l’autore dimostra come vita e calcio possono diventare uno lo specchio dell’altra in un continuo rimpallo di emozioni\, svolte\, illusorie illuminazioni fino al cambio di prospettiva: diventare giornalista sportivo! \n  \ncon la Carta Io leggo di Più ( del Circolo dei Lettori) puoi prenotare il tuo posto\, nelle prime file: scrivi a info.novara@circololettori.it \n  \nlunedì 11 dicembre 2023 | ore 18:00Sala delle Vetrate | Castello Sforzesco\, Novara
URL:https://www.ilcastellodinovara.it/event/odio-il-calcio/
LOCATION:Sala delle Vetrate – 1 Piano\, PIAZZA MARTIRI DELLA LIBERTA' 3\, NOVARA\, PIEMONTE\, 28100\, Italia
CATEGORIES:Circolo dei Lettori,Evento
ATTACH;FMTTYPE=image/jpeg:https://www.ilcastellodinovara.it/wp-content/uploads/2023/12/Fabrizio-Biasin-Odio-il-calcio-16-9-1.jpg
END:VEVENT
BEGIN:VEVENT
DTSTART;TZID=Europe/Rome:20231212T180000
DTEND;TZID=Europe/Rome:20231212T193000
DTSTAMP:20260420T152249
CREATED:20231206T163837Z
LAST-MODIFIED:20231206T163837Z
UID:5076-1702404000-1702409400@www.ilcastellodinovara.it
SUMMARY:Lezione di Melania G. Mazzucco
DESCRIPTION:Jacomo Tintoretto & i suoi figli\na partire dal libro Einaudi\nin collaborazione con Salone Internazionale del Libro di Torino e Giulio Einaudi editore\nArtista inquieto e geniale\, dalla vita piena di chiaroscuri quanto le sue opere\, Tintoretto emerge in queste pagine come i suoi personaggi dall’ombra degli immensi teleri sparsi a Venezia o nei quadri dei musei del mondo: enigmatico\, umano\, complesso\, figlio del suo tempo eppure modernissimo regista di corpi\, di luci\, di emozioni.
URL:https://www.ilcastellodinovara.it/event/lezione-di-melania-g-mazzucco/
LOCATION:Sala delle Mura – piano terra\, Castello di Novara - PIAZZA MARTIRI DELLA LIBERTA' 3\, NOVARA\, NO\, 28100\, Italia
CATEGORIES:Circolo dei Lettori,Evento
ATTACH;FMTTYPE=image/jpeg:https://www.ilcastellodinovara.it/wp-content/uploads/2023/12/Melania-Mazzucco_foto-di-Isabella-De-Maddalena-1536x864-1.jpg
END:VEVENT
BEGIN:VEVENT
DTSTART;TZID=Europe/Rome:20231215T180000
DTEND;TZID=Europe/Rome:20231215T193000
DTSTAMP:20260420T152249
CREATED:20231206T164058Z
LAST-MODIFIED:20231206T164147Z
UID:5079-1702663200-1702668600@www.ilcastellodinovara.it
SUMMARY:L’equivoco di Natale
DESCRIPTION:Ci pensa l’Augurificio!\n\n\npresentazione del libro DeAgostini di Alessandro Barbaglia\n\nEtcì\, tredicenne determinata e decisa\, gestisce un Augurificio Automatico. Nessuno ti fa gli auguri? Non sai cosa scrivere sul biglietto? Scegli l’occasione\, ti iscrivi e il destinatario riceverà i tuoi auguri. A Natale\, il lavoro si intensifica sempre\, ma quest’anno a interpellarla è Babbo Natale in persona.
URL:https://www.ilcastellodinovara.it/event/lequivoco-di-natale/
LOCATION:Sala delle Mura – piano terra\, Castello di Novara - PIAZZA MARTIRI DELLA LIBERTA' 3\, NOVARA\, NO\, 28100\, Italia
CATEGORIES:Circolo dei Lettori,Evento
ATTACH;FMTTYPE=image/jpeg:https://www.ilcastellodinovara.it/wp-content/uploads/2023/12/Alessandro-Barbaglia-Lequivoco-di-Natale-16-9.jpg
END:VEVENT
BEGIN:VEVENT
DTSTART;TZID=Europe/Rome:20231216T180000
DTEND;TZID=Europe/Rome:20231216T193000
DTSTAMP:20260420T152249
CREATED:20231206T164846Z
LAST-MODIFIED:20231215T150639Z
UID:5082-1702749600-1702755000@www.ilcastellodinovara.it
SUMMARY:Viaggio nel mondo della luce
DESCRIPTION:Fenomenologia e campi di applicazione – presentazione del libro Interlinea di Giorgio Delrosso\ncon Federico D’Andrea e Giancarlo Andenna\, modera Federica Mingozzi\nmusiche a cura di Damiano Bordoni e Marcello Nardilli in collaborazione con Ordine Provinciale dei Medici Chirurghi e degli Odontoiatri di Novara\nIl libro vuole offrire\, agli addetti ai lavori e a chiunque desideri avvicinarsi al mondo della luce\, un percorso di conoscenza\, sulla sua fenomenologia e sui campi di applicazione in Dermatologia.
URL:https://www.ilcastellodinovara.it/event/viaggio-nel-mondo-della-luce/
CATEGORIES:Circolo dei Lettori,Evento
ATTACH;FMTTYPE=image/jpeg:https://www.ilcastellodinovara.it/wp-content/uploads/2023/12/Giorgio-Delrosso-Viaggio-nel-mondo-della-luce-16-9.jpg
END:VEVENT
BEGIN:VEVENT
DTSTART;TZID=Europe/Rome:20231217T110000
DTEND;TZID=Europe/Rome:20231217T123000
DTSTAMP:20260420T152249
CREATED:20231215T150425Z
LAST-MODIFIED:20231215T150529Z
UID:5116-1702810800-1702816200@www.ilcastellodinovara.it
SUMMARY:La grande Parigi
DESCRIPTION:1900-1920: il periodo d’oro dell’arte moderna\npresentazione del libro Feltrinelli di Jacopo Veneziani\ncon Paolo Tacchini\nUn viaggio in anni di straordinario fervore culturale e indicibile catastrofe\, in compagnia di ineguagliabili artisti\, singolari poeti ed eroine silenziose\, al centro di amicizie e rivalità\, sodalizi indissolubili e incontri fortuiti\, passioni e tradimenti che hanno reso Parigi la capitale mondiale dell’arte.
URL:https://www.ilcastellodinovara.it/event/la-grande-parigi/
LOCATION:Sala delle Vetrate – 1 Piano\, PIAZZA MARTIRI DELLA LIBERTA' 3\, NOVARA\, PIEMONTE\, 28100\, Italia
CATEGORIES:Circolo dei Lettori,Evento
ATTACH;FMTTYPE=image/jpeg:https://www.ilcastellodinovara.it/wp-content/uploads/2023/12/Jacopo-Veneziani-La-grande-Parigi-16-9-1-1.jpg
END:VEVENT
BEGIN:VEVENT
DTSTART;TZID=Europe/Rome:20231218T180000
DTEND;TZID=Europe/Rome:20231218T190000
DTSTAMP:20260420T152249
CREATED:20231215T145544Z
LAST-MODIFIED:20231215T150737Z
UID:5106-1702922400-1702926000@www.ilcastellodinovara.it
SUMMARY:Dove si scrive\, come si scrive
DESCRIPTION:I luoghi dell’anima di scrittori e scrittrici\npresentazione del libro Rizzoli\ncon la curatrice Carlotta Sanzogni\, Pietro Baroni e Mattia Insolia\nOgni persona ha un luogo che predilige\, un proprio rifugio dove sentirsi a casa e dove può lasciare che la creatività corra libera\, realizzando qualcosa di nuovo e completamente suo: autori e autrici aprono le loro case e i loro taccuini a chi vuole sapere qualcosa di più su dove\, e come\, nascono i libri.
URL:https://www.ilcastellodinovara.it/event/dove-si-scrive-come-si-scrive/
LOCATION:Sala Sibilla Aleramo – Circolo dei Lettori\, Castello di Novara - PIAZZA MARTIRI DELLA LIBERTA' 3\, NOVARA\, NO\, 28100\, Italia
CATEGORIES:Circolo dei Lettori,Evento
ATTACH;FMTTYPE=image/jpeg:https://www.ilcastellodinovara.it/wp-content/uploads/2023/12/Dove-si-scrive-come-si-scrive-16-9.jpg
END:VEVENT
BEGIN:VEVENT
DTSTART;TZID=Europe/Rome:20231219T000000
DTEND;TZID=Europe/Rome:20241227T233000
DTSTAMP:20260420T152249
CREATED:20231215T120254Z
LAST-MODIFIED:20240826T104606Z
UID:5101-1702944000-1735342200@www.ilcastellodinovara.it
SUMMARY:Il Castello Svelato - caccia al tesoro
DESCRIPTION:Cerca anche tu il leggendario Cavallo d’Oro di Leonardo da Vinci nascosto nel Castello di Novara\, partecipando alla caccia al tesoro “Il Castello Svelato”. Per cominciare l’avventura acquista il biglietto online e vieni al Castello di Novara con i tuoi amici.\nChissà che proprio tu non riesca dove tanti hanno fallito: trasformare in realtà un mito! \nDotatevi di telefonino ed entusiasmo da esploratori e scoprite il Castello con le sue mille storie grazie alla prima avventura phygital del Castello di Novara! \nSituato nel cuore della città\, da fortezza militare negli ultimi anni il Castello si è trasformato in un importante centro di aggregazione\, un polo culturale capace di ospitare molteplici ed eterogenei eventi conservando frammenti della sua storia. \nE’ proprio questa storia che vuole essere svelata attraverso una caccia al tesoro phygital: mappe\, enigmi\, immagini guideranno i giocatori alla scoperta di vicende storiche\, curiosità e luoghi ancora inaccessibili\, alla ricerca del “nostro” tesoro. \nPer iniziare l’avventura bastano pochi semplici passaggi: acquista il tuo biglietto tramite vivaticket\, riceverai una mail di conferma ed il tuo biglietto elettronico\, dal giorno successivo ( dopo 24 h dall’acquisto del biglietto) potrai venire in Castello ed attivare il gioco inquadrando con il tuo smartphone il QR che troverai all’ingresso e digitando il codice di attivazione presente sul tuo biglietto (si tratta del codice alfa numerico:  CA: XXXXXXXXXX) \nInizia l’avventura… buon divertimento! \ncon il sostegno della Fondazione Compagnia San Paolo 
URL:https://www.ilcastellodinovara.it/event/il-castello-svelato-caccia-al-tesoro/
LOCATION:Corte maggiore
CATEGORIES:Evento,Phygital
ATTACH;FMTTYPE=image/jpeg:https://www.ilcastellodinovara.it/wp-content/uploads/2023/12/dem-640x480-1.jpg
END:VEVENT
BEGIN:VEVENT
DTSTART;TZID=Europe/Rome:20231219T180000
DTEND;TZID=Europe/Rome:20231219T193000
DTSTAMP:20260420T152249
CREATED:20231215T145805Z
LAST-MODIFIED:20231215T150850Z
UID:5112-1703008800-1703014200@www.ilcastellodinovara.it
SUMMARY:Lo scandaloso Nobel a Bob Dylan
DESCRIPTION:Reading concerto con Franco Bergoglio e Federico Sirianni \nIl Nobel per la letteratura a Bob Dylan ha suscitato scandalo. Eppure Dylan negli anni Sessanta contribuì a un immaginario secondo solo a quello dei Beatles. Il saggista Franco Bergoglio e il cantautore Federico Sirianni uniscono le forze per raccontare un mito dei nostri tempi\, un artista che ha saputo rinnovarsi nel corso di una carriera tuttora attiva. Fu vero Nobel? Per noi la risposta è “sì”: mescolando parole e musica\, letteratura e canzoni proviamo a evocarne la poesia e a capire come\, perché e quando Bob Dylan ha cambiato il mondo.
URL:https://www.ilcastellodinovara.it/event/lo-scandaloso-nobel-a-bob-dylan/
LOCATION:Sala delle Mura – piano terra\, Castello di Novara - PIAZZA MARTIRI DELLA LIBERTA' 3\, NOVARA\, NO\, 28100\, Italia
CATEGORIES:Circolo dei Lettori,Evento
ATTACH;FMTTYPE=image/jpeg:https://www.ilcastellodinovara.it/wp-content/uploads/2023/12/Lo-scandaloso-Nobel-a-Bob-Dylan-16-9-per-sito.jpg
END:VEVENT
BEGIN:VEVENT
DTSTART;TZID=Europe/Rome:20231220T180000
DTEND;TZID=Europe/Rome:20231220T190000
DTSTAMP:20260420T152249
CREATED:20231215T150036Z
LAST-MODIFIED:20231215T151032Z
UID:5114-1703095200-1703098800@www.ilcastellodinovara.it
SUMMARY:La festa di Natale del Circolo
DESCRIPTION:Trova il tempo di riflettere\nè la fonte della forza.\nTrova il tempo di giocare\,\nè il segreto della giovinezza.\nTrova il tempo di leggere\,\nè la base del sapere\n(antica ballata irlandese) \n  \nUn momento per un brindisi insieme che riscalderà l’inverno e il cuore\, con la musica a cura di So’What Trio: Sonja Bellomi\, Davide Buratti e Alessandro Brustia.
URL:https://www.ilcastellodinovara.it/event/la-festa-di-natale-del-circolo/
LOCATION:Sala delle Mura – piano terra\, Castello di Novara - PIAZZA MARTIRI DELLA LIBERTA' 3\, NOVARA\, NO\, 28100\, Italia
CATEGORIES:Circolo dei Lettori
ATTACH;FMTTYPE=image/jpeg:https://www.ilcastellodinovara.it/wp-content/uploads/2023/12/Christmas-tree-holiday-pine.jpg
END:VEVENT
END:VCALENDAR