BEGIN:VCALENDAR
VERSION:2.0
PRODID:-//Il Castello di Novara - ECPv6.15.20//NONSGML v1.0//EN
CALSCALE:GREGORIAN
METHOD:PUBLISH
X-WR-CALNAME:Il Castello di Novara
X-ORIGINAL-URL:https://www.ilcastellodinovara.it
X-WR-CALDESC:Eventi per Il Castello di Novara
REFRESH-INTERVAL;VALUE=DURATION:PT1H
X-Robots-Tag:noindex
X-PUBLISHED-TTL:PT1H
BEGIN:VTIMEZONE
TZID:Europe/Rome
BEGIN:DAYLIGHT
TZOFFSETFROM:+0100
TZOFFSETTO:+0200
TZNAME:CEST
DTSTART:20220327T010000
END:DAYLIGHT
BEGIN:STANDARD
TZOFFSETFROM:+0200
TZOFFSETTO:+0100
TZNAME:CET
DTSTART:20221030T010000
END:STANDARD
BEGIN:DAYLIGHT
TZOFFSETFROM:+0100
TZOFFSETTO:+0200
TZNAME:CEST
DTSTART:20230326T010000
END:DAYLIGHT
BEGIN:STANDARD
TZOFFSETFROM:+0200
TZOFFSETTO:+0100
TZNAME:CET
DTSTART:20231029T010000
END:STANDARD
BEGIN:DAYLIGHT
TZOFFSETFROM:+0100
TZOFFSETTO:+0200
TZNAME:CEST
DTSTART:20240331T010000
END:DAYLIGHT
BEGIN:STANDARD
TZOFFSETFROM:+0200
TZOFFSETTO:+0100
TZNAME:CET
DTSTART:20241027T010000
END:STANDARD
BEGIN:DAYLIGHT
TZOFFSETFROM:+0100
TZOFFSETTO:+0200
TZNAME:CEST
DTSTART:20250330T010000
END:DAYLIGHT
BEGIN:STANDARD
TZOFFSETFROM:+0200
TZOFFSETTO:+0100
TZNAME:CET
DTSTART:20251026T010000
END:STANDARD
END:VTIMEZONE
BEGIN:VEVENT
DTSTART;TZID=Europe/Rome:20231219T000000
DTEND;TZID=Europe/Rome:20241227T233000
DTSTAMP:20260422T034552
CREATED:20231215T120254Z
LAST-MODIFIED:20240826T104606Z
UID:5101-1702944000-1735342200@www.ilcastellodinovara.it
SUMMARY:Il Castello Svelato - caccia al tesoro
DESCRIPTION:Cerca anche tu il leggendario Cavallo d’Oro di Leonardo da Vinci nascosto nel Castello di Novara\, partecipando alla caccia al tesoro “Il Castello Svelato”. Per cominciare l’avventura acquista il biglietto online e vieni al Castello di Novara con i tuoi amici.\nChissà che proprio tu non riesca dove tanti hanno fallito: trasformare in realtà un mito! \nDotatevi di telefonino ed entusiasmo da esploratori e scoprite il Castello con le sue mille storie grazie alla prima avventura phygital del Castello di Novara! \nSituato nel cuore della città\, da fortezza militare negli ultimi anni il Castello si è trasformato in un importante centro di aggregazione\, un polo culturale capace di ospitare molteplici ed eterogenei eventi conservando frammenti della sua storia. \nE’ proprio questa storia che vuole essere svelata attraverso una caccia al tesoro phygital: mappe\, enigmi\, immagini guideranno i giocatori alla scoperta di vicende storiche\, curiosità e luoghi ancora inaccessibili\, alla ricerca del “nostro” tesoro. \nPer iniziare l’avventura bastano pochi semplici passaggi: acquista il tuo biglietto tramite vivaticket\, riceverai una mail di conferma ed il tuo biglietto elettronico\, dal giorno successivo ( dopo 24 h dall’acquisto del biglietto) potrai venire in Castello ed attivare il gioco inquadrando con il tuo smartphone il QR che troverai all’ingresso e digitando il codice di attivazione presente sul tuo biglietto (si tratta del codice alfa numerico:  CA: XXXXXXXXXX) \nInizia l’avventura… buon divertimento! \ncon il sostegno della Fondazione Compagnia San Paolo 
URL:https://www.ilcastellodinovara.it/event/il-castello-svelato-caccia-al-tesoro/
LOCATION:Corte maggiore
CATEGORIES:Evento,Phygital
ATTACH;FMTTYPE=image/jpeg:https://www.ilcastellodinovara.it/wp-content/uploads/2023/12/dem-640x480-1.jpg
END:VEVENT
BEGIN:VEVENT
DTSTART;TZID=Europe/Rome:20240525T100000
DTEND;TZID=Europe/Rome:20240602T190000
DTSTAMP:20260422T034552
CREATED:20240516T084302Z
LAST-MODIFIED:20240516T102231Z
UID:5878-1716631200-1717354800@www.ilcastellodinovara.it
SUMMARY:Premio Nazionale d'Arte Città di Novara
DESCRIPTION:Torna l’appuntamento\, ormai tradizionale\, con l’arte contemporanea. \nDal 25 maggio al 2 giugno il Castello ospita la 22esima edizione del Premio Nazionale d’Arte Città di Novara con una grande novità: una sezione riservata agli artisti novaresi. \n  \nIngresso libero. 
URL:https://www.ilcastellodinovara.it/event/premio-nazionale-darte-citta-di-novara-2/
LOCATION:Ala degli Sforza- 1 piano
CATEGORIES:Ala degli Sforza - Primo Piano,Mostra
ATTACH;FMTTYPE=image/jpeg:https://www.ilcastellodinovara.it/wp-content/uploads/2024/05/premio-citta-darte-e1715854302167.jpg
END:VEVENT
BEGIN:VEVENT
DTSTART;TZID=Europe/Rome:20240601T173000
DTEND;TZID=Europe/Rome:20240601T193000
DTSTAMP:20260422T034552
CREATED:20240529T152919Z
LAST-MODIFIED:20240529T152919Z
UID:5920-1717263000-1717270200@www.ilcastellodinovara.it
SUMMARY:Circolo dei lettori: Protagonisti dell’arte novarese: I Fotografi
DESCRIPTION:con Adolfo Mignemi e Giuseppe Rosso \nin collaborazione con Consorzio Mutue \nLa fotografia è il tema dell’ultimo volume della collana dedicata ai protagonisti dell’arte novarese\, ricco di documenti sulla storia e sulla provenienza di questa arte sin dai primi esempi documentati di produzione fotografica. Ai partecipanti verrà distribuita copia omaggio del volume. \n  \nIngresso libero fino a esaurimento posti.
URL:https://www.ilcastellodinovara.it/event/circolo-dei-lettori-protagonisti-dellarte-novarese-i-fotografi/
LOCATION:Sala delle Vetrate – 1 Piano\, PIAZZA MARTIRI DELLA LIBERTA' 3\, NOVARA\, PIEMONTE\, 28100\, Italia
CATEGORIES:Circolo dei Lettori,Sala delle Vetrate - Primo Piano
ATTACH;FMTTYPE=image/jpeg:https://www.ilcastellodinovara.it/wp-content/uploads/2024/05/Protagonisti-dellArte-novarese-I-Fotografi-16-9-1600x900-1.jpg
END:VEVENT
BEGIN:VEVENT
DTSTART;TZID=Europe/Rome:20240603T180000
DTEND;TZID=Europe/Rome:20240603T193000
DTSTAMP:20260422T034552
CREATED:20240527T102915Z
LAST-MODIFIED:20240527T102915Z
UID:5893-1717437600-1717443000@www.ilcastellodinovara.it
SUMMARY:Circolo dei lettori: Realtà è finzione (e viceversa) #4
DESCRIPTION:Quarto di cinque incontri\, a cura di e con Nicola Feninno\, per cinque testi costruiti\, in modi diversi\, sul crinale tra realtà e finzione. \nJoan Didion\, Verso Betlemme (il Saggiatore) \nPubblicata nel 1968\, questa raccolta di una ventina di reportage è ormai un classico. Tutti i pezzi sono concentrati su un periodo decisivo per la storia degli Stati Uniti (dunque\, di rimbalzo\, anche per la nostra): quello degli anni Sessanta\, del sogno del Flower Power che si disgrega. Come fa Joan Didion a rendere universale anche il racconto della cronaca? \n  \nAbbonamento 5 incontri € 20\,00 | Carta Io leggo di Più ingresso gratuito
URL:https://www.ilcastellodinovara.it/event/circolo-dei-lettori-realta-e-finzione-e-viceversa-4/
LOCATION:Sala Sibilla Aleramo – Circolo dei Lettori\, Castello di Novara - PIAZZA MARTIRI DELLA LIBERTA' 3\, NOVARA\, NO\, 28100\, Italia
CATEGORIES:Circolo dei Lettori,Sala Sibilla Aleramo
ATTACH;FMTTYPE=image/jpeg:https://www.ilcastellodinovara.it/wp-content/uploads/2024/04/generica-Realta-e-finzione-e-viceversa-16-9-per-sito.jpg
END:VEVENT
BEGIN:VEVENT
DTSTART;TZID=Europe/Rome:20240604T180000
DTEND;TZID=Europe/Rome:20240604T193000
DTSTAMP:20260422T034552
CREATED:20240529T153257Z
LAST-MODIFIED:20240529T153257Z
UID:5923-1717524000-1717529400@www.ilcastellodinovara.it
SUMMARY:Circolo dei lettori: Incompletezza
DESCRIPTION:La storia di un grande genio. La storia di una rinascita \npresentazione del libro Ponte alle Grazie di e con Deborah Gambetta\ncon Erica Bertinotti \nCon la dedizione assoluta di chi deve salvarsi la vita\, l’autrice si rifugia nella matematica e al contempo nella conoscenza personale\, quasi viva\, dell’uomo Gödel: solo così troverà la chiave per fare i conti con l’assenza di senso\, l’incaponirsi del destino\, la casualità delle vicende umane. \n  \nIngresso libero fino a esaurimento posti.
URL:https://www.ilcastellodinovara.it/event/circolo-dei-lettori-incompletezza/
LOCATION:Sala Sibilla Aleramo – Circolo dei Lettori\, Castello di Novara - PIAZZA MARTIRI DELLA LIBERTA' 3\, NOVARA\, NO\, 28100\, Italia
CATEGORIES:Circolo dei Lettori,Sala Sibilla Aleramo
ATTACH;FMTTYPE=image/jpeg:https://www.ilcastellodinovara.it/wp-content/uploads/2024/05/Deborah-Gambetta-Incompletezza-16-9-1-1600x900-1.jpg
END:VEVENT
BEGIN:VEVENT
DTSTART;TZID=Europe/Rome:20240605T180000
DTEND;TZID=Europe/Rome:20240605T193000
DTSTAMP:20260422T034552
CREATED:20240529T154359Z
LAST-MODIFIED:20240529T154359Z
UID:5926-1717610400-1717615800@www.ilcastellodinovara.it
SUMMARY:Circolo dei lettori: Come riparare e prevenire le fratture della violenza
DESCRIPTION:a partire da La vita accade (Mondadori) e Ragazzo mio (DeAgostini) di e con Alberto Pellai\ncon Elia Impaloni\nin collaborazione con Liberazione e Speranza\n \nLo psicoterapeuta evidenza l’importanza del confronto tra i generi\, dando la parola agli uomini che si interrogano\, che riflettono e che si mettono in gioco. Uomini che testimoniano come sia possibile attraverso l’amore trovare pace e serenità. \n  \nIngresso libero fino a esaurimento posti.
URL:https://www.ilcastellodinovara.it/event/circolo-dei-lettori-come-riparare-e-prevenire-le-fratture-della-violenza/
LOCATION:Sala delle Vetrate – 1 Piano\, PIAZZA MARTIRI DELLA LIBERTA' 3\, NOVARA\, PIEMONTE\, 28100\, Italia
CATEGORIES:Circolo dei Lettori,Sala delle Vetrate - Primo Piano
ATTACH;FMTTYPE=image/jpeg:https://www.ilcastellodinovara.it/wp-content/uploads/2024/05/incontro-con-Alberto-Pellai-16-9-1600x900-1.jpg
END:VEVENT
BEGIN:VEVENT
DTSTART;TZID=Europe/Rome:20240606T180000
DTEND;TZID=Europe/Rome:20240606T193000
DTSTAMP:20260422T034552
CREATED:20240529T154738Z
LAST-MODIFIED:20240529T154738Z
UID:5930-1717696800-1717702200@www.ilcastellodinovara.it
SUMMARY:Circolo dei lettori: Les Fleurs du Mal e il genio poetico di Baudelaire
DESCRIPTION:Esplorazioni letterarie \ncon Michele Mastroianni\nin collaborazione con Dipartimento di Studi Umanistici UPO\n \nIl secondo e ultimo appuntamento nel mondo letterario di Charles Baudelaire riguarda Les Fleurs du mal e la concezione del Poeta. \n  \nIngresso libero fino a esaurimento posti.
URL:https://www.ilcastellodinovara.it/event/circolo-dei-lettori-les-fleurs-du-mal-e-il-genio-poetico-di-baudelaire-2/
LOCATION:Sala Sibilla Aleramo – Circolo dei Lettori\, Castello di Novara - PIAZZA MARTIRI DELLA LIBERTA' 3\, NOVARA\, NO\, 28100\, Italia
CATEGORIES:Circolo dei Lettori,Sala Sibilla Aleramo
ATTACH;FMTTYPE=image/jpeg:https://www.ilcastellodinovara.it/wp-content/uploads/2024/05/Les-Fleurs-du-Mal-e-il-genio-poetico-di-Baudelaire-16-9-per-sito-1-1600x900-1.jpg
END:VEVENT
BEGIN:VEVENT
DTSTART;TZID=Europe/Rome:20240607T180000
DTEND;TZID=Europe/Rome:20240607T193000
DTSTAMP:20260422T034552
CREATED:20240529T160149Z
LAST-MODIFIED:20240530T075606Z
UID:5933-1717783200-1717788600@www.ilcastellodinovara.it
SUMMARY:Circolo dei lettori: Fondamentali
DESCRIPTION:Storie di atlete che hanno cambiato il gioco \npresentazione del libro 66thand2nd\ncon le coautrici Elena Marinelli e Alessia Tuselli\ne con Roberto Gallaurese \nFondamentali tratta cinque argomenti legati allo sport praticato dalle donne a livello agonistico. La visibilità raggiunta dalle atlete in questi ultimi anni ha messo in evidenza come non sia possibile raccontare lo sport (non solo professionistico) femminile senza liberare la narrazione da una retorica piegata su sé stessa in cui le donne\, a livello di performance e di visibilità\, sono e saranno sempre in seconda posizione rispetto ai colleghi uomini. \n  \nIngresso libero fino a esaurimento posti.
URL:https://www.ilcastellodinovara.it/event/circolo-dei-lettori-fondamentali/
LOCATION:Sala Sibilla Aleramo – Circolo dei Lettori\, Castello di Novara - PIAZZA MARTIRI DELLA LIBERTA' 3\, NOVARA\, NO\, 28100\, Italia
CATEGORIES:Circolo dei Lettori,Sala Sibilla Aleramo
ATTACH;FMTTYPE=image/jpeg:https://www.ilcastellodinovara.it/wp-content/uploads/2024/05/Fondamentali-16-9-1600x900-1.jpeg
END:VEVENT
BEGIN:VEVENT
DTSTART;TZID=Europe/Rome:20240608T180000
DTEND;TZID=Europe/Rome:20240608T193000
DTSTAMP:20260422T034552
CREATED:20240530T125901Z
LAST-MODIFIED:20240530T125901Z
UID:5937-1717869600-1717875000@www.ilcastellodinovara.it
SUMMARY:Circolo dei lettori: Gente alla buona
DESCRIPTION:La provincia italiana\, di lavoro e segreti\, di padri e figli\, ferocia e nostalgia \npresentazione del libro Fandango di e con Mattia Grigolo\ncon Carlo Gallione \nNella provincia rurale del Nord Italia\, le vite e i destini di tre ragazzi e dei loro padri si interrompono davanti a due omicidi. Nel corso del tempo che inciampa davanti all’imprevisto\, tre famiglie e il nuovo prete del paese\, don Maurizio\, cercheranno di ridare corso al futuro dopo un evento sconvolgente. \n  \nIngresso libero fino a esaurimento posti.
URL:https://www.ilcastellodinovara.it/event/circolo-dei-lettori-gente-alla-buona/
LOCATION:Sala Sibilla Aleramo – Circolo dei Lettori\, Castello di Novara - PIAZZA MARTIRI DELLA LIBERTA' 3\, NOVARA\, NO\, 28100\, Italia
CATEGORIES:Circolo dei Lettori,Sala Sibilla Aleramo
ATTACH;FMTTYPE=image/jpeg:https://www.ilcastellodinovara.it/wp-content/uploads/2024/05/Mattia-Grigolo-Gente-alla-buona-16-9-1600x900-1.jpg
END:VEVENT
BEGIN:VEVENT
DTSTART;TZID=Europe/Rome:20240610T180000
DTEND;TZID=Europe/Rome:20240610T193000
DTSTAMP:20260422T034552
CREATED:20240527T111221Z
LAST-MODIFIED:20240527T111221Z
UID:5896-1718042400-1718047800@www.ilcastellodinovara.it
SUMMARY:Circolo dei lettori: Realtà è finzione (e viceversa) #5
DESCRIPTION:Ultimo dei cinque incontri\, a cura di e con Nicola Feninno\, per cinque testi costruiti\, in modi diversi\, sul crinale tra realtà e finzione. \nZvi Kolitz\, Yossl Rakover si rivolge a Dio (Adelphi) \nUn libro estremamente problematico\, e interessante. Il confine tra realtà e finzione\, oltre che franoso\, è anche molto pericoloso: in questo testo è più evidente che mai. Si tratta di un racconto\, che finge di essere un testamento ritrovato di uno dei 13mila ebrei uccisi nel ghetto di Varsavia\, in seguito alla loro ribellione. Per un equivoco storico (raccontato nella prefazione) il testo è stata a lungo considerato una testimonianza autentica. Anni dopo\, il filosofo ebreo Emmanuel Lévinas ebbe a dire che questo testo è «vero come solo la finzione può esserlo». Un cortocircuito su cui ci concentreremo. \n  \nAbbonamento 5 incontri € 20\,00 | Carta Io leggo di Più ingresso gratuito
URL:https://www.ilcastellodinovara.it/event/circolo-dei-lettori-realta-e-finzione-e-viceversa-5/
LOCATION:Sala Sibilla Aleramo – Circolo dei Lettori\, Castello di Novara - PIAZZA MARTIRI DELLA LIBERTA' 3\, NOVARA\, NO\, 28100\, Italia
CATEGORIES:Circolo dei Lettori,Sala Sibilla Aleramo
ATTACH;FMTTYPE=image/jpeg:https://www.ilcastellodinovara.it/wp-content/uploads/2024/05/generica-Realta-e-finzione-e-viceversa-16-9-per-sito.jpg
END:VEVENT
BEGIN:VEVENT
DTSTART;TZID=Europe/Rome:20240612T180000
DTEND;TZID=Europe/Rome:20240612T193000
DTSTAMP:20260422T034552
CREATED:20240531T074508Z
LAST-MODIFIED:20240531T074508Z
UID:5940-1718215200-1718220600@www.ilcastellodinovara.it
SUMMARY:Circolo dei lettori: Qualcuno sta uccidendo i più grandi cuochi d'Italia
DESCRIPTION:Viaggio nella cucina italiana che è anche una riflessione sulle ombre di un’industria apparentemente scintillante \npresentazione del libro Edt di e con Luca Iaccarino\ncon Marco Scardigli \nDopo sette anni\, è tornato l’assassino dei cuochi di Torino. Anche stavolta indagano il commissario Santamaria\, un precario giornalista gastronomico – omonimo dell’autore – e il più grande cuoco del mondo\, ma la soluzione invece che bizzarra\, come fu nel 2016\, sarà drammaticamente attuale. \n  \nIngresso libero fino a esaurimento posti.
URL:https://www.ilcastellodinovara.it/event/circolo-dei-lettori-qualcuno-sta-uccidendo-i-piu-grandi-cuochi-ditalia/
LOCATION:Sala Sibilla Aleramo – Circolo dei Lettori\, Castello di Novara - PIAZZA MARTIRI DELLA LIBERTA' 3\, NOVARA\, NO\, 28100\, Italia
CATEGORIES:Circolo dei Lettori,Sala Sibilla Aleramo
ATTACH;FMTTYPE=image/jpeg:https://www.ilcastellodinovara.it/wp-content/uploads/2024/05/Luca-Iaccarino-Qualcuno-sta-uccidendo-i-piu-grandi-cuochi-dItalia-16-9-3.jpg
END:VEVENT
BEGIN:VEVENT
DTSTART;TZID=Europe/Rome:20240613T180000
DTEND;TZID=Europe/Rome:20240613T193000
DTSTAMP:20260422T034552
CREATED:20240531T083416Z
LAST-MODIFIED:20240531T083416Z
UID:5943-1718301600-1718307000@www.ilcastellodinovara.it
SUMMARY:Circolo dei lettori: Il sentiero selvatico
DESCRIPTION:RITORNARE ALLA NATURA #4\nColtivare l’oggi per adattarsi al domani \npresentazione del libro Feltrinelli di e con Matteo Righetto\ncon Valter Porzio \nA Larcionèi una bambina sparisce nel nulla: il paese intero la cerca tra i boschi per tutta la notte\, invano. Riappare da sola il giorno dopo\, proprio quando finalmente cessa la pioggia. Sta bene\, ma non ricorda nulla e tra i paesani cominciano a correre strane e malevole voci. \n  \nIngresso libero fino a esaurimento posti.
URL:https://www.ilcastellodinovara.it/event/circolo-dei-lettori-il-sentiero-selvatico/
LOCATION:Sala delle Mura – piano terra\, Castello di Novara - PIAZZA MARTIRI DELLA LIBERTA' 3\, NOVARA\, NO\, 28100\, Italia
CATEGORIES:Circolo dei Lettori,Sala delle Mura - Piano Terra
ATTACH;FMTTYPE=image/jpeg:https://www.ilcastellodinovara.it/wp-content/uploads/2024/05/Matteo-Righetto-Il-sentiero-selvatico-16-9.jpg
END:VEVENT
BEGIN:VEVENT
DTSTART;TZID=Europe/Rome:20240614T180000
DTEND;TZID=Europe/Rome:20240614T193000
DTSTAMP:20260422T034552
CREATED:20240531T083749Z
LAST-MODIFIED:20240531T083749Z
UID:5946-1718388000-1718393400@www.ilcastellodinovara.it
SUMMARY:Circolo dei lettori: Giocare è una cosa seria
DESCRIPTION:Viaggio nei segreti del gioco libero \npresentazione del libro Interlinea di e con Marco Scardigli e Maurizio Stangalino \nUno psichiatra infantile e uno scrittore propongono un viaggio affascinante nei loro giochi e presentano un educato grido in difesa del gioco libero\, della fantasia e della creatività. Perché il gioco è una cosa seria: giocando ci si prepara alla vita. \n  \nIngresso libero fino a esaurimento posti.
URL:https://www.ilcastellodinovara.it/event/circolo-dei-lettori-giocare-e-una-cosa-seria/
LOCATION:Sala delle Mura – piano terra\, Castello di Novara - PIAZZA MARTIRI DELLA LIBERTA' 3\, NOVARA\, NO\, 28100\, Italia
CATEGORIES:Circolo dei Lettori,Sala delle Mura - Piano Terra
ATTACH;FMTTYPE=image/jpeg:https://www.ilcastellodinovara.it/wp-content/uploads/2024/05/Marco-Scardigli-Maurizio-Stangalino-Giocare-e-una-cosa-seria-16-9.jpg
END:VEVENT
BEGIN:VEVENT
DTSTART;TZID=Europe/Rome:20240617T180000
DTEND;TZID=Europe/Rome:20240617T193000
DTSTAMP:20260422T034552
CREATED:20240531T084128Z
LAST-MODIFIED:20240531T084128Z
UID:5949-1718647200-1718652600@www.ilcastellodinovara.it
SUMMARY:Circolo dei lettori: Cucina aperta
DESCRIPTION:Tra ricette e ricordi \npresentazione del libro 66thand2nd di e con Tommaso Melilli\ncon Eleonora Groppetti \nIl diario intimo e il quaderno di lavoro quotidiano\, tra Milano e Parigi\, di un giovane chef che alterna racconti di cose cucinate e avventure di persone che mangiano. La restituzione dell’atmosfera di un mondo saporito e vitale dove\, tra un piatto e l’altro\, ogni giorno si incrociano mille storie. \n  \nIngresso libero fino a esaurimento posti.
URL:https://www.ilcastellodinovara.it/event/circolo-dei-lettori-cucina-aperta/
LOCATION:Sala Sibilla Aleramo – Circolo dei Lettori\, Castello di Novara - PIAZZA MARTIRI DELLA LIBERTA' 3\, NOVARA\, NO\, 28100\, Italia
CATEGORIES:Circolo dei Lettori,Sala Sibilla Aleramo
ATTACH;FMTTYPE=image/jpeg:https://www.ilcastellodinovara.it/wp-content/uploads/2024/05/Tommaso-Melilli-Cucina-aperta-16-9.jpg
END:VEVENT
BEGIN:VEVENT
DTSTART;TZID=Europe/Rome:20240618T180000
DTEND;TZID=Europe/Rome:20240618T193000
DTSTAMP:20260422T034552
CREATED:20240605T131054Z
LAST-MODIFIED:20240605T131054Z
UID:5961-1718733600-1718739000@www.ilcastellodinovara.it
SUMMARY:Circolo dei Lettori: Gaza. Odio e amore per Israele
DESCRIPTION:Riflettere sul presente \npresentazione del libro Feltrinelli di e con Gad Lerner\ncon Barbara Cottavoz \nLe spaccature della società israeliana\, il rinchiudersi in se stesse delle Comunità ebraiche\, che si sentono incomprese e lanciano accuse di antisemitismo a chi solidarizza con i Palestinesi\, riportano il giornalista a domande che già si poneva Primo Levi: che futuro può avere questo Israele? Che funzione può esercitare il filone ebraico della tolleranza? \n  \nIngresso libero fino a esaurimento posti.
URL:https://www.ilcastellodinovara.it/event/circolo-dei-lettori-gaza-odio-e-amore-per-israele/
LOCATION:Sala delle Vetrate – 1 Piano\, PIAZZA MARTIRI DELLA LIBERTA' 3\, NOVARA\, PIEMONTE\, 28100\, Italia
CATEGORIES:Circolo dei Lettori,Sala delle Vetrate - Primo Piano
ATTACH;FMTTYPE=image/jpeg:https://www.ilcastellodinovara.it/wp-content/uploads/2024/06/Gad-Lerner-Gaza.-Odio-e-amore-per-Israele-16-9-per-sito-1600x900-1.jpg
END:VEVENT
BEGIN:VEVENT
DTSTART;TZID=Europe/Rome:20240619T180000
DTEND;TZID=Europe/Rome:20240619T193000
DTSTAMP:20260422T034552
CREATED:20240610T072635Z
LAST-MODIFIED:20240610T072635Z
UID:5968-1718820000-1718825400@www.ilcastellodinovara.it
SUMMARY:Circolo dei lettori: Anime creative
DESCRIPTION:Da Prometeo a Steve Jobs \npresentazione del libro il Mulino di e con Paolo Perulli \nChi sono i creativi oggi? Un viaggio nel tempo e nello spazio per capire come essi\, eredi di Prometeo e Faust\, dell’uomo creatore di Nietzsche e di Schumpeter\, delle avanguardie europee e della migrazione in America\, abbiano dato forma al mondo e per evitare che la massima diffusione si trasformi in banalità\, in serialità\, nel vuoto creativo. \n  \nIngresso libero fino a esaurimento posti.
URL:https://www.ilcastellodinovara.it/event/circolo-dei-lettori-anime-creative/
LOCATION:Sala Sibilla Aleramo – Circolo dei Lettori\, Castello di Novara - PIAZZA MARTIRI DELLA LIBERTA' 3\, NOVARA\, NO\, 28100\, Italia
CATEGORIES:Circolo dei Lettori,Sala Sibilla Aleramo
ATTACH;FMTTYPE=image/jpeg:https://www.ilcastellodinovara.it/wp-content/uploads/2024/06/Paolo-Perulli-Anime-creative-16-9.jpg
END:VEVENT
BEGIN:VEVENT
DTSTART;TZID=Europe/Rome:20240620T180000
DTEND;TZID=Europe/Rome:20240620T193000
DTSTAMP:20260422T034552
CREATED:20240610T073852Z
LAST-MODIFIED:20240610T073852Z
UID:5971-1718906400-1718911800@www.ilcastellodinovara.it
SUMMARY:Circolo dei lettori: Sotto traccia
DESCRIPTION:Una storia indie contemporanea \npresentazione del libro effequ di e con Hamilton Santhià \nDal tramonto dei sogni della Generazione X all’avvento di Spotify che cambia per sempre l’approccio all’ascolto\, questa è una storia che si concentra sul ventennio breve 1994-2012\, e lo fa attraverso la musica: il racconto di una sconfitta o le basi di una futura rinascita? \n  \nIngresso libero fino a esaurimento posti.
URL:https://www.ilcastellodinovara.it/event/circolo-dei-lettori-sotto-traccia/
LOCATION:Sala Sibilla Aleramo – Circolo dei Lettori\, Castello di Novara - PIAZZA MARTIRI DELLA LIBERTA' 3\, NOVARA\, NO\, 28100\, Italia
CATEGORIES:Circolo dei Lettori,Sala Sibilla Aleramo
ATTACH;FMTTYPE=image/jpeg:https://www.ilcastellodinovara.it/wp-content/uploads/2024/06/Hamilton-Santhia-Sotto-traccia-16-9.jpg
END:VEVENT
BEGIN:VEVENT
DTSTART;TZID=Europe/Rome:20240621T100000
DTEND;TZID=Europe/Rome:20240622T140000
DTSTAMP:20260422T034552
CREATED:20240605T114036Z
LAST-MODIFIED:20240617T073753Z
UID:5954-1718964000-1719064800@www.ilcastellodinovara.it
SUMMARY:I TALK DEL POST
DESCRIPTION:Il Castello di Novara si sposta allo Spazio Nòva! \nSiamo entusiasti di annunciare che il 22 e il 23 giugno Il Post sarà a Novara per la prima edizione di Talk organizzata in città! Due giornate imperdibili di incontri dal vivo per ritrovarsi con lettrici e lettori e fare giornalismo dal vivo. Ci sarà la redazione del Post\, amici e ospiti speciali pronti a raccontare\, spiegare e riflettere sulle notizie\, sulle storie\, sui libri che leggiamo e su tutto ciò che merita di essere narrato e approfondito. \nTalk a Novara è organizzato dal Post con il patrocinio e il sostegno di Città di Novara\, Fondazione Castello di Novara e Fondazione Circolo dei lettori. L’evento si terrà negli spazi di Nòva (nell’ex Caserma Passalacqua)\, un centro di aggregazione giovanile e produzione culturale. \n  \n\nIL PROGRAMMA: \nsabato 22 giugno/mattina\nh 10.00\nI giornali\, spiegati bene – La rassegna stampa del Post\ncon Luca Sofri e Francesco Costa \nh 11.30\nOgni prigione è un’isola – Le carceri italiane e come vengono raccontate\ncon Daria Bignardi e Luca Misculin \nh 12.15\nGlobo – Una conversazione sull’Europa\ncon Eugenio Cau e Javier Cercas \n\n\nsabato 22 giugno/pomeriggio e sera\nh 17.00\nTienimi una scienza – La chimica saponificata bene\ncon Emanuele Menietti\, Beatrice Mautino\, Matteo Bordone e Dario Bressanini \nh 18.00\nScegliere le parole – La realtà cambia con la lingua\, e viceversa\nVera Gheno con Alessandra Pellegrini De Luca \nh 18.45\nItaloamericani – Una conversazione sull’America\, tra libri e palchi\ncon Francesco Costa e Ghemon \nh 19.45\nLe Canzoni\, live\ncon Luca Sofri e Matteo Bordone \nh 21.30\n30 anni – Matteo Messina Denaro e la Sicilia Occidentale\ncon Stefano Nazzi e Matteo Caccia \ndomenica 23 giugno/mattina\nh 10.00\nMorning weekend – Una rassegna stampa di notizie dal mondo\ncon Eugenio Cau e Luca Misculin \nh 11.00\nL’anno della Storia\, cinquant’anni fa\ncon Ludovica Lugli\, Giulia Siviero e Stefano Nazzi \nh 11.45\nChe cos’è la leggerezza? Come togliere peso alle cose pesanti\nLuciana Littizzetto con Giacomo Papi \nh 12.30\nCanti di guerra – Conflitti\, vendette\, amori nella Milano degli anni Settanta\ncon Stefano Nazzi e Willie Peyote
URL:https://www.ilcastellodinovara.it/event/i-talk-del-post/
CATEGORIES:Evento
ATTACH;FMTTYPE=image/png:https://www.ilcastellodinovara.it/wp-content/uploads/2024/06/TALK24_NOVARA.png
END:VEVENT
END:VCALENDAR